BEGIN:VCALENDAR
VERSION:2.0
PRODID:-//WEBSITE RESMI KAPANEWON NGEMPLAK - ECPv6.15.8//NONSGML v1.0//EN
CALSCALE:GREGORIAN
METHOD:PUBLISH
X-ORIGINAL-URL:https://ngemplak.slemankab.go.id
X-WR-CALDESC:Events for WEBSITE RESMI KAPANEWON NGEMPLAK
REFRESH-INTERVAL;VALUE=DURATION:PT1H
X-Robots-Tag:noindex
X-PUBLISHED-TTL:PT1H
BEGIN:VTIMEZONE
TZID:Asia/Krasnoyarsk
BEGIN:STANDARD
TZOFFSETFROM:+0700
TZOFFSETTO:+0700
TZNAME:+07
DTSTART:20240101T000000
END:STANDARD
END:VTIMEZONE
BEGIN:VEVENT
DTSTART;TZID=Asia/Krasnoyarsk:20250502T073000
DTEND;TZID=Asia/Krasnoyarsk:20250502T083000
DTSTAMP:20260424T231309
CREATED:20250514T075120Z
LAST-MODIFIED:20250514T075120Z
UID:24191-1746171000-1746174600@ngemplak.slemankab.go.id
SUMMARY:Senam Bersama
DESCRIPTION:
URL:https://ngemplak.slemankab.go.id/event/senam-bersama-6/
LOCATION:Halaman Kap Ngemplak
CATEGORIES:agenda_kegiatan
END:VEVENT
BEGIN:VEVENT
DTSTART;TZID=Asia/Krasnoyarsk:20250502T123000
DTEND;TZID=Asia/Krasnoyarsk:20250502T143000
DTSTAMP:20260424T231309
CREATED:20250514T075706Z
LAST-MODIFIED:20250514T075706Z
UID:24193-1746189000-1746196200@ngemplak.slemankab.go.id
SUMMARY:Serah Terima Jabatan Kepala SMPN 2 Ngemplak
DESCRIPTION:
URL:https://ngemplak.slemankab.go.id/event/serah-terima-jabatan-kepala-smpn-2-ngemplak/
LOCATION:Aula SMPN 2 Ngemplak
CATEGORIES:agenda_kegiatan
END:VEVENT
BEGIN:VEVENT
DTSTART;TZID=Asia/Krasnoyarsk:20250502T130000
DTEND;TZID=Asia/Krasnoyarsk:20250502T150000
DTSTAMP:20260424T231309
CREATED:20250514T080220Z
LAST-MODIFIED:20250514T080220Z
UID:24195-1746190800-1746198000@ngemplak.slemankab.go.id
SUMMARY:Musyawarah Ranting Gerakan Pramuka Kwartir Ranting Ngemplak
DESCRIPTION:
URL:https://ngemplak.slemankab.go.id/event/musyawarah-ranting-gerakan-pramuka-kwartir-ranting-ngemplak/
LOCATION:SMP N 1 Ngemplak
CATEGORIES:agenda_kegiatan
END:VEVENT
BEGIN:VEVENT
DTSTART;TZID=Asia/Krasnoyarsk:20250505T083000
DTEND;TZID=Asia/Krasnoyarsk:20250505T110000
DTSTAMP:20260424T231309
CREATED:20250625T040404Z
LAST-MODIFIED:20250625T040404Z
UID:24249-1746433800-1746442800@ngemplak.slemankab.go.id
SUMMARY:Musrenbang RPJMD Kabupaten Sleman Tahun 2025-2029
DESCRIPTION:
URL:https://ngemplak.slemankab.go.id/event/musrenbang-rpjmd-kabupaten-sleman-tahun-2025-2029/
LOCATION:Amartapura Hall A\, The Alana Hotel
CATEGORIES:agenda_kegiatan
END:VEVENT
BEGIN:VEVENT
DTSTART;TZID=Asia/Krasnoyarsk:20250505T090000
DTEND;TZID=Asia/Krasnoyarsk:20250505T110000
DTSTAMP:20260424T231309
CREATED:20250625T040548Z
LAST-MODIFIED:20250625T040548Z
UID:24251-1746435600-1746442800@ngemplak.slemankab.go.id
SUMMARY:Rakor Percepatan Pembentukan Koperasi Desa Merah Putih
DESCRIPTION:
URL:https://ngemplak.slemankab.go.id/event/rakor-percepatan-pembentukan-koperasi-desa-merah-putih/
LOCATION:Aula Pangripta Bappeda Sleman
CATEGORIES:agenda_kegiatan
END:VEVENT
BEGIN:VEVENT
DTSTART;TZID=Asia/Krasnoyarsk:20250505T090000
DTEND;TZID=Asia/Krasnoyarsk:20250505T110000
DTSTAMP:20260424T231309
CREATED:20250625T040646Z
LAST-MODIFIED:20250625T040646Z
UID:24253-1746435600-1746442800@ngemplak.slemankab.go.id
SUMMARY:Sosialisasi Pelaksanaan SPI Tahun 2025
DESCRIPTION:
URL:https://ngemplak.slemankab.go.id/event/sosialisasi-pelaksanaan-spi-tahun-2025/
LOCATION:Aula Lt.3 Setda Sleman
CATEGORIES:agenda_kegiatan
END:VEVENT
BEGIN:VEVENT
DTSTART;TZID=Asia/Krasnoyarsk:20250505T130000
DTEND;TZID=Asia/Krasnoyarsk:20250505T150000
DTSTAMP:20260424T231309
CREATED:20250625T040803Z
LAST-MODIFIED:20250625T040803Z
UID:24255-1746450000-1746457200@ngemplak.slemankab.go.id
SUMMARY:Rakor Persiapan Pelaksanaan Pengisian Pamong Kalurahan Wedomartani Jabatan Dukuh Pucanganom
DESCRIPTION:
URL:https://ngemplak.slemankab.go.id/event/rakor-persiapan-pelaksanaan-pengisian-pamong-kalurahan-wedomartani-jabatan-dukuh-pucanganom/
LOCATION:RR Kantor Kal Wedomartani
CATEGORIES:agenda_kegiatan
END:VEVENT
BEGIN:VEVENT
DTSTART;TZID=Asia/Krasnoyarsk:20250506T090000
DTEND;TZID=Asia/Krasnoyarsk:20250506T110000
DTSTAMP:20260424T231309
CREATED:20250625T041143Z
LAST-MODIFIED:20250625T041143Z
UID:24257-1746522000-1746529200@ngemplak.slemankab.go.id
SUMMARY:Panen Jagung Program Penanaman Jagung Serentak Satu Juta Hektar
DESCRIPTION:
URL:https://ngemplak.slemankab.go.id/event/panen-jagung-program-penanaman-jagung-serentak-satu-juta-hektar/
LOCATION:Lahan Pertanian Dusun Tanjung\, Umbulmartani
CATEGORIES:agenda_kegiatan
END:VEVENT
BEGIN:VEVENT
DTSTART;TZID=Asia/Krasnoyarsk:20250506T090000
DTEND;TZID=Asia/Krasnoyarsk:20250506T110000
DTSTAMP:20260424T231309
CREATED:20250625T041248Z
LAST-MODIFIED:20250625T041248Z
UID:24260-1746522000-1746529200@ngemplak.slemankab.go.id
SUMMARY:Bussines Mathing Gebyar Peningkatan Penggunaan Produk Dalam Negeri (P3DN) dengan tema " Gebyar Potensi Unggulan Daerah\, Borong Bareng Ropduk Sleman"
DESCRIPTION:
URL:https://ngemplak.slemankab.go.id/event/bussines-mathing-gebyar-peningkatan-penggunaan-produk-dalam-negeri-p3dn-dengan-tema-gebyar-potensi-unggulan-daerah-borong-bareng-ropduk-sleman/
LOCATION:Rocket Convention Hall\, Ngrenak Lor\, Sidomoyo\, Godean
CATEGORIES:agenda_kegiatan
END:VEVENT
BEGIN:VEVENT
DTSTART;TZID=Asia/Krasnoyarsk:20250506T100000
DTEND;TZID=Asia/Krasnoyarsk:20250506T120000
DTSTAMP:20260424T231309
CREATED:20250625T041423Z
LAST-MODIFIED:20250625T041423Z
UID:24263-1746525600-1746532800@ngemplak.slemankab.go.id
SUMMARY:Pemantauan/Survei Lokasi Penambangan Bahan Galian Gol. C
DESCRIPTION:
URL:https://ngemplak.slemankab.go.id/event/pemantauan-survei-lokasi-penambangan-bahan-galian-gol-c/
LOCATION:Sungai Opak\, Padukuhan Rogobangsan Kalurahan Bimomartani
CATEGORIES:agenda_kegiatan
END:VEVENT
BEGIN:VEVENT
DTSTART;TZID=Asia/Krasnoyarsk:20250507T080000
DTEND;TZID=Asia/Krasnoyarsk:20250507T110000
DTSTAMP:20260424T231309
CREATED:20250625T041533Z
LAST-MODIFIED:20250625T041533Z
UID:24266-1746604800-1746615600@ngemplak.slemankab.go.id
SUMMARY:Rapat Penyepakatan Indikator dan Target Kinerja dalam RPJMD (tujuan\, sasaran\, Program\, IKU\, dan IKD) dan Penyepakatan Indikator Kinerja pada Perubahan RKPD 2025
DESCRIPTION:
URL:https://ngemplak.slemankab.go.id/event/rapat-penyepakatan-indikator-dan-target-kinerja-dalam-rpjmd-tujuan-sasaran-program-iku-dan-ikd-dan-penyepakatan-indikator-kinerja-pada-perubahan-rkpd-2025/
LOCATION:R Kinanthi Bappeda Sleman
CATEGORIES:agenda_kegiatan
END:VEVENT
BEGIN:VEVENT
DTSTART;TZID=Asia/Krasnoyarsk:20250507T083000
DTEND;TZID=Asia/Krasnoyarsk:20250507T110000
DTSTAMP:20260424T231309
CREATED:20250625T041627Z
LAST-MODIFIED:20250625T041627Z
UID:24269-1746606600-1746615600@ngemplak.slemankab.go.id
SUMMARY:Pembinaan Perpustakaan Kalurahan dengan Narsum Dari Dinas Perpustakaan dan Kearsipan Kab Sleman
DESCRIPTION:
URL:https://ngemplak.slemankab.go.id/event/pembinaan-perpustakaan-kalurahan-dengan-narsum-dari-dinas-perpustakaan-dan-kearsipan-kab-sleman/
LOCATION:Kalurahan Bimomartani
CATEGORIES:agenda_kegiatan
END:VEVENT
BEGIN:VEVENT
DTSTART;TZID=Asia/Krasnoyarsk:20250507T100000
DTEND;TZID=Asia/Krasnoyarsk:20250507T120000
DTSTAMP:20260424T231309
CREATED:20250625T041722Z
LAST-MODIFIED:20250625T041722Z
UID:24271-1746612000-1746619200@ngemplak.slemankab.go.id
SUMMARY:Monev Permohonan Pemanfaatan Tanah untuk Gereja Kerasulan Baru Indonesia\, Kayen
DESCRIPTION:
URL:https://ngemplak.slemankab.go.id/event/monev-permohonan-pemanfaatan-tanah-untuk-gereja-kerasulan-baru-indonesia-kayen/
LOCATION:Kalurahan Wedomartani
CATEGORIES:agenda_kegiatan
END:VEVENT
BEGIN:VEVENT
DTSTART;TZID=Asia/Krasnoyarsk:20250507T123000
DTEND;TZID=Asia/Krasnoyarsk:20250507T140000
DTSTAMP:20260424T231309
CREATED:20250625T041847Z
LAST-MODIFIED:20250625T041847Z
UID:24273-1746621000-1746626400@ngemplak.slemankab.go.id
SUMMARY:Pengajian Bulan Zakat Panutan 2025 dan Penyerahan Zakat dari Bupati Sleman Kepada Baznas Kab Sleman
DESCRIPTION:
URL:https://ngemplak.slemankab.go.id/event/pengajian-bulan-zakat-panutan-2025-dan-penyerahan-zakat-dari-bupati-sleman-kepada-baznas-kab-sleman/
LOCATION:Pendopo Parasamya Kab Sleman
CATEGORIES:agenda_kegiatan
END:VEVENT
BEGIN:VEVENT
DTSTART;TZID=Asia/Krasnoyarsk:20250507T193000
DTEND;TZID=Asia/Krasnoyarsk:20250507T220000
DTSTAMP:20260424T231309
CREATED:20250625T041946Z
LAST-MODIFIED:20250625T041946Z
UID:24275-1746646200-1746655200@ngemplak.slemankab.go.id
SUMMARY:Sosialisasi Site Plan Lahan Bimomartani Kepada Pemerintah Kalurahan Bimomartani dan BPKal Kalurahan Bimomartani atas Pemanfaatan Penggunaan dan Pembangunan Home Base Klub PSS di Atas Tanah Kalurahan Bimomartani
DESCRIPTION:
URL:https://ngemplak.slemankab.go.id/event/sosialisasi-site-plan-lahan-bimomartani-kepada-pemerintah-kalurahan-bimomartani-dan-bpkal-kalurahan-bimomartani-atas-pemanfaatan-penggunaan-dan-pembangunan-home-base-klub-pss-di-atas-tanah-kalurahan-b/
LOCATION:Pendopo Kal Bimomartani
CATEGORIES:agenda_kegiatan
END:VEVENT
BEGIN:VEVENT
DTSTART;TZID=Asia/Krasnoyarsk:20250508T080000
DTEND;TZID=Asia/Krasnoyarsk:20250508T110000
DTSTAMP:20260424T231309
CREATED:20250625T042158Z
LAST-MODIFIED:20250625T042158Z
UID:24279-1746691200-1746702000@ngemplak.slemankab.go.id
SUMMARY:Lomba Permainan Tradisional
DESCRIPTION:
URL:https://ngemplak.slemankab.go.id/event/lomba-permainan-tradisional/
LOCATION:Lapangan Pemda Sleman
CATEGORIES:agenda_kegiatan
END:VEVENT
BEGIN:VEVENT
DTSTART;TZID=Asia/Krasnoyarsk:20250508T080000
DTEND;TZID=Asia/Krasnoyarsk:20250508T113000
DTSTAMP:20260424T231309
CREATED:20250625T042048Z
LAST-MODIFIED:20250625T042048Z
UID:24277-1746691200-1746703800@ngemplak.slemankab.go.id
SUMMARY:Bimtek Penyusunan Penyesuaian RPJMKal Perpanjangan Masa Jabatan Lurah
DESCRIPTION:
URL:https://ngemplak.slemankab.go.id/event/bimtek-penyusunan-penyesuaian-rpjmkal-perpanjangan-masa-jabatan-lurah/
LOCATION:Op Room Dinas PMK
CATEGORIES:agenda_kegiatan
END:VEVENT
BEGIN:VEVENT
DTSTART;TZID=Asia/Krasnoyarsk:20250508T083000
DTEND;TZID=Asia/Krasnoyarsk:20250508T113000
DTSTAMP:20260424T231309
CREATED:20250625T042257Z
LAST-MODIFIED:20250625T042257Z
UID:24281-1746693000-1746703800@ngemplak.slemankab.go.id
SUMMARY:Internalisasi Budaya SATRIYA
DESCRIPTION:
URL:https://ngemplak.slemankab.go.id/event/internalisasi-budaya-satriya-2/
LOCATION:Pendopo Kapanewon Ngemplak
CATEGORIES:agenda_kegiatan
END:VEVENT
BEGIN:VEVENT
DTSTART;TZID=Asia/Krasnoyarsk:20250508T090000
DTEND;TZID=Asia/Krasnoyarsk:20250508T110000
DTSTAMP:20260424T231309
CREATED:20250625T042351Z
LAST-MODIFIED:20250625T042351Z
UID:24283-1746694800-1746702000@ngemplak.slemankab.go.id
SUMMARY:Penilaian Sekolah Adiwiyata Tingkat Provinsi
DESCRIPTION:
URL:https://ngemplak.slemankab.go.id/event/penilaian-sekolah-adiwiyata-tingkat-provinsi/
LOCATION:R Kelas 3 SDN Pokoh 1
CATEGORIES:agenda_kegiatan
END:VEVENT
BEGIN:VEVENT
DTSTART;TZID=Asia/Krasnoyarsk:20250508T090000
DTEND;TZID=Asia/Krasnoyarsk:20250508T110000
DTSTAMP:20260424T231309
CREATED:20250625T042500Z
LAST-MODIFIED:20250625T042500Z
UID:24286-1746694800-1746702000@ngemplak.slemankab.go.id
SUMMARY:Monev Pemanfaatan Sultan Ground Untuk MI Taskia
DESCRIPTION:
URL:https://ngemplak.slemankab.go.id/event/monev-pemanfaatan-sultan-ground-untuk-mi-taskia/
LOCATION:Cokrogaten\, Bimomartani
CATEGORIES:agenda_kegiatan
END:VEVENT
BEGIN:VEVENT
DTSTART;TZID=Asia/Krasnoyarsk:20250508T093000
DTEND;TZID=Asia/Krasnoyarsk:20250508T120000
DTSTAMP:20260424T231309
CREATED:20250625T042608Z
LAST-MODIFIED:20250625T042608Z
UID:24289-1746696600-1746705600@ngemplak.slemankab.go.id
SUMMARY:Tindak Lanjut Pemantauan Lokasi Penambangan Bahan Galian C di Sungai Opak/tanah Kas Kalurahan/Tanah Sultan Ground (Wilayah Perbatasan Kal Bimomartani dan Kal Sindumartani)
DESCRIPTION:
URL:https://ngemplak.slemankab.go.id/event/tindak-lanjut-pemantauan-lokasi-penambangan-bahan-galian-c-di-sungai-opak-tanah-kas-kalurahan-tanah-sultan-ground-wilayah-perbatasan-kal-bimomartani-dan-kal-sindumartani/
LOCATION:Kalurahan Sindumartani
CATEGORIES:agenda_kegiatan
END:VEVENT
BEGIN:VEVENT
DTSTART;TZID=Asia/Krasnoyarsk:20250508T130000
DTEND;TZID=Asia/Krasnoyarsk:20250508T150000
DTSTAMP:20260424T231309
CREATED:20250625T042724Z
LAST-MODIFIED:20250625T042724Z
UID:24291-1746709200-1746716400@ngemplak.slemankab.go.id
SUMMARY:Rapat FKDM
DESCRIPTION:
URL:https://ngemplak.slemankab.go.id/event/rapat-fkdm/
LOCATION:Pendopo Kapanewon Ngemplak
CATEGORIES:agenda_kegiatan
END:VEVENT
BEGIN:VEVENT
DTSTART;TZID=Asia/Krasnoyarsk:20250508T130000
DTEND;TZID=Asia/Krasnoyarsk:20250508T150000
DTSTAMP:20260424T231309
CREATED:20250625T042840Z
LAST-MODIFIED:20250625T042840Z
UID:24294-1746709200-1746716400@ngemplak.slemankab.go.id
SUMMARY:Pembinaan BUMKal
DESCRIPTION:
URL:https://ngemplak.slemankab.go.id/event/pembinaan-bumkal-2/
LOCATION:Rumah Dinas Panewu
CATEGORIES:agenda_kegiatan
END:VEVENT
BEGIN:VEVENT
DTSTART;TZID=Asia/Krasnoyarsk:20250509T083000
DTEND;TZID=Asia/Krasnoyarsk:20250509T110000
DTSTAMP:20260424T231309
CREATED:20250625T043815Z
LAST-MODIFIED:20250625T043815Z
UID:24296-1746779400-1746788400@ngemplak.slemankab.go.id
SUMMARY:Penatausahaan SIPD-RI Tentang Belanja Gaji PPPK dan TPP
DESCRIPTION:
URL:https://ngemplak.slemankab.go.id/event/penatausahaan-sipd-ri-tentang-belanja-gaji-pppk-dan-tpp/
LOCATION:RR A BKAD Sleman
CATEGORIES:agenda_kegiatan
END:VEVENT
BEGIN:VEVENT
DTSTART;TZID=Asia/Krasnoyarsk:20250509T113000
DTEND;TZID=Asia/Krasnoyarsk:20250509T130000
DTSTAMP:20260424T231309
CREATED:20250625T043915Z
LAST-MODIFIED:20250625T043915Z
UID:24299-1746790200-1746795600@ngemplak.slemankab.go.id
SUMMARY:Sholat Jum'at Dan Doa Syukur Dalam Rangka HariJadi Ke-109 Kab Sleman
DESCRIPTION:
URL:https://ngemplak.slemankab.go.id/event/sholat-jumat-dan-doa-syukur-dalam-rangka-harijadi-ke-109-kab-sleman/
LOCATION:Masjid Agung Sleman
CATEGORIES:agenda_kegiatan
END:VEVENT
BEGIN:VEVENT
DTSTART;TZID=Asia/Krasnoyarsk:20250514T080000
DTEND;TZID=Asia/Krasnoyarsk:20250514T110000
DTSTAMP:20260424T231309
CREATED:20250625T065754Z
LAST-MODIFIED:20250625T065754Z
UID:24301-1747209600-1747220400@ngemplak.slemankab.go.id
SUMMARY:Gelar Karya dan Pementasan Pagelaran Wayang Kulit di SD N Randusari Bekerja Sama Dengan Dinas Kebudayaan Kab Sleman
DESCRIPTION:
URL:https://ngemplak.slemankab.go.id/event/gelar-karya-dan-pementasan-pagelaran-wayang-kulit-di-sd-n-randusari-bekerja-sama-dengan-dinas-kebudayaan-kab-sleman/
LOCATION:SD N Randusari
CATEGORIES:agenda_kegiatan
END:VEVENT
BEGIN:VEVENT
DTSTART;TZID=Asia/Krasnoyarsk:20250514T090000
DTEND;TZID=Asia/Krasnoyarsk:20250514T110000
DTSTAMP:20260424T231309
CREATED:20250625T065926Z
LAST-MODIFIED:20250625T065926Z
UID:24304-1747213200-1747220400@ngemplak.slemankab.go.id
SUMMARY:Rakor Reformasi Birokrasai
DESCRIPTION:
URL:https://ngemplak.slemankab.go.id/event/rakor-reformasi-birokrasai/
LOCATION:Pendopo Kapanewon Ngemplak
CATEGORIES:agenda_kegiatan
END:VEVENT
BEGIN:VEVENT
DTSTART;TZID=Asia/Krasnoyarsk:20250514T130000
DTEND;TZID=Asia/Krasnoyarsk:20250514T150000
DTSTAMP:20260424T231309
CREATED:20250625T070032Z
LAST-MODIFIED:20250625T070032Z
UID:24306-1747227600-1747234800@ngemplak.slemankab.go.id
SUMMARY:Rapat Limbah Sampah Mandiri
DESCRIPTION:
URL:https://ngemplak.slemankab.go.id/event/rapat-limbah-sampah-mandiri/
LOCATION:Pendopo Kapanewon Ngemplak
CATEGORIES:agenda_kegiatan
END:VEVENT
BEGIN:VEVENT
DTSTART;TZID=Asia/Krasnoyarsk:20250514T183000
DTEND;TZID=Asia/Krasnoyarsk:20250514T220000
DTSTAMP:20260424T231309
CREATED:20250625T070127Z
LAST-MODIFIED:20250625T070127Z
UID:24308-1747247400-1747260000@ngemplak.slemankab.go.id
SUMMARY:Malam Tirakatan Peringatan Hari Jadi Ke 109 Kabupaten Sleman
DESCRIPTION:
URL:https://ngemplak.slemankab.go.id/event/malam-tirakatan-peringatan-hari-jadi-ke-109-kabupaten-sleman/
LOCATION:Pendopo Parasamya
CATEGORIES:agenda_kegiatan
END:VEVENT
BEGIN:VEVENT
DTSTART;TZID=Asia/Krasnoyarsk:20250514T190000
DTEND;TZID=Asia/Krasnoyarsk:20250514T220000
DTSTAMP:20260424T231309
CREATED:20250625T070248Z
LAST-MODIFIED:20250625T070248Z
UID:24310-1747249200-1747260000@ngemplak.slemankab.go.id
SUMMARY:Tirakatan Malam Hari Jadi Ke 109 Kab Sleman
DESCRIPTION:
URL:https://ngemplak.slemankab.go.id/event/tirakatan-malam-hari-jadi-ke-109-kab-sleman/
LOCATION:Pendopo Kapanewon Ngemplak
CATEGORIES:agenda_kegiatan
END:VEVENT
END:VCALENDAR