BEGIN:VCALENDAR
VERSION:2.0
PRODID:-//WEBSITE RESMI KAPANEWON NGEMPLAK - ECPv6.15.8//NONSGML v1.0//EN
CALSCALE:GREGORIAN
METHOD:PUBLISH
X-ORIGINAL-URL:https://ngemplak.slemankab.go.id
X-WR-CALDESC:Events for WEBSITE RESMI KAPANEWON NGEMPLAK
REFRESH-INTERVAL;VALUE=DURATION:PT1H
X-Robots-Tag:noindex
X-PUBLISHED-TTL:PT1H
BEGIN:VTIMEZONE
TZID:Asia/Krasnoyarsk
BEGIN:STANDARD
TZOFFSETFROM:+0700
TZOFFSETTO:+0700
TZNAME:+07
DTSTART:20240101T000000
END:STANDARD
END:VTIMEZONE
BEGIN:VEVENT
DTSTART;TZID=Asia/Krasnoyarsk:20250301T203000
DTEND;TZID=Asia/Krasnoyarsk:20250301T220000
DTSTAMP:20260425T230551
CREATED:20250304T021349Z
LAST-MODIFIED:20250304T021349Z
UID:23762-1740861000-1740866400@ngemplak.slemankab.go.id
SUMMARY:Sosialisasi Pembangunan Pondok Pesantren Santi Aji
DESCRIPTION:
URL:https://ngemplak.slemankab.go.id/event/sosialisasi-pembangunan-pondok-pesantren-santi-aji/
LOCATION:Rumah Bapak Kepala Dukuh Sempu Wedomartani
CATEGORIES:agenda_kegiatan
END:VEVENT
BEGIN:VEVENT
DTSTART;TZID=Asia/Krasnoyarsk:20250303T073000
DTEND;TZID=Asia/Krasnoyarsk:20250303T080000
DTSTAMP:20260425T230551
CREATED:20250304T021448Z
LAST-MODIFIED:20250304T021448Z
UID:23765-1740987000-1740988800@ngemplak.slemankab.go.id
SUMMARY:Upacara Peringatan Hari Penegakan Kedaulatan Negara\, HUT Satpol PP\, HUT Pemadam Kebakaran dan HUT Sat Linmas
DESCRIPTION:
URL:https://ngemplak.slemankab.go.id/event/upacara-peringatan-hari-penegakan-kedaulatan-negara-hut-satpol-pp-hut-pemadam-kebakaran-dan-hut-sat-linmas/
LOCATION:Halaman Pendopo Kapanewon Ngemplak
CATEGORIES:agenda_kegiatan
END:VEVENT
BEGIN:VEVENT
DTSTART;TZID=Asia/Krasnoyarsk:20250304T083000
DTEND;TZID=Asia/Krasnoyarsk:20250304T110000
DTSTAMP:20260425T230551
CREATED:20250304T021535Z
LAST-MODIFIED:20250304T021535Z
UID:23768-1741077000-1741086000@ngemplak.slemankab.go.id
SUMMARY:Forum Konsultasi Publik RPJMD Kabupaten Sleman Tahun 2025-2029
DESCRIPTION:
URL:https://ngemplak.slemankab.go.id/event/forum-konsultasi-publik-rpjmd-kabupaten-sleman-tahun-2025-2029/
LOCATION:Amartapura Ballroom The Alana Hotel
CATEGORIES:agenda_kegiatan
END:VEVENT
BEGIN:VEVENT
DTSTART;TZID=Asia/Krasnoyarsk:20250304T083000
DTEND;TZID=Asia/Krasnoyarsk:20250304T110000
DTSTAMP:20260425T230551
CREATED:20250304T021621Z
LAST-MODIFIED:20250304T021621Z
UID:23771-1741077000-1741086000@ngemplak.slemankab.go.id
SUMMARY:Pemantauan Jajan Pasar
DESCRIPTION:
URL:https://ngemplak.slemankab.go.id/event/pemantauan-jajan-pasar-5/
LOCATION:Wilayah Kapanewon Ngemplak
CATEGORIES:agenda_kegiatan
END:VEVENT
BEGIN:VEVENT
DTSTART;TZID=Asia/Krasnoyarsk:20250304T123000
DTEND;TZID=Asia/Krasnoyarsk:20250304T150000
DTSTAMP:20260425T230551
CREATED:20250304T015136Z
LAST-MODIFIED:20250304T015136Z
UID:23727-1741091400-1741100400@ngemplak.slemankab.go.id
SUMMARY:Workshop Pengelolaan SIMPEG
DESCRIPTION:
URL:https://ngemplak.slemankab.go.id/event/workshop-pengelolaan-simpeg/
LOCATION:Lab Komputer Kominfo Sleman
CATEGORIES:agenda_kegiatan
END:VEVENT
BEGIN:VEVENT
DTSTART;TZID=Asia/Krasnoyarsk:20250305T083000
DTEND;TZID=Asia/Krasnoyarsk:20250305T103000
DTSTAMP:20260425T230551
CREATED:20250305T033728Z
LAST-MODIFIED:20250305T033728Z
UID:23773-1741163400-1741170600@ngemplak.slemankab.go.id
SUMMARY:Bimbingan Teknis Perizinan Berusaha Berbasis Risiko Bagi Pelaku Usaha Mikro Kecil Perseorangan dilanjutkan dengan Pendampingan Pembuatan NIB
DESCRIPTION:
URL:https://ngemplak.slemankab.go.id/event/bimbingan-teknis-perizinan-berusaha-berbasis-risiko-bagi-pelaku-usaha-mikro-kecil-perseorangan-dilanjutkan-dengan-pendampingan-pembuatan-nib/
LOCATION:Kalurahan Umbulmartani
CATEGORIES:agenda_kegiatan
END:VEVENT
BEGIN:VEVENT
DTSTART;TZID=Asia/Krasnoyarsk:20250306T083000
DTEND;TZID=Asia/Krasnoyarsk:20250306T110000
DTSTAMP:20260425T230551
CREATED:20250310T022845Z
LAST-MODIFIED:20250310T022845Z
UID:23788-1741249800-1741258800@ngemplak.slemankab.go.id
SUMMARY:Sosialisasi Program Kerja Dan Pembinaan KORPRI UNIT Kabupaten Sleman Tahun 2025
DESCRIPTION:
URL:https://ngemplak.slemankab.go.id/event/sosialisasi-program-kerja-dan-pembinaan-korpri-unit-kabupaten-sleman-tahun-2025/
LOCATION:R Bima Lt.3 BKPP Sleman
CATEGORIES:agenda_kegiatan
END:VEVENT
BEGIN:VEVENT
DTSTART;TZID=Asia/Krasnoyarsk:20250306T093000
DTEND;TZID=Asia/Krasnoyarsk:20250306T110000
DTSTAMP:20260425T230551
CREATED:20250310T023022Z
LAST-MODIFIED:20250310T023022Z
UID:23790-1741253400-1741258800@ngemplak.slemankab.go.id
SUMMARY:Monitoring Asessment Reformasi Birokrasi Kalurahan
DESCRIPTION:
URL:https://ngemplak.slemankab.go.id/event/monitoring-asessment-reformasi-birokrasi-kalurahan/
LOCATION:Kalurahan Wedomartani
CATEGORIES:agenda_kegiatan
END:VEVENT
BEGIN:VEVENT
DTSTART;TZID=Asia/Krasnoyarsk:20250306T100000
DTEND;TZID=Asia/Krasnoyarsk:20250306T120000
DTSTAMP:20260425T230551
CREATED:20250310T023247Z
LAST-MODIFIED:20250310T023247Z
UID:23792-1741255200-1741262400@ngemplak.slemankab.go.id
SUMMARY:Rapat Monitoring Dan Evaluasi Program Kegiatan Dan Sub Kegiatan Dana Keistimewaan Tahun 2025
DESCRIPTION:
URL:https://ngemplak.slemankab.go.id/event/rapat-monitoring-dan-evaluasi-program-kegiatan-dan-sub-kegiatan-dana-keistimewaan-tahun-2025/
LOCATION:RR 3B BKAD Lt.3
CATEGORIES:agenda_kegiatan
END:VEVENT
BEGIN:VEVENT
DTSTART;TZID=Asia/Krasnoyarsk:20250306T130000
DTEND;TZID=Asia/Krasnoyarsk:20250306T150000
DTSTAMP:20260425T230551
CREATED:20250310T023337Z
LAST-MODIFIED:20250310T023337Z
UID:23795-1741266000-1741273200@ngemplak.slemankab.go.id
SUMMARY:Forum Lintas Perangkat Daerah
DESCRIPTION:
URL:https://ngemplak.slemankab.go.id/event/forum-lintas-perangkat-daerah-5/
LOCATION:R Sinom Bappeda Sleman
CATEGORIES:agenda_kegiatan
END:VEVENT
BEGIN:VEVENT
DTSTART;TZID=Asia/Krasnoyarsk:20250307T090000
DTEND;TZID=Asia/Krasnoyarsk:20250307T110000
DTSTAMP:20260425T230551
CREATED:20250310T023433Z
LAST-MODIFIED:20250310T023433Z
UID:23798-1741338000-1741345200@ngemplak.slemankab.go.id
SUMMARY:Monitoring Evaluasi Penyusunan Assesment dan Penginputan Sinkal Reformasi Birokrasi
DESCRIPTION:
URL:https://ngemplak.slemankab.go.id/event/monitoring-evaluasi-penyusunan-assesment-dan-penginputan-sinkal-reformasi-birokrasi/
LOCATION:Kal Widodomartani
CATEGORIES:agenda_kegiatan
END:VEVENT
BEGIN:VEVENT
DTSTART;TZID=Asia/Krasnoyarsk:20250309T153000
DTEND;TZID=Asia/Krasnoyarsk:20250309T160000
DTSTAMP:20260425T230551
CREATED:20250310T023624Z
LAST-MODIFIED:20250310T023624Z
UID:23801-1741534200-1741536000@ngemplak.slemankab.go.id
SUMMARY:Rapat Koor. BUMKal Wedomartani
DESCRIPTION:
URL:https://ngemplak.slemankab.go.id/event/rapat-koor-bumkal-wedomartani/
LOCATION:RM Penjeng
CATEGORIES:agenda_kegiatan
END:VEVENT
BEGIN:VEVENT
DTSTART;TZID=Asia/Krasnoyarsk:20250309T163000
DTEND;TZID=Asia/Krasnoyarsk:20250309T180000
DTSTAMP:20260425T230551
CREATED:20250310T023740Z
LAST-MODIFIED:20250310T023740Z
UID:23804-1741537800-1741543200@ngemplak.slemankab.go.id
SUMMARY:Buka Bersama dengan Pembicara Bapak KH. M. Rajif Dienal Maula\, Lc.\, M.Ag.
DESCRIPTION:
URL:https://ngemplak.slemankab.go.id/event/buka-bersama-dengan-pembicara-bapak-kh-m-rajif-dienal-maula-lc-m-ag/
LOCATION:Mushola Fathul Huda\, Gandok Wedomartani
CATEGORIES:agenda_kegiatan
END:VEVENT
BEGIN:VEVENT
DTSTART;TZID=Asia/Krasnoyarsk:20250309T183000
DTEND;TZID=Asia/Krasnoyarsk:20250309T203000
DTSTAMP:20260425T230551
CREATED:20250310T023919Z
LAST-MODIFIED:20250310T023919Z
UID:23807-1741545000-1741552200@ngemplak.slemankab.go.id
SUMMARY:Safari Tarawih Tingkat Kalurahan
DESCRIPTION:
URL:https://ngemplak.slemankab.go.id/event/safari-tarawih-tingkat-kalurahan/
LOCATION:Masjid Al-Ikhlas Kayen\, Blotan\, Wedomartani
CATEGORIES:agenda_kegiatan
END:VEVENT
BEGIN:VEVENT
DTSTART;TZID=Asia/Krasnoyarsk:20250310T090000
DTEND;TZID=Asia/Krasnoyarsk:20250310T110000
DTSTAMP:20260425T230551
CREATED:20250310T024004Z
LAST-MODIFIED:20250310T024004Z
UID:23810-1741597200-1741604400@ngemplak.slemankab.go.id
SUMMARY:Rakor Tarling dan Safari Jum'at
DESCRIPTION:
URL:https://ngemplak.slemankab.go.id/event/rakor-tarling-dan-safari-jumat/
LOCATION:Pendopo Kapanewon Ngemplak
CATEGORIES:agenda_kegiatan
END:VEVENT
BEGIN:VEVENT
DTSTART;TZID=Asia/Krasnoyarsk:20250310T090000
DTEND;TZID=Asia/Krasnoyarsk:20250310T110000
DTSTAMP:20260425T230551
CREATED:20250310T024126Z
LAST-MODIFIED:20250310T024126Z
UID:23812-1741597200-1741604400@ngemplak.slemankab.go.id
SUMMARY:Pemberian Bantuan Keuangan Kepada Korban Bencana Alam di Wilayah Kab Sleman
DESCRIPTION:
URL:https://ngemplak.slemankab.go.id/event/pemberian-bantuan-keuangan-kepada-korban-bencana-alam-di-wilayah-kab-sleman-3/
LOCATION:Op Room Dinas PMK
CATEGORIES:agenda_kegiatan
END:VEVENT
BEGIN:VEVENT
DTSTART;TZID=Asia/Krasnoyarsk:20250310T090000
DTEND;TZID=Asia/Krasnoyarsk:20250310T110000
DTSTAMP:20260425T230551
CREATED:20250310T024216Z
LAST-MODIFIED:20250310T024216Z
UID:23814-1741597200-1741604400@ngemplak.slemankab.go.id
SUMMARY:Monitoring Evaluasi Penyusunan Assesment dan Penginputan Sinkal Reformasi Birokrasi
DESCRIPTION:
URL:https://ngemplak.slemankab.go.id/event/monitoring-evaluasi-penyusunan-assesment-dan-penginputan-sinkal-reformasi-birokrasi-2/
LOCATION:Kalurahan Sindumartani
CATEGORIES:agenda_kegiatan
END:VEVENT
BEGIN:VEVENT
DTSTART;TZID=Asia/Krasnoyarsk:20250310T100000
DTEND;TZID=Asia/Krasnoyarsk:20250310T120000
DTSTAMP:20260425T230551
CREATED:20250310T024318Z
LAST-MODIFIED:20250310T024318Z
UID:23816-1741600800-1741608000@ngemplak.slemankab.go.id
SUMMARY:Rakor Kejelasan Status Barak Pengungsian di Kalurahan Sindumartani
DESCRIPTION:
URL:https://ngemplak.slemankab.go.id/event/rakor-kejelasan-status-barak-pengungsian-di-kalurahan-sindumartani/
LOCATION:Rr Rama Dinas PMK
CATEGORIES:agenda_kegiatan
END:VEVENT
BEGIN:VEVENT
DTSTART;TZID=Asia/Krasnoyarsk:20250310T100000
DTEND;TZID=Asia/Krasnoyarsk:20250310T120000
DTSTAMP:20260425T230551
CREATED:20250505T015251Z
LAST-MODIFIED:20250505T015251Z
UID:23951-1741600800-1741608000@ngemplak.slemankab.go.id
SUMMARY:Sambang Kapanewon
DESCRIPTION:
URL:https://ngemplak.slemankab.go.id/event/sambang-kapanewon-3/
LOCATION:Pendopo Kap Ngemplak
CATEGORIES:agenda_kegiatan
END:VEVENT
BEGIN:VEVENT
DTSTART;TZID=Asia/Krasnoyarsk:20250311T090000
DTEND;TZID=Asia/Krasnoyarsk:20250311T110000
DTSTAMP:20260425T230551
CREATED:20250310T043750Z
LAST-MODIFIED:20250310T043750Z
UID:23818-1741683600-1741690800@ngemplak.slemankab.go.id
SUMMARY:Rapat Asistensi Pembuatan Renaksi Reformasi Birokrasi Kalurahan
DESCRIPTION:
URL:https://ngemplak.slemankab.go.id/event/rapat-asistensi-pembuatan-renaksi-reformasi-birokrasi-kalurahan/
LOCATION:Pendopo Kapanewon Ngemplak
CATEGORIES:agenda_kegiatan
END:VEVENT
BEGIN:VEVENT
DTSTART;TZID=Asia/Krasnoyarsk:20250311T090000
DTEND;TZID=Asia/Krasnoyarsk:20250311T110000
DTSTAMP:20260425T230551
CREATED:20250311T064959Z
LAST-MODIFIED:20250311T064959Z
UID:23824-1741683600-1741690800@ngemplak.slemankab.go.id
SUMMARY:Rapat Asistensi Pembuatan Renaksi Reformasi Birokrasi Kalurahan
DESCRIPTION:
URL:https://ngemplak.slemankab.go.id/event/rapat-asistensi-pembuatan-renaksi-reformasi-birokrasi-kalurahan-2/
LOCATION:Pendopo Kapanewon Ngemplak
CATEGORIES:agenda_kegiatan
END:VEVENT
BEGIN:VEVENT
DTSTART;TZID=Asia/Krasnoyarsk:20250311T130000
DTEND;TZID=Asia/Krasnoyarsk:20250311T150000
DTSTAMP:20260425T230551
CREATED:20250310T044021Z
LAST-MODIFIED:20250310T044021Z
UID:23820-1741698000-1741705200@ngemplak.slemankab.go.id
SUMMARY:Pembukaan Pasar Lebaran Sleman
DESCRIPTION:
URL:https://ngemplak.slemankab.go.id/event/pembukaan-pasar-lebaran-sleman/
LOCATION:Utara Lapangan Pemkab Sleman
CATEGORIES:agenda_kegiatan
END:VEVENT
BEGIN:VEVENT
DTSTART;TZID=Asia/Krasnoyarsk:20250312T083000
DTEND;TZID=Asia/Krasnoyarsk:20250312T110000
DTSTAMP:20260425T230551
CREATED:20250320T070311Z
LAST-MODIFIED:20250320T070311Z
UID:23838-1741768200-1741777200@ngemplak.slemankab.go.id
SUMMARY:Pembinaan Ekonomi
DESCRIPTION:
URL:https://ngemplak.slemankab.go.id/event/pembinaan-ekonomi-2/
LOCATION:Pendopo Kap Ngemplak
CATEGORIES:agenda_kegiatan
END:VEVENT
BEGIN:VEVENT
DTSTART;TZID=Asia/Krasnoyarsk:20250312T090000
DTEND;TZID=Asia/Krasnoyarsk:20250312T110000
DTSTAMP:20260425T230551
CREATED:20250320T070429Z
LAST-MODIFIED:20250320T070429Z
UID:23840-1741770000-1741777200@ngemplak.slemankab.go.id
SUMMARY:Monitoring Evaluasi Penyusunan Assesment dan Penginputan Sinkal Reformasi Birokrasi
DESCRIPTION:
URL:https://ngemplak.slemankab.go.id/event/monitoring-evaluasi-penyusunan-assesment-dan-penginputan-sinkal-reformasi-birokrasi-3/
LOCATION:Kal Umbulmartani
CATEGORIES:agenda_kegiatan
END:VEVENT
BEGIN:VEVENT
DTSTART;TZID=Asia/Krasnoyarsk:20250312T093000
DTEND;TZID=Asia/Krasnoyarsk:20250312T110000
DTSTAMP:20260425T230551
CREATED:20250320T070523Z
LAST-MODIFIED:20250320T070523Z
UID:23842-1741771800-1741777200@ngemplak.slemankab.go.id
SUMMARY:Pelayanan Permohonan Tanda Tangan BA Menerima Perbedaan Luas a.n Suprapto\, Krapyak dan Pelayanan Permohonan Proses Pensertifikatan Tanah a.n Sukarmin\, Krandon
DESCRIPTION:
URL:https://ngemplak.slemankab.go.id/event/pelayanan-permohonan-tanda-tangan-ba-menerima-perbedaan-luas-a-n-suprapto-krapyak-dan-pelayanan-permohonan-proses-pensertifikatan-tanah-a-n-sukarmin-krandon/
LOCATION:RR Kantor Kal Wedomartani
CATEGORIES:agenda_kegiatan
END:VEVENT
BEGIN:VEVENT
DTSTART;TZID=Asia/Krasnoyarsk:20250312T130000
DTEND;TZID=Asia/Krasnoyarsk:20250312T150000
DTSTAMP:20260425T230551
CREATED:20250320T070630Z
LAST-MODIFIED:20250320T070630Z
UID:23844-1741784400-1741791600@ngemplak.slemankab.go.id
SUMMARY:Rakor Persiapan Redesain 1 Danais Tahun 2025 Kab Sleman
DESCRIPTION:
URL:https://ngemplak.slemankab.go.id/event/rakor-persiapan-redesain-1-danais-tahun-2025-kab-sleman/
LOCATION:RR Kinanthi Bappeda
CATEGORIES:agenda_kegiatan
END:VEVENT
BEGIN:VEVENT
DTSTART;TZID=Asia/Krasnoyarsk:20250312T153000
DTEND;TZID=Asia/Krasnoyarsk:20250312T170000
DTSTAMP:20260425T230551
CREATED:20250320T070725Z
LAST-MODIFIED:20250320T070725Z
UID:23847-1741793400-1741798800@ngemplak.slemankab.go.id
SUMMARY:Pembinaan Wawasan Kebangsaan Bagi Generasi Muda
DESCRIPTION:
URL:https://ngemplak.slemankab.go.id/event/pembinaan-wawasan-kebangsaan-bagi-generasi-muda/
LOCATION:Pendopo Kap Ngemplak
CATEGORIES:agenda_kegiatan
END:VEVENT
BEGIN:VEVENT
DTSTART;TZID=Asia/Krasnoyarsk:20250313T090000
DTEND;TZID=Asia/Krasnoyarsk:20250313T110000
DTSTAMP:20260425T230551
CREATED:20250321T035742Z
LAST-MODIFIED:20250321T035742Z
UID:23856-1741856400-1741863600@ngemplak.slemankab.go.id
SUMMARY:Monitoring Evaluasi Penyusunan Assesment dan Penginputan Sinkal Reformasi Birokrasi
DESCRIPTION:
URL:https://ngemplak.slemankab.go.id/event/monitoring-evaluasi-penyusunan-assesment-dan-penginputan-sinkal-reformasi-birokrasi-4/
LOCATION:Kal Bimomartani
CATEGORIES:agenda_kegiatan
END:VEVENT
BEGIN:VEVENT
DTSTART;TZID=Asia/Krasnoyarsk:20250313T090000
DTEND;TZID=Asia/Krasnoyarsk:20250313T120000
DTSTAMP:20260425T230551
CREATED:20250321T035245Z
LAST-MODIFIED:20250321T035245Z
UID:23854-1741856400-1741867200@ngemplak.slemankab.go.id
SUMMARY:Pemantauan Jajan Pasar
DESCRIPTION:
URL:https://ngemplak.slemankab.go.id/event/pemantauan-jajan-pasar-6/
LOCATION:Wilayah Ngemplak
CATEGORIES:agenda_kegiatan
END:VEVENT
BEGIN:VEVENT
DTSTART;TZID=Asia/Krasnoyarsk:20250313T123000
DTEND;TZID=Asia/Krasnoyarsk:20250313T150000
DTSTAMP:20260425T230551
CREATED:20250321T035833Z
LAST-MODIFIED:20250321T035833Z
UID:23859-1741869000-1741878000@ngemplak.slemankab.go.id
SUMMARY:Evaluasi MUSRENBANG
DESCRIPTION:
URL:https://ngemplak.slemankab.go.id/event/evaluasi-musrenbang/
LOCATION:Pendopo Kapanewon Ngemplak
CATEGORIES:agenda_kegiatan
END:VEVENT
END:VCALENDAR