BEGIN:VCALENDAR
VERSION:2.0
PRODID:-//WEBSITE RESMI KAPANEWON NGEMPLAK - ECPv6.15.8//NONSGML v1.0//EN
CALSCALE:GREGORIAN
METHOD:PUBLISH
X-ORIGINAL-URL:https://ngemplak.slemankab.go.id
X-WR-CALDESC:Events for WEBSITE RESMI KAPANEWON NGEMPLAK
REFRESH-INTERVAL;VALUE=DURATION:PT1H
X-Robots-Tag:noindex
X-PUBLISHED-TTL:PT1H
BEGIN:VTIMEZONE
TZID:Asia/Krasnoyarsk
BEGIN:STANDARD
TZOFFSETFROM:+0700
TZOFFSETTO:+0700
TZNAME:+07
DTSTART:20240101T000000
END:STANDARD
END:VTIMEZONE
BEGIN:VEVENT
DTSTART;TZID=Asia/Krasnoyarsk:20251113T083000
DTEND;TZID=Asia/Krasnoyarsk:20251113T113000
DTSTAMP:20260424T185834
CREATED:20251113T073907Z
LAST-MODIFIED:20251113T073907Z
UID:26279-1763022600-1763033400@ngemplak.slemankab.go.id
SUMMARY:Sosialisasi Standar Pelayanan Kalurahan.
DESCRIPTION:
URL:https://ngemplak.slemankab.go.id/event/sosialisasi-standar-pelayanan-kalurahan/
LOCATION:Aula Sindumartani
CATEGORIES:agenda_kegiatan
END:VEVENT
BEGIN:VEVENT
DTSTART;TZID=Asia/Krasnoyarsk:20251113T083000
DTEND;TZID=Asia/Krasnoyarsk:20251113T113000
DTSTAMP:20260424T185834
CREATED:20251113T074243Z
LAST-MODIFIED:20251113T074243Z
UID:26290-1763022600-1763033400@ngemplak.slemankab.go.id
SUMMARY:Penyerahan Simbolis Bantuan Sosial Usaha Ekonomi Produktif dan Hibah Lembaga Kesejahteraan Sosial (LKS)
DESCRIPTION:
URL:https://ngemplak.slemankab.go.id/event/penyerahan-simbolis-bantuan-sosial-usaha-ekonomi-produktif-dan-hibah-lembaga-kesejahteraan-sosial-lks/
LOCATION:Pendopo Parasamya
CATEGORIES:agenda_kegiatan
END:VEVENT
BEGIN:VEVENT
DTSTART;TZID=Asia/Krasnoyarsk:20251113T090000
DTEND;TZID=Asia/Krasnoyarsk:20251113T113000
DTSTAMP:20260424T185834
CREATED:20251113T073446Z
LAST-MODIFIED:20251113T073446Z
UID:26271-1763024400-1763033400@ngemplak.slemankab.go.id
SUMMARY:Rakor Kesiapsiagaan SDA dalam penanganan pengungsi dan Logistik Bencana
DESCRIPTION:
URL:https://ngemplak.slemankab.go.id/event/rakor-kesiapsiagaan-sda-dalam-penanganan-pengungsi-dan-logistik-bencana/
LOCATION:RM Bali Ndeso Komplek Kampung Flory\, Tlogoadi
CATEGORIES:agenda_kegiatan
END:VEVENT
BEGIN:VEVENT
DTSTART;TZID=Asia/Krasnoyarsk:20251113T090000
DTEND;TZID=Asia/Krasnoyarsk:20251113T113000
DTSTAMP:20260424T185834
CREATED:20251113T073954Z
LAST-MODIFIED:20251113T073954Z
UID:26281-1763024400-1763033400@ngemplak.slemankab.go.id
SUMMARY:Musrenbangkal dalam Rangka Penyusunan perubahan RPJMKal
DESCRIPTION:
URL:https://ngemplak.slemankab.go.id/event/musrenbangkal-dalam-rangka-penyusunan-perubahan-rpjmkal/
LOCATION:Ruang Rapat Kalurahan Widodomartani
CATEGORIES:agenda_kegiatan
END:VEVENT
BEGIN:VEVENT
DTSTART;TZID=Asia/Krasnoyarsk:20251113T090000
DTEND;TZID=Asia/Krasnoyarsk:20251113T113000
DTSTAMP:20260424T185834
CREATED:20251113T074050Z
LAST-MODIFIED:20251113T074050Z
UID:26284-1763024400-1763033400@ngemplak.slemankab.go.id
SUMMARY:Workshop Teknik Pengumpulan Data dalam Penyelenggaraan Statistik dan Konsinyering E-walidata Tahun 2025
DESCRIPTION:
URL:https://ngemplak.slemankab.go.id/event/workshop-teknik-pengumpulan-data-dalam-penyelenggaraan-statistik-dan-konsinyering-e-walidata-tahun-2025/
LOCATION:Restoran Taman Pringsewu
CATEGORIES:agenda_kegiatan
END:VEVENT
BEGIN:VEVENT
DTSTART;TZID=Asia/Krasnoyarsk:20251113T090000
DTEND;TZID=Asia/Krasnoyarsk:20251113T113000
DTSTAMP:20260424T185834
CREATED:20251113T074327Z
LAST-MODIFIED:20251113T074327Z
UID:26292-1763024400-1763033400@ngemplak.slemankab.go.id
SUMMARY:Workshop Posyandu DIY Tahun 2025
DESCRIPTION:
URL:https://ngemplak.slemankab.go.id/event/workshop-posyandu-diy-tahun-2025-3/
LOCATION:Hotel Grand Rohan Jogja\, Jl. Raya Janti No.336\, Modalan\, Banguntapan\, Bantul\, DIY
CATEGORIES:agenda_kegiatan
END:VEVENT
BEGIN:VEVENT
DTSTART;TZID=Asia/Krasnoyarsk:20251113T090000
DTEND;TZID=Asia/Krasnoyarsk:20251113T120000
DTSTAMP:20260424T185834
CREATED:20251113T073825Z
LAST-MODIFIED:20251113T073825Z
UID:26276-1763024400-1763035200@ngemplak.slemankab.go.id
SUMMARY:Workshop Posyandu DIY Tahun 2025
DESCRIPTION:
URL:https://ngemplak.slemankab.go.id/event/workshop-posyandu-diy-tahun-2025-2/
LOCATION:Hotel Grand. Rohan Jogja\, JI. Raya Janti No.336\, Modalan\, Banguntapan\, Banguntapan\, Bantul\, DI
CATEGORIES:agenda_kegiatan
END:VEVENT
BEGIN:VEVENT
DTSTART;TZID=Asia/Krasnoyarsk:20251113T130000
DTEND;TZID=Asia/Krasnoyarsk:20251113T150000
DTSTAMP:20260424T185834
CREATED:20251113T074203Z
LAST-MODIFIED:20251113T074203Z
UID:26288-1763038800-1763046000@ngemplak.slemankab.go.id
SUMMARY:Peningkatan Kapasitas BPKal Sindumartani
DESCRIPTION:
URL:https://ngemplak.slemankab.go.id/event/peningkatan-kapasitas-bpkal-sindumartani/
LOCATION:Kalurahan Sindumartani
CATEGORIES:agenda_kegiatan
END:VEVENT
BEGIN:VEVENT
DTSTART;TZID=Asia/Krasnoyarsk:20251114T080000
DTEND;TZID=Asia/Krasnoyarsk:20251114T113000
DTSTAMP:20260424T185834
CREATED:20251113T074724Z
LAST-MODIFIED:20251113T074724Z
UID:26301-1763107200-1763119800@ngemplak.slemankab.go.id
SUMMARY:Monev BKK DAIS Reformasi Kalurahan TA 2025
DESCRIPTION:
URL:https://ngemplak.slemankab.go.id/event/monev-bkk-dais-reformasi-kalurahan-ta-2025/
LOCATION:Hotel Cakra Kembang Jalan Kaliurang km 5.5 No.44\, RW.40\, Manggung\, Caturtunggal\, Kapanewon Depok\, Sleman
CATEGORIES:agenda_kegiatan
END:VEVENT
BEGIN:VEVENT
DTSTART;TZID=Asia/Krasnoyarsk:20251114T090000
DTEND;TZID=Asia/Krasnoyarsk:20251114T113000
DTSTAMP:20260424T185834
CREATED:20251113T074551Z
LAST-MODIFIED:20251113T074551Z
UID:26295-1763110800-1763119800@ngemplak.slemankab.go.id
SUMMARY:Penyerahan kunci bedah rumah ibu siti sumarsiyah dari Lazizmu
DESCRIPTION:
URL:https://ngemplak.slemankab.go.id/event/penyerahan-kunci-bedah-rumah-ibu-siti-sumarsiyah-dari-lazizmu/
LOCATION:Rumah ibu siti sumariyah dusun kabunan Widodomartani
CATEGORIES:agenda_kegiatan
END:VEVENT
BEGIN:VEVENT
DTSTART;TZID=Asia/Krasnoyarsk:20251114T100000
DTEND;TZID=Asia/Krasnoyarsk:20251114T120000
DTSTAMP:20260424T185834
CREATED:20251113T074638Z
LAST-MODIFIED:20251113T074638Z
UID:26298-1763114400-1763121600@ngemplak.slemankab.go.id
SUMMARY:Persiapan penyampaian surat keputusan dan penjelasan pembuatan perjanjian kerja PPPK Paruh Waktu
DESCRIPTION:
URL:https://ngemplak.slemankab.go.id/event/persiapan-penyampaian-surat-keputusan-dan-penjelasan-pembuatan-perjanjian-kerja-pppk-paruh-waktu/
LOCATION:Ruang Rapat Bima Lt. 3 BKPP Sleman
CATEGORIES:agenda_kegiatan
END:VEVENT
BEGIN:VEVENT
DTSTART;TZID=Asia/Krasnoyarsk:20251115T073000
DTEND;TZID=Asia/Krasnoyarsk:20251115T113000
DTSTAMP:20260424T185834
CREATED:20251117T013919Z
LAST-MODIFIED:20251117T013919Z
UID:26306-1763191800-1763206200@ngemplak.slemankab.go.id
SUMMARY:Penyuluhan kesehatan dan pengecekan kesehatab gratis warga PC LDII Ngemplak Sektor selatan.
DESCRIPTION:
URL:https://ngemplak.slemankab.go.id/event/penyuluhan-kesehatan-dan-pengecekan-kesehatab-gratis-warga-pc-ldii-ngemplak-sektor-selatan/
LOCATION:Masjid Baitul muttaqin Banjarharjo\,Bimomartani
CATEGORIES:agenda_kegiatan
END:VEVENT
BEGIN:VEVENT
DTSTART;TZID=Asia/Krasnoyarsk:20251116T090000
DTEND;TZID=Asia/Krasnoyarsk:20251116T110000
DTSTAMP:20260424T185834
CREATED:20251117T014411Z
LAST-MODIFIED:20251117T014411Z
UID:26309-1763283600-1763290800@ngemplak.slemankab.go.id
SUMMARY:Peresmian Lumbung Pangan Wedomartani.
DESCRIPTION:
URL:https://ngemplak.slemankab.go.id/event/peresmian-lumbung-pangan-wedomartani/
LOCATION:Lumbung pangan Wedomartani Bumkal Wedo Sembodo Panjen\, Wedomartani
CATEGORIES:agenda_kegiatan
END:VEVENT
BEGIN:VEVENT
DTSTART;TZID=Asia/Krasnoyarsk:20251117T090000
DTEND;TZID=Asia/Krasnoyarsk:20251117T110000
DTSTAMP:20260424T185834
CREATED:20251117T014652Z
LAST-MODIFIED:20251117T014652Z
UID:26315-1763370000-1763377200@ngemplak.slemankab.go.id
SUMMARY:Lokakarya Mini Lintas Sektoral Bidang Kesehatan
DESCRIPTION:
URL:https://ngemplak.slemankab.go.id/event/lokakarya-mini-lintas-sektoral-bidang-kesehatan-3/
LOCATION:Aula Puskesmas Ngemplak 2
CATEGORIES:agenda_kegiatan
END:VEVENT
BEGIN:VEVENT
DTSTART;TZID=Asia/Krasnoyarsk:20251117T090000
DTEND;TZID=Asia/Krasnoyarsk:20251117T110000
DTSTAMP:20260424T185834
CREATED:20251117T014831Z
LAST-MODIFIED:20251117T014831Z
UID:26320-1763370000-1763377200@ngemplak.slemankab.go.id
SUMMARY:Seminar Kewaspadaan Dini dan pengukuhan FKDM Kapanewon.
DESCRIPTION:
URL:https://ngemplak.slemankab.go.id/event/seminar-kewaspadaan-dini-dan-pengukuhan-fkdm-kapanewon/
LOCATION:Pendopo Parasamya
CATEGORIES:agenda_kegiatan
END:VEVENT
BEGIN:VEVENT
DTSTART;TZID=Asia/Krasnoyarsk:20251117T090000
DTEND;TZID=Asia/Krasnoyarsk:20251117T113000
DTSTAMP:20260424T185834
CREATED:20251117T014731Z
LAST-MODIFIED:20251117T014731Z
UID:26317-1763370000-1763379000@ngemplak.slemankab.go.id
SUMMARY:Workshop Pengelolaan Barang Milik Daerah Tahun 2025
DESCRIPTION:
URL:https://ngemplak.slemankab.go.id/event/workshop-pengelolaan-barang-milik-daerah-tahun-2025/
LOCATION:Crystal Lotus Hotel Jl. Magelang No. 5\,2 Kutu Dukuh\, Sinduadi\, Kec. Mlati\, Kabupaten Sleman.
CATEGORIES:agenda_kegiatan
END:VEVENT
BEGIN:VEVENT
DTSTART;TZID=Asia/Krasnoyarsk:20251117T090000
DTEND;TZID=Asia/Krasnoyarsk:20251117T113000
DTSTAMP:20260424T185834
CREATED:20251117T015012Z
LAST-MODIFIED:20251117T015012Z
UID:26322-1763370000-1763379000@ngemplak.slemankab.go.id
SUMMARY:Rapat penanganan permasalahan pertanahan tanah kasultanan/Tanah kalurahan Tahap IV
DESCRIPTION:
URL:https://ngemplak.slemankab.go.id/event/rapat-penanganan-permasalahan-pertanahan-tanah-kasultanan-tanah-kalurahan-tahap-iv/
LOCATION:RR Merti Bumi dinas pertanahan dan tata ruang
CATEGORIES:agenda_kegiatan
END:VEVENT
BEGIN:VEVENT
DTSTART;TZID=Asia/Krasnoyarsk:20251117T130000
DTEND;TZID=Asia/Krasnoyarsk:20251117T150000
DTSTAMP:20260424T185834
CREATED:20251117T014612Z
LAST-MODIFIED:20251117T014612Z
UID:26312-1763384400-1763391600@ngemplak.slemankab.go.id
SUMMARY:Koordinasi Pelaksanaan SKM 2025 dan Penyampaian Laporan SKM Semester II Tahun 2025
DESCRIPTION:
URL:https://ngemplak.slemankab.go.id/event/koordinasi-pelaksanaan-skm-2025-dan-penyampaian-laporan-skm-semester-ii-tahun-2025/
LOCATION:Ruang Rapat Sembada Sekretariat Daerah Kabupaten Seman
CATEGORIES:agenda_kegiatan
END:VEVENT
BEGIN:VEVENT
DTSTART;TZID=Asia/Krasnoyarsk:20251118T090000
DTEND;TZID=Asia/Krasnoyarsk:20251118T110000
DTSTAMP:20260424T185834
CREATED:20251124T022931Z
LAST-MODIFIED:20251124T022931Z
UID:26336-1763456400-1763463600@ngemplak.slemankab.go.id
SUMMARY:Bimtek Forum Komunikasi Kapanewon Sehat
DESCRIPTION:
URL:https://ngemplak.slemankab.go.id/event/bimtek-forum-komunikasi-kapanewon-sehat/
LOCATION:Pendopo Kapanewon Ngemplak
CATEGORIES:agenda_kegiatan
END:VEVENT
BEGIN:VEVENT
DTSTART;TZID=Asia/Krasnoyarsk:20251118T090000
DTEND;TZID=Asia/Krasnoyarsk:20251118T110000
DTSTAMP:20260424T185834
CREATED:20251124T023035Z
LAST-MODIFIED:20251124T023035Z
UID:26338-1763456400-1763463600@ngemplak.slemankab.go.id
SUMMARY:Ekspose Monitoring dan Evaluasi Fluktuasi Muka Air Tanah DIY Tahun 2025
DESCRIPTION:
URL:https://ngemplak.slemankab.go.id/event/ekspose-monitoring-dan-evaluasi-fluktuasi-muka-air-tanah-diy-tahun-2025/
LOCATION:Ekspose Monitoring dan Evaluasi Fluktuasi Muka Air Tanah DIY Tahun 2025
CATEGORIES:agenda_kegiatan
END:VEVENT
BEGIN:VEVENT
DTSTART;TZID=Asia/Krasnoyarsk:20251118T090000
DTEND;TZID=Asia/Krasnoyarsk:20251118T113000
DTSTAMP:20260424T185834
CREATED:20251124T022843Z
LAST-MODIFIED:20251124T022843Z
UID:26334-1763456400-1763465400@ngemplak.slemankab.go.id
SUMMARY:Rembug Stunting
DESCRIPTION:
URL:https://ngemplak.slemankab.go.id/event/rembug-stunting/
LOCATION:Aula Kalurahan Widodomartani
CATEGORIES:agenda_kegiatan
END:VEVENT
BEGIN:VEVENT
DTSTART;TZID=Asia/Krasnoyarsk:20251119T080000
DTEND;TZID=Asia/Krasnoyarsk:20251119T113000
DTSTAMP:20260424T185834
CREATED:20251124T023452Z
LAST-MODIFIED:20251124T023452Z
UID:26349-1763539200-1763551800@ngemplak.slemankab.go.id
SUMMARY:Rapat Koordinasi Pengelolaan TPP Tahun 2025 (Pencairan TPP bulan November dan Desember 2025).
DESCRIPTION:
URL:https://ngemplak.slemankab.go.id/event/rapat-koordinasi-pengelolaan-tpp-tahun-2025-pencairan-tpp-bulan-november-dan-desember-2025/
LOCATION:Ruang Bima Lantai 3 BKPP Kab. Sleman
CATEGORIES:agenda_kegiatan
END:VEVENT
BEGIN:VEVENT
DTSTART;TZID=Asia/Krasnoyarsk:20251119T090000
DTEND;TZID=Asia/Krasnoyarsk:20251119T110000
DTSTAMP:20260424T185834
CREATED:20251124T023339Z
LAST-MODIFIED:20251124T023339Z
UID:26346-1763542800-1763550000@ngemplak.slemankab.go.id
SUMMARY:Focussed Group Discussion (FGD) Kormonev Update Data Perubahan Sosial Dan Potensi Konflik DIY
DESCRIPTION:
URL:https://ngemplak.slemankab.go.id/event/focussed-group-discussion-fgd-kormonev-update-data-perubahan-sosial-dan-potensi-konflik-diy/
LOCATION:Zoom Meeting Meeting
CATEGORIES:agenda_kegiatan
END:VEVENT
BEGIN:VEVENT
DTSTART;TZID=Asia/Krasnoyarsk:20251119T090000
DTEND;TZID=Asia/Krasnoyarsk:20251119T113000
DTSTAMP:20260424T185834
CREATED:20251124T023121Z
LAST-MODIFIED:20251124T023121Z
UID:26341-1763542800-1763551800@ngemplak.slemankab.go.id
SUMMARY:Lokakarya Mini Lintas Sektor Triwulanan (Puskesmas Ngemplak 1)
DESCRIPTION:
URL:https://ngemplak.slemankab.go.id/event/lokakarya-mini-lintas-sektor-triwulanan-puskesmas-ngemplak-1/
LOCATION:RM Pawon Klewonan Jl Kalasan-Cangkringan
CATEGORIES:agenda_kegiatan
END:VEVENT
BEGIN:VEVENT
DTSTART;TZID=Asia/Krasnoyarsk:20251120T073000
DTEND;TZID=Asia/Krasnoyarsk:20251120T113000
DTSTAMP:20260424T185834
CREATED:20251203T072929Z
LAST-MODIFIED:20251203T072929Z
UID:26377-1763623800-1763638200@ngemplak.slemankab.go.id
SUMMARY:Pembukaan Karima Golden CUP #13
DESCRIPTION:
URL:https://ngemplak.slemankab.go.id/event/pembukaan-karima-golden-cup-13/
CATEGORIES:agenda_kegiatan
END:VEVENT
BEGIN:VEVENT
DTSTART;TZID=Asia/Krasnoyarsk:20251120T080000
DTEND;TZID=Asia/Krasnoyarsk:20251120T113000
DTSTAMP:20260424T185834
CREATED:20251203T073014Z
LAST-MODIFIED:20251203T073014Z
UID:26379-1763625600-1763638200@ngemplak.slemankab.go.id
SUMMARY:LARWASDA 2025 dan Penandatanganan Piagam Audit
DESCRIPTION:
URL:https://ngemplak.slemankab.go.id/event/larwasda-2025-dan-penandatanganan-piagam-audit/
LOCATION:Amartapura Hall Lantai 1\, The Alana Yogyakarta Hotel Jalan Palagan Tentara Pelajar
CATEGORIES:agenda_kegiatan
END:VEVENT
BEGIN:VEVENT
DTSTART;TZID=Asia/Krasnoyarsk:20251120T083000
DTEND;TZID=Asia/Krasnoyarsk:20251120T110000
DTSTAMP:20260424T185834
CREATED:20251126T064343Z
LAST-MODIFIED:20251126T064343Z
UID:26364-1763627400-1763636400@ngemplak.slemankab.go.id
SUMMARY:Paparan hasil Pelaksanaan Kegiatan Pengelolaan Dana BPM dan Kegiatan PISEW 2025.
DESCRIPTION:
URL:https://ngemplak.slemankab.go.id/event/paparan-hasil-pelaksanaan-kegiatan-pengelolaan-dana-bpm-dan-kegiatan-pisew-2025/
LOCATION:Balai Kalurahan Bimmartani
CATEGORIES:agenda_kegiatan
END:VEVENT
BEGIN:VEVENT
DTSTART;TZID=Asia/Krasnoyarsk:20251120T083000
DTEND;TZID=Asia/Krasnoyarsk:20251120T110000
DTSTAMP:20260424T185834
CREATED:20251203T072840Z
LAST-MODIFIED:20251203T072840Z
UID:26375-1763627400-1763636400@ngemplak.slemankab.go.id
SUMMARY:Paparan hasil Pelaksanaan Kegiatan Pengelolaan Dana BPM dan Kegiatan PISEW 2025.
DESCRIPTION:
URL:https://ngemplak.slemankab.go.id/event/paparan-hasil-pelaksanaan-kegiatan-pengelolaan-dana-bpm-dan-kegiatan-pisew-2025-2/
LOCATION:Balai Kalurahan Bimomartani
CATEGORIES:agenda_kegiatan
END:VEVENT
BEGIN:VEVENT
DTSTART;TZID=Asia/Krasnoyarsk:20251120T090000
DTEND;TZID=Asia/Krasnoyarsk:20251120T113000
DTSTAMP:20260424T185834
CREATED:20251126T041026Z
LAST-MODIFIED:20251126T041026Z
UID:26353-1763629200-1763638200@ngemplak.slemankab.go.id
SUMMARY:Rakor Tindak lanjut dari permohonan fasilitasi penyelesaianmasalah batas persil tanah.
DESCRIPTION:
URL:https://ngemplak.slemankab.go.id/event/rakor-tindak-lanjut-dari-permohonan-fasilitasi-penyelesaianmasalah-batas-persil-tanah/
LOCATION:Kalurahan Sindumartani
CATEGORIES:agenda_kegiatan
END:VEVENT
BEGIN:VEVENT
DTSTART;TZID=Asia/Krasnoyarsk:20251120T100000
DTEND;TZID=Asia/Krasnoyarsk:20251120T120000
DTSTAMP:20260424T185834
CREATED:20251126T063754Z
LAST-MODIFIED:20251126T063754Z
UID:26357-1763632800-1763640000@ngemplak.slemankab.go.id
SUMMARY:Rapat Koordinasi Finalisasi Usulan Program Kegiatan Keistimewaan TA 2026 pada Urusan Kelembagaan dan Persiapan Pengisian/Entry pada Aplikasi Pangripta
DESCRIPTION:
URL:https://ngemplak.slemankab.go.id/event/rapat-koordinasi-finalisasi-usulan-program-kegiatan-keistimewaan-ta-2026-pada-urusan-kelembagaan-dan-persiapan-pengisian-entry-pada-aplikasi-pangripta/
LOCATION:Ruang Rapat Kinanthi\, Bappeda Sleman
CATEGORIES:agenda_kegiatan
END:VEVENT
END:VCALENDAR