BEGIN:VCALENDAR
VERSION:2.0
PRODID:-//WEBSITE RESMI KAPANEWON NGEMPLAK - ECPv6.15.8//NONSGML v1.0//EN
CALSCALE:GREGORIAN
METHOD:PUBLISH
X-ORIGINAL-URL:https://ngemplak.slemankab.go.id
X-WR-CALDESC:Events for WEBSITE RESMI KAPANEWON NGEMPLAK
REFRESH-INTERVAL;VALUE=DURATION:PT1H
X-Robots-Tag:noindex
X-PUBLISHED-TTL:PT1H
BEGIN:VTIMEZONE
TZID:Asia/Krasnoyarsk
BEGIN:STANDARD
TZOFFSETFROM:+0700
TZOFFSETTO:+0700
TZNAME:+07
DTSTART:20240101T000000
END:STANDARD
END:VTIMEZONE
BEGIN:VEVENT
DTSTART;TZID=Asia/Krasnoyarsk:20250519T083000
DTEND;TZID=Asia/Krasnoyarsk:20250519T110000
DTSTAMP:20260426T110029
CREATED:20250704T073039Z
LAST-MODIFIED:20250704T073039Z
UID:24337-1747643400-1747652400@ngemplak.slemankab.go.id
SUMMARY:PUPM Pengembangan Tempat Ibadah Ramah Anak di Kalurahan Widodomartani
DESCRIPTION:
URL:https://ngemplak.slemankab.go.id/event/pupm-pengembangan-tempat-ibadah-ramah-anak-di-kalurahan-widodomartani/
LOCATION:KWT Sekar Arum\, Kalimanggis
CATEGORIES:agenda_kegiatan
END:VEVENT
BEGIN:VEVENT
DTSTART;TZID=Asia/Krasnoyarsk:20250519T193000
DTEND;TZID=Asia/Krasnoyarsk:20250519T213000
DTSTAMP:20260426T110029
CREATED:20250704T073311Z
LAST-MODIFIED:20250704T073311Z
UID:24340-1747683000-1747690200@ngemplak.slemankab.go.id
SUMMARY:Mujahadah Rutin Malam Selasa Pahing dan Pengukuhan  Hadroh Al-Hasanah Jetis
DESCRIPTION:
URL:https://ngemplak.slemankab.go.id/event/mujahadah-rutin-malam-selasa-pahing-dan-pengukuhan-hadroh-al-hasanah-jetis/
LOCATION:Masjid Miftahul Hasanah\, Jetis Widodomartani
CATEGORIES:agenda_kegiatan
END:VEVENT
BEGIN:VEVENT
DTSTART;TZID=Asia/Krasnoyarsk:20250520T080000
DTEND;TZID=Asia/Krasnoyarsk:20250520T170000
DTSTAMP:20260426T110029
CREATED:20250707T010330Z
LAST-MODIFIED:20250707T010330Z
UID:24343-1747728000-1747760400@ngemplak.slemankab.go.id
SUMMARY:Peresmian Dan Launching 14 SPPG di Provinsi DIY
DESCRIPTION:
URL:https://ngemplak.slemankab.go.id/event/peresmian-dan-launching-14-sppg-di-provinsi-diy/
LOCATION:SPPG Sambirejo Breksi\, BUMDes Sambimulyo Prambanan
CATEGORIES:agenda_kegiatan
END:VEVENT
BEGIN:VEVENT
DTSTART;TZID=Asia/Krasnoyarsk:20250520T083000
DTEND;TZID=Asia/Krasnoyarsk:20250520T113000
DTSTAMP:20260426T110029
CREATED:20250707T010516Z
LAST-MODIFIED:20250707T010516Z
UID:24347-1747729800-1747740600@ngemplak.slemankab.go.id
SUMMARY:Pembinaan KIM Kalurahan
DESCRIPTION:
URL:https://ngemplak.slemankab.go.id/event/pembinaan-kim-kalurahan/
LOCATION:Pendopo Kap Ngemplak
CATEGORIES:agenda_kegiatan
END:VEVENT
BEGIN:VEVENT
DTSTART;TZID=Asia/Krasnoyarsk:20250520T083000
DTEND;TZID=Asia/Krasnoyarsk:20250520T113000
DTSTAMP:20260426T110029
CREATED:20250707T010619Z
LAST-MODIFIED:20250707T010619Z
UID:24350-1747729800-1747740600@ngemplak.slemankab.go.id
SUMMARY:Sosialisasi Advokasi Grand Design Pembangunan Kependudukan (GPPK)
DESCRIPTION:
URL:https://ngemplak.slemankab.go.id/event/sosialisasi-advokasi-grand-design-pembangunan-kependudukan-gppk/
LOCATION:Aula Pangripta Bappeda Sleman
CATEGORIES:agenda_kegiatan
END:VEVENT
BEGIN:VEVENT
DTSTART;TZID=Asia/Krasnoyarsk:20250520T090000
DTEND;TZID=Asia/Krasnoyarsk:20250520T113000
DTSTAMP:20260426T110029
CREATED:20250707T010806Z
LAST-MODIFIED:20250707T010806Z
UID:24352-1747731600-1747740600@ngemplak.slemankab.go.id
SUMMARY:Pamitan dan mohon doa restu Akp Arif Subakdo S.H.\, M.A.P (Pejabat Lama Kapolsek Ngemplak)
DESCRIPTION:
URL:https://ngemplak.slemankab.go.id/event/pamitan-dan-mohon-doa-restu-akp-arif-subakdo-s-h-m-a-p-pejabat-lama-kapolsek-ngemplak/
LOCATION:Resto Taman Luku Jakal
CATEGORIES:agenda_kegiatan
END:VEVENT
BEGIN:VEVENT
DTSTART;TZID=Asia/Krasnoyarsk:20250520T100000
DTEND;TZID=Asia/Krasnoyarsk:20250520T120000
DTSTAMP:20260426T110029
CREATED:20250707T010901Z
LAST-MODIFIED:20250707T010901Z
UID:24355-1747735200-1747742400@ngemplak.slemankab.go.id
SUMMARY:Pemberangkatan Jamaah Calon Haji Kab Sleman Tahun 2025 Kloter 65 SOC
DESCRIPTION:
URL:https://ngemplak.slemankab.go.id/event/pemberangkatan-jamaah-calon-haji-kab-sleman-tahun-2025-kloter-65-soc/
LOCATION:Serambi Masjid Agng Sleman dr. Wahidin Soediro Husodo Sleman
CATEGORIES:agenda_kegiatan
END:VEVENT
BEGIN:VEVENT
DTSTART;TZID=Asia/Krasnoyarsk:20250520T123000
DTEND;TZID=Asia/Krasnoyarsk:20250520T150000
DTSTAMP:20260426T110029
CREATED:20250707T011016Z
LAST-MODIFIED:20250707T011016Z
UID:24358-1747744200-1747753200@ngemplak.slemankab.go.id
SUMMARY:Rakor Pengurus PP PAUD
DESCRIPTION:
URL:https://ngemplak.slemankab.go.id/event/rakor-pengurus-pp-paud/
LOCATION:Pendopo Kap Ngemplak
CATEGORIES:agenda_kegiatan
END:VEVENT
BEGIN:VEVENT
DTSTART;TZID=Asia/Krasnoyarsk:20250520T140000
DTEND;TZID=Asia/Krasnoyarsk:20250520T170000
DTSTAMP:20260426T110029
CREATED:20250707T011123Z
LAST-MODIFIED:20250707T011123Z
UID:24360-1747749600-1747760400@ngemplak.slemankab.go.id
SUMMARY:Upacara Hari Jadi Ke-79 Kalurahan Sindumartani
DESCRIPTION:
URL:https://ngemplak.slemankab.go.id/event/upacara-hari-jadi-ke-79-kalurahan-sindumartani/
LOCATION:Lapangan Kentingan\, Sindumartani
CATEGORIES:agenda_kegiatan
END:VEVENT
BEGIN:VEVENT
DTSTART;TZID=Asia/Krasnoyarsk:20250521T083000
DTEND;TZID=Asia/Krasnoyarsk:20250521T110000
DTSTAMP:20260426T110029
CREATED:20250707T011213Z
LAST-MODIFIED:20250707T011213Z
UID:24363-1747816200-1747825200@ngemplak.slemankab.go.id
SUMMARY:Sosialisasi FKDM
DESCRIPTION:
URL:https://ngemplak.slemankab.go.id/event/sosialisasi-fkdm/
LOCATION:Pendopo Kap Ngemplak
CATEGORIES:agenda_kegiatan
END:VEVENT
BEGIN:VEVENT
DTSTART;TZID=Asia/Krasnoyarsk:20250521T083000
DTEND;TZID=Asia/Krasnoyarsk:20250521T110000
DTSTAMP:20260426T110029
CREATED:20250707T011315Z
LAST-MODIFIED:20250707T011315Z
UID:24365-1747816200-1747825200@ngemplak.slemankab.go.id
SUMMARY:Sosialisasi Dan Skreening IVA (Deteksi Dini Kanker Leher Rahim)
DESCRIPTION:
URL:https://ngemplak.slemankab.go.id/event/sosialisasi-dan-skreening-iva-deteksi-dini-kanker-leher-rahim/
LOCATION:Aula Puskesmas Ngemplak 1
CATEGORIES:agenda_kegiatan
END:VEVENT
BEGIN:VEVENT
DTSTART;TZID=Asia/Krasnoyarsk:20250521T083000
DTEND;TZID=Asia/Krasnoyarsk:20250521T113000
DTSTAMP:20260426T110029
CREATED:20250707T011420Z
LAST-MODIFIED:20250707T011420Z
UID:24367-1747816200-1747827000@ngemplak.slemankab.go.id
SUMMARY:Bimtek Perizinan Berusaha Berbasis Risiko Baagi Pelaku UKM Perseorangan Dilanjutkan Dengan Pendampingan Pembuatan NIB
DESCRIPTION:
URL:https://ngemplak.slemankab.go.id/event/bimtek-perizinan-berusaha-berbasis-risiko-baagi-pelaku-ukm-perseorangan-dilanjutkan-dengan-pendampingan-pembuatan-nib/
LOCATION:Kalurahan Sindumartani
CATEGORIES:agenda_kegiatan
END:VEVENT
BEGIN:VEVENT
DTSTART;TZID=Asia/Krasnoyarsk:20250521T090000
DTEND;TZID=Asia/Krasnoyarsk:20250521T110000
DTSTAMP:20260426T110029
CREATED:20250707T011746Z
LAST-MODIFIED:20250707T011746Z
UID:24374-1747818000-1747825200@ngemplak.slemankab.go.id
SUMMARY:Rapat Sosialisasi Persiapan Pelaksanaan SPMB Jejaring SMP Tahun 2025/2026
DESCRIPTION:
URL:https://ngemplak.slemankab.go.id/event/rapat-sosialisasi-persiapan-pelaksanaan-spmb-jejaring-smp-tahun-2025-2026/
LOCATION:RR Lt 3 Gedung Lama Sekretariat Daerah Kab Sleman
CATEGORIES:agenda_kegiatan
END:VEVENT
BEGIN:VEVENT
DTSTART;TZID=Asia/Krasnoyarsk:20250521T090000
DTEND;TZID=Asia/Krasnoyarsk:20250521T113000
DTSTAMP:20260426T110029
CREATED:20250707T011554Z
LAST-MODIFIED:20250707T011554Z
UID:24369-1747818000-1747827000@ngemplak.slemankab.go.id
SUMMARY:Rakor Pertanahan
DESCRIPTION:
URL:https://ngemplak.slemankab.go.id/event/rakor-pertanahan/
LOCATION:Rumah Dinas Panewu
CATEGORIES:agenda_kegiatan
END:VEVENT
BEGIN:VEVENT
DTSTART;TZID=Asia/Krasnoyarsk:20250521T090000
DTEND;TZID=Asia/Krasnoyarsk:20250521T120000
DTSTAMP:20260426T110029
CREATED:20250707T011652Z
LAST-MODIFIED:20250707T011652Z
UID:24371-1747818000-1747828800@ngemplak.slemankab.go.id
SUMMARY:Rapat Sosialisasi Tahap 1 Pelaksanaan Penghargaan Nata Sembada Untuk FORKOM UMKM Tingkat Kalurahan Tahun 2025
DESCRIPTION:
URL:https://ngemplak.slemankab.go.id/event/rapat-sosialisasi-tahap-1-pelaksanaan-penghargaan-nata-sembada-untuk-forkom-umkm-tingkat-kalurahan-tahun-2025/
LOCATION:RR Paramadhana 1 Disperindag
CATEGORIES:agenda_kegiatan
END:VEVENT
BEGIN:VEVENT
DTSTART;TZID=Asia/Krasnoyarsk:20250521T130000
DTEND;TZID=Asia/Krasnoyarsk:20250521T150000
DTSTAMP:20260426T110029
CREATED:20250707T011920Z
LAST-MODIFIED:20250707T011920Z
UID:24377-1747832400-1747839600@ngemplak.slemankab.go.id
SUMMARY:Rapat Kelompok Ternak
DESCRIPTION:
URL:https://ngemplak.slemankab.go.id/event/rapat-kelompok-ternak/
LOCATION:Pendopo Kap Ngemplak
CATEGORIES:agenda_kegiatan
END:VEVENT
BEGIN:VEVENT
DTSTART;TZID=Asia/Krasnoyarsk:20250522T083000
DTEND;TZID=Asia/Krasnoyarsk:20250522T110000
DTSTAMP:20260426T110029
CREATED:20250707T012130Z
LAST-MODIFIED:20250707T012130Z
UID:24381-1747902600-1747911600@ngemplak.slemankab.go.id
SUMMARY:Sosialisasi Tentang HIV Bagi Masyarakat Rentan Penularan HIV\, IMS dan NAPZA
DESCRIPTION:
URL:https://ngemplak.slemankab.go.id/event/sosialisasi-tentang-hiv-bagi-masyarakat-rentan-penularan-hiv-ims-dan-napza/
LOCATION:Aula Puskesmas Ngemplak II
CATEGORIES:agenda_kegiatan
END:VEVENT
BEGIN:VEVENT
DTSTART;TZID=Asia/Krasnoyarsk:20250522T083000
DTEND;TZID=Asia/Krasnoyarsk:20250522T113000
DTSTAMP:20260426T110029
CREATED:20250707T012040Z
LAST-MODIFIED:20250707T012040Z
UID:24379-1747902600-1747913400@ngemplak.slemankab.go.id
SUMMARY:Workshop Budaya Pemerintahan SATRIYA Perangkat Daerah di Lingkungan Pemkab Sleman
DESCRIPTION:
URL:https://ngemplak.slemankab.go.id/event/workshop-budaya-pemerintahan-satriya-perangkat-daerah-di-lingkungan-pemkab-sleman/
LOCATION:R Sembada Setda Sleman
CATEGORIES:agenda_kegiatan
END:VEVENT
BEGIN:VEVENT
DTSTART;TZID=Asia/Krasnoyarsk:20250522T090000
DTEND;TZID=Asia/Krasnoyarsk:20250522T110000
DTSTAMP:20260426T110029
CREATED:20250707T012230Z
LAST-MODIFIED:20250707T012230Z
UID:24383-1747904400-1747911600@ngemplak.slemankab.go.id
SUMMARY:Sosialisasi Adminduk
DESCRIPTION:
URL:https://ngemplak.slemankab.go.id/event/sosialisasi-adminduk-7/
LOCATION:Pendopo Kapanewon Ngemplak
CATEGORIES:agenda_kegiatan
END:VEVENT
BEGIN:VEVENT
DTSTART;TZID=Asia/Krasnoyarsk:20250522T090000
DTEND;TZID=Asia/Krasnoyarsk:20250522T110000
DTSTAMP:20260426T110029
CREATED:20250707T012317Z
LAST-MODIFIED:20250707T012317Z
UID:24386-1747904400-1747911600@ngemplak.slemankab.go.id
SUMMARY:Musyawarah Kalurahan (MUSKAL) Program Ketahan Pangan
DESCRIPTION:
URL:https://ngemplak.slemankab.go.id/event/musyawarah-kalurahan-muskal-program-ketahan-pangan/
LOCATION:Aula Kal Widodomartani
CATEGORIES:agenda_kegiatan
END:VEVENT
BEGIN:VEVENT
DTSTART;TZID=Asia/Krasnoyarsk:20250522T090000
DTEND;TZID=Asia/Krasnoyarsk:20250522T110000
DTSTAMP:20260426T110029
CREATED:20250707T012410Z
LAST-MODIFIED:20250707T012410Z
UID:24388-1747904400-1747911600@ngemplak.slemankab.go.id
SUMMARY:Rapat Evaluasi Pemasangan Rambu di Jalan Grogolan - Karangpakis
DESCRIPTION:
URL:https://ngemplak.slemankab.go.id/event/rapat-evaluasi-pemasangan-rambu-di-jalan-grogolan-karangpakis/
LOCATION:RR Aula Dinas Perhubungan Sleman
CATEGORIES:agenda_kegiatan
END:VEVENT
BEGIN:VEVENT
DTSTART;TZID=Asia/Krasnoyarsk:20250522T090000
DTEND;TZID=Asia/Krasnoyarsk:20250522T110000
DTSTAMP:20260426T110029
CREATED:20250707T012506Z
LAST-MODIFIED:20250707T012506Z
UID:24391-1747904400-1747911600@ngemplak.slemankab.go.id
SUMMARY:Pengumpulan Laporan SPJ
DESCRIPTION:
URL:https://ngemplak.slemankab.go.id/event/pengumpulan-laporan-spj/
LOCATION:RR Baznas Kab Sleman
CATEGORIES:agenda_kegiatan
END:VEVENT
BEGIN:VEVENT
DTSTART;TZID=Asia/Krasnoyarsk:20250522T090000
DTEND;TZID=Asia/Krasnoyarsk:20250522T110000
DTSTAMP:20260426T110029
CREATED:20250707T012609Z
LAST-MODIFIED:20250707T012609Z
UID:24393-1747904400-1747911600@ngemplak.slemankab.go.id
SUMMARY:Lokakarya Mini Lintas Sektoral Bidang Kesehatan
DESCRIPTION:
URL:https://ngemplak.slemankab.go.id/event/lokakarya-mini-lintas-sektoral-bidang-kesehatan/
LOCATION:Rumah Bapak Lurah Umbulmartani (Rumah Tabon Kledokan)
CATEGORIES:agenda_kegiatan
END:VEVENT
BEGIN:VEVENT
DTSTART;TZID=Asia/Krasnoyarsk:20250522T123000
DTEND;TZID=Asia/Krasnoyarsk:20250522T150000
DTSTAMP:20260426T110029
CREATED:20250707T012749Z
LAST-MODIFIED:20250707T012749Z
UID:24396-1747917000-1747926000@ngemplak.slemankab.go.id
SUMMARY:Anti Korupsi
DESCRIPTION:
URL:https://ngemplak.slemankab.go.id/event/anti-korupsi/
LOCATION:Pendopo Kapanewon Ngemplak
CATEGORIES:agenda_kegiatan
END:VEVENT
BEGIN:VEVENT
DTSTART;TZID=Asia/Krasnoyarsk:20250523T083000
DTEND;TZID=Asia/Krasnoyarsk:20250523T110000
DTSTAMP:20260426T110029
CREATED:20250707T012845Z
LAST-MODIFIED:20250707T012845Z
UID:24398-1747989000-1747998000@ngemplak.slemankab.go.id
SUMMARY:Pengajian Dharma Wanita
DESCRIPTION:
URL:https://ngemplak.slemankab.go.id/event/pengajian-dharma-wanita/
LOCATION:Masjid Darojatul Sleman
CATEGORIES:agenda_kegiatan
END:VEVENT
BEGIN:VEVENT
DTSTART;TZID=Asia/Krasnoyarsk:20250523T083000
DTEND;TZID=Asia/Krasnoyarsk:20250523T113000
DTSTAMP:20260426T110029
CREATED:20250707T035144Z
LAST-MODIFIED:20250707T035144Z
UID:24634-1747989000-1747999800@ngemplak.slemankab.go.id
SUMMARY:Pertemuan Forum Arsip Kab Sleman
DESCRIPTION:
URL:https://ngemplak.slemankab.go.id/event/pertemuan-forum-arsip-kab-sleman/
LOCATION:Pendopo Rumah Dinas Bupati Sleman
CATEGORIES:agenda_kegiatan
END:VEVENT
BEGIN:VEVENT
DTSTART;TZID=Asia/Krasnoyarsk:20250523T090000
DTEND;TZID=Asia/Krasnoyarsk:20250523T110000
DTSTAMP:20260426T110029
CREATED:20250707T012939Z
LAST-MODIFIED:20250707T012939Z
UID:24401-1747990800-1747998000@ngemplak.slemankab.go.id
SUMMARY:Monitoring Kemiskinan
DESCRIPTION:
URL:https://ngemplak.slemankab.go.id/event/monitoring-kemiskinan-4/
LOCATION:Kalurahan Bimomartani
CATEGORIES:agenda_kegiatan
END:VEVENT
BEGIN:VEVENT
DTSTART;TZID=Asia/Krasnoyarsk:20250523T130000
DTEND;TZID=Asia/Krasnoyarsk:20250523T150000
DTSTAMP:20260426T110029
CREATED:20250707T013024Z
LAST-MODIFIED:20250707T013024Z
UID:24403-1748005200-1748012400@ngemplak.slemankab.go.id
SUMMARY:Rapat Koordinasi Pemulihan Pasca Bencana Cuaca Ekstrem Tahun 2025
DESCRIPTION:
URL:https://ngemplak.slemankab.go.id/event/rapat-koordinasi-pemulihan-pasca-bencana-cuaca-ekstrem-tahun-2025/
LOCATION:RR Posko Utama Pakem
CATEGORIES:agenda_kegiatan
END:VEVENT
BEGIN:VEVENT
DTSTART;TZID=Asia/Krasnoyarsk:20250523T130000
DTEND;TZID=Asia/Krasnoyarsk:20250523T150000
DTSTAMP:20260426T110030
CREATED:20250707T013153Z
LAST-MODIFIED:20250707T013153Z
UID:24406-1748005200-1748012400@ngemplak.slemankab.go.id
SUMMARY:Serah Terima Jabatan Panewu dan Ketua Tim Penggerak PKK Kapanewon
DESCRIPTION:
URL:https://ngemplak.slemankab.go.id/event/serah-terima-jabatan-panewu-dan-ketua-tim-penggerak-pkk-kapanewon/
LOCATION:Pendopo Parasamya Kab Sleman
CATEGORIES:agenda_kegiatan
END:VEVENT
BEGIN:VEVENT
DTSTART;TZID=Asia/Krasnoyarsk:20250523T193000
DTEND;TZID=Asia/Krasnoyarsk:20250523T220000
DTSTAMP:20260426T110030
CREATED:20250707T013252Z
LAST-MODIFIED:20250707T013252Z
UID:24408-1748028600-1748037600@ngemplak.slemankab.go.id
SUMMARY:MUSKALSUS Pembentukan Koprasi Merah Putih
DESCRIPTION:
URL:https://ngemplak.slemankab.go.id/event/muskalsus-pembentukan-koprasi-merah-putih/
LOCATION:Aula Kal Sindumartani
CATEGORIES:agenda_kegiatan
END:VEVENT
END:VCALENDAR