BEGIN:VCALENDAR
VERSION:2.0
PRODID:-//WEBSITE RESMI KAPANEWON NGEMPLAK - ECPv6.15.8//NONSGML v1.0//EN
CALSCALE:GREGORIAN
METHOD:PUBLISH
X-WR-CALNAME:WEBSITE RESMI KAPANEWON NGEMPLAK
X-ORIGINAL-URL:https://ngemplak.slemankab.go.id
X-WR-CALDESC:Events for WEBSITE RESMI KAPANEWON NGEMPLAK
REFRESH-INTERVAL;VALUE=DURATION:PT1H
X-Robots-Tag:noindex
X-PUBLISHED-TTL:PT1H
BEGIN:VTIMEZONE
TZID:Asia/Krasnoyarsk
BEGIN:STANDARD
TZOFFSETFROM:+0700
TZOFFSETTO:+0700
TZNAME:+07
DTSTART:20240101T000000
END:STANDARD
END:VTIMEZONE
BEGIN:VEVENT
DTSTART;TZID=Asia/Krasnoyarsk:20250527T130000
DTEND;TZID=Asia/Krasnoyarsk:20250527T150000
DTSTAMP:20260425T214305
CREATED:20250707T014655Z
LAST-MODIFIED:20250707T014655Z
UID:24423-1748350800-1748358000@ngemplak.slemankab.go.id
SUMMARY:Inventarisasi Masukan Atas Rencana Revisi Pedoman Kelembagaan Untuk Keistimewaan Pada Pemerintah Kabupaten/Kota dan Kalurahan
DESCRIPTION:
URL:https://ngemplak.slemankab.go.id/event/inventarisasi-masukan-atas-rencana-revisi-pedoman-kelembagaan-untuk-keistimewaan-pada-pemerintah-kabupaten-kota-dan-kalurahan/
LOCATION:RR Bagian Kesra Setda Sleman
CATEGORIES:agenda_kegiatan
END:VEVENT
BEGIN:VEVENT
DTSTART;TZID=Asia/Krasnoyarsk:20250528T080000
DTEND;TZID=Asia/Krasnoyarsk:20250528T110000
DTSTAMP:20260425T214305
CREATED:20250707T014809Z
LAST-MODIFIED:20250707T014809Z
UID:24425-1748419200-1748430000@ngemplak.slemankab.go.id
SUMMARY:Muskalsus Koperasi Merah Putih
DESCRIPTION:
URL:https://ngemplak.slemankab.go.id/event/muskalsus-koperasi-merah-putih/
LOCATION:Balai Kal Bimomartani
CATEGORIES:agenda_kegiatan
END:VEVENT
BEGIN:VEVENT
DTSTART;TZID=Asia/Krasnoyarsk:20250528T090000
DTEND;TZID=Asia/Krasnoyarsk:20250528T110000
DTSTAMP:20260425T214305
CREATED:20250707T015400Z
LAST-MODIFIED:20250707T015400Z
UID:24427-1748422800-1748430000@ngemplak.slemankab.go.id
SUMMARY:Pendampingan Monev Kearsipan Apk Simarda dan Apk Srikandi Kalurahan
DESCRIPTION:
URL:https://ngemplak.slemankab.go.id/event/pendampingan-monev-kearsipan-apk-simarda-dan-apk-srikandi-kalurahan-2/
LOCATION:Kalurahan Umbulmartani
CATEGORIES:agenda_kegiatan
END:VEVENT
BEGIN:VEVENT
DTSTART;TZID=Asia/Krasnoyarsk:20250528T090000
DTEND;TZID=Asia/Krasnoyarsk:20250528T110000
DTSTAMP:20260425T214305
CREATED:20250707T015518Z
LAST-MODIFIED:20250707T015518Z
UID:24429-1748422800-1748430000@ngemplak.slemankab.go.id
SUMMARY:Pembinaan BUMKal
DESCRIPTION:
URL:https://ngemplak.slemankab.go.id/event/pembinaan-bumkal-3/
LOCATION:Pendopo Kap Ngemplak
CATEGORIES:agenda_kegiatan
END:VEVENT
BEGIN:VEVENT
DTSTART;TZID=Asia/Krasnoyarsk:20250528T090000
DTEND;TZID=Asia/Krasnoyarsk:20250528T110000
DTSTAMP:20260425T214305
CREATED:20250707T015559Z
LAST-MODIFIED:20250707T015559Z
UID:24431-1748422800-1748430000@ngemplak.slemankab.go.id
SUMMARY:Pemberian Bantuan Keuangan Kepada Korban Bencana Alam Di Wilayah Kab Sleman
DESCRIPTION:
URL:https://ngemplak.slemankab.go.id/event/pemberian-bantuan-keuangan-kepada-korban-bencana-alam-di-wilayah-kab-sleman-4/
LOCATION:Aula Unit 1 Pemda Sleman
CATEGORIES:agenda_kegiatan
END:VEVENT
BEGIN:VEVENT
DTSTART;TZID=Asia/Krasnoyarsk:20250528T090000
DTEND;TZID=Asia/Krasnoyarsk:20250528T110000
DTSTAMP:20260425T214305
CREATED:20250707T015640Z
LAST-MODIFIED:20250707T015640Z
UID:24433-1748422800-1748430000@ngemplak.slemankab.go.id
SUMMARY:Muskalsus Pendirian Koperasi Desa/Kalurahan "Koperasi MerahPutih"
DESCRIPTION:
URL:https://ngemplak.slemankab.go.id/event/muskalsus-pendirian-koperasi-desa-kalurahan-koperasi-merahputih/
LOCATION:Muskalsus Pendirian Koperasi Desa/Kalurahan “Koperasi MerahPutih”
CATEGORIES:agenda_kegiatan
END:VEVENT
BEGIN:VEVENT
DTSTART;TZID=Asia/Krasnoyarsk:20250528T090000
DTEND;TZID=Asia/Krasnoyarsk:20250528T110000
DTSTAMP:20260425T214305
CREATED:20250707T015826Z
LAST-MODIFIED:20250707T015826Z
UID:24436-1748422800-1748430000@ngemplak.slemankab.go.id
SUMMARY:Rakordal Bulan Mei 2025
DESCRIPTION:
URL:https://ngemplak.slemankab.go.id/event/rakordal-bulan-mei-2025/
LOCATION:Aula Lt.3 Setda Sleman
CATEGORIES:agenda_kegiatan
END:VEVENT
BEGIN:VEVENT
DTSTART;TZID=Asia/Krasnoyarsk:20250528T130000
DTEND;TZID=Asia/Krasnoyarsk:20250528T150000
DTSTAMP:20260425T214305
CREATED:20250707T015922Z
LAST-MODIFIED:20250707T015922Z
UID:24438-1748437200-1748444400@ngemplak.slemankab.go.id
SUMMARY:Muskalsus Tentang Pembentukan Koperasi Merah Putih
DESCRIPTION:
URL:https://ngemplak.slemankab.go.id/event/muskalsus-tentang-pembentukan-koperasi-merah-putih/
LOCATION:PendopoKal Wedomartani
CATEGORIES:agenda_kegiatan
END:VEVENT
BEGIN:VEVENT
DTSTART;TZID=Asia/Krasnoyarsk:20250530T200000
DTEND;TZID=Asia/Krasnoyarsk:20250530T230000
DTSTAMP:20260425T214305
CREATED:20250707T020029Z
LAST-MODIFIED:20250707T020029Z
UID:24441-1748635200-1748646000@ngemplak.slemankab.go.id
SUMMARY:Pentas Wayang Kulit
DESCRIPTION:
URL:https://ngemplak.slemankab.go.id/event/pentas-wayang-kulit/
LOCATION:Rumah Bapak Bowo Haryono Kalisoro\, RW 23 Umbulmartani
CATEGORIES:agenda_kegiatan
END:VEVENT
BEGIN:VEVENT
DTSTART;TZID=Asia/Krasnoyarsk:20250531T193000
DTEND;TZID=Asia/Krasnoyarsk:20250531T230000
DTSTAMP:20260425T214305
CREATED:20250707T020245Z
LAST-MODIFIED:20250707T020245Z
UID:24444-1748719800-1748732400@ngemplak.slemankab.go.id
SUMMARY:Dzikir dan Sholawat Macul Langit Dalam Rangka Pembukaan PP Santi Aji 2
DESCRIPTION:
URL:https://ngemplak.slemankab.go.id/event/dzikir-dan-sholawat-macul-langit-dalam-rangka-pembukaan-pp-santi-aji-2/
LOCATION:Ponpes Santi Aji 2\, Sempu Wedomartani
CATEGORIES:agenda_kegiatan
END:VEVENT
BEGIN:VEVENT
DTSTART;TZID=Asia/Krasnoyarsk:20250602T080000
DTEND;TZID=Asia/Krasnoyarsk:20250602T110000
DTSTAMP:20260425T214305
CREATED:20250707T020349Z
LAST-MODIFIED:20250707T020349Z
UID:24447-1748851200-1748862000@ngemplak.slemankab.go.id
SUMMARY:Pelepasan Peserta Didik Kelas IX
DESCRIPTION:
URL:https://ngemplak.slemankab.go.id/event/pelepasan-peserta-didik-kelas-ix/
LOCATION:Gedung BPBD Kalurahan Wukirsari Cangkringan
CATEGORIES:agenda_kegiatan
END:VEVENT
BEGIN:VEVENT
DTSTART;TZID=Asia/Krasnoyarsk:20250602T080000
DTEND;TZID=Asia/Krasnoyarsk:20250602T110000
DTSTAMP:20260425T214305
CREATED:20250707T020435Z
LAST-MODIFIED:20250707T020435Z
UID:24450-1748851200-1748862000@ngemplak.slemankab.go.id
SUMMARY:Wisuda Purna Siswa Angkatan ke-58
DESCRIPTION:
URL:https://ngemplak.slemankab.go.id/event/wisuda-purna-siswa-angkatan-ke-58/
LOCATION:Lapangan Basket SMP N 2 Ngemplak
CATEGORIES:agenda_kegiatan
END:VEVENT
BEGIN:VEVENT
DTSTART;TZID=Asia/Krasnoyarsk:20250605T080000
DTEND;TZID=Asia/Krasnoyarsk:20250605T103000
DTSTAMP:20260425T214305
CREATED:20250707T020641Z
LAST-MODIFIED:20250707T020641Z
UID:24453-1749110400-1749119400@ngemplak.slemankab.go.id
SUMMARY:Pembinaan Rohani
DESCRIPTION:
URL:https://ngemplak.slemankab.go.id/event/pembinaan-rohani-9/
LOCATION:Pendopo Kapanewon Ngemplak
CATEGORIES:agenda_kegiatan
END:VEVENT
BEGIN:VEVENT
DTSTART;TZID=Asia/Krasnoyarsk:20250605T083000
DTEND;TZID=Asia/Krasnoyarsk:20250605T110000
DTSTAMP:20260425T214305
CREATED:20250707T020746Z
LAST-MODIFIED:20250707T020746Z
UID:24455-1749112200-1749121200@ngemplak.slemankab.go.id
SUMMARY:Desk pendampingan input data Perencanaan dalam rangka PM SPIP Terintegrasi melalui Aplikasi E-Integrity
DESCRIPTION:
URL:https://ngemplak.slemankab.go.id/event/desk-pendampingan-input-data-perencanaan-dalam-rangka-pm-spip-terintegrasi-melalui-aplikasi-e-integrity/
LOCATION:Aula Pangripta Bappeda Sleman
CATEGORIES:agenda_kegiatan
END:VEVENT
BEGIN:VEVENT
DTSTART;TZID=Asia/Krasnoyarsk:20250605T093000
DTEND;TZID=Asia/Krasnoyarsk:20250605T110000
DTSTAMP:20260425T214305
CREATED:20250707T020830Z
LAST-MODIFIED:20250707T020830Z
UID:24457-1749115800-1749121200@ngemplak.slemankab.go.id
SUMMARY:Diseminasi Indikator Strategis Pembangunan Daerah Penyelenggara Dinas Komunikasi dan Informatika
DESCRIPTION:
URL:https://ngemplak.slemankab.go.id/event/diseminasi-indikator-strategis-pembangunan-daerah-penyelenggara-dinas-komunikasi-dan-informatika/
LOCATION:Aula Lt. III Setda Sleman
CATEGORIES:agenda_kegiatan
END:VEVENT
BEGIN:VEVENT
DTSTART;TZID=Asia/Krasnoyarsk:20250605T183000
DTEND;TZID=Asia/Krasnoyarsk:20250605T220000
DTSTAMP:20260425T214305
CREATED:20250707T021054Z
LAST-MODIFIED:20250707T021054Z
UID:24459-1749148200-1749160800@ngemplak.slemankab.go.id
SUMMARY:Sholat Isya Berjamaah dilanjutkan dengan doa bersama untuk jamaah Haji Kabupaten Sleman Tahun 2025
DESCRIPTION:
URL:https://ngemplak.slemankab.go.id/event/sholat-isya-berjamaah-dilanjutkan-dengan-doa-bersama-untuk-jamaah-haji-kabupaten-sleman-tahun-2025/
LOCATION:Pendopo Rumah Dinas Bupati
CATEGORIES:agenda_kegiatan
END:VEVENT
BEGIN:VEVENT
DTSTART;TZID=Asia/Krasnoyarsk:20250605T200000
DTEND;TZID=Asia/Krasnoyarsk:20250605T220000
DTSTAMP:20260425T214305
CREATED:20250707T021237Z
LAST-MODIFIED:20250707T021237Z
UID:24461-1749153600-1749160800@ngemplak.slemankab.go.id
SUMMARY:Patroli Wilayah Kegiatan Malam Takbiran Idul Adha
DESCRIPTION:
URL:https://ngemplak.slemankab.go.id/event/patroli-wilayah-kegiatan-malam-takbiran-idul-adha/
CATEGORIES:agenda_kegiatan
END:VEVENT
BEGIN:VEVENT
DTSTART;TZID=Asia/Krasnoyarsk:20250606T183000
DTEND;TZID=Asia/Krasnoyarsk:20250608T203000
DTSTAMP:20260425T214305
CREATED:20250707T021414Z
LAST-MODIFIED:20250707T021743Z
UID:24463-1749234600-1749414600@ngemplak.slemankab.go.id
SUMMARY:Sholat Isya Berjamaah dilanjutkan dengan doa bersama untuk jamaah Haji Kabupaten Sleman Tahun 2025
DESCRIPTION:
URL:https://ngemplak.slemankab.go.id/event/sholat-isya-berjamaah-dilanjutkan-dengan-doa-bersama-untuk-jamaah-haji-kabupaten-sleman-tahun-2025-2/
LOCATION:Pendopo Rumah Dinas Bupati
CATEGORIES:agenda_kegiatan
END:VEVENT
BEGIN:VEVENT
DTSTART;TZID=Asia/Krasnoyarsk:20250610T080000
DTEND;TZID=Asia/Krasnoyarsk:20250610T110000
DTSTAMP:20260425T214305
CREATED:20250707T021927Z
LAST-MODIFIED:20250707T021927Z
UID:24468-1749542400-1749553200@ngemplak.slemankab.go.id
SUMMARY:Seminar Pengelolaan SPAM Perdesaan tahun 2025
DESCRIPTION:
URL:https://ngemplak.slemankab.go.id/event/seminar-pengelolaan-spam-perdesaan-tahun-2025/
LOCATION:Ruang Rapat lantai III Setda Sleman
CATEGORIES:agenda_kegiatan
END:VEVENT
BEGIN:VEVENT
DTSTART;TZID=Asia/Krasnoyarsk:20250610T083000
DTEND;TZID=Asia/Krasnoyarsk:20250610T110000
DTSTAMP:20260425T214305
CREATED:20250707T021838Z
LAST-MODIFIED:20250707T021838Z
UID:24466-1749544200-1749553200@ngemplak.slemankab.go.id
SUMMARY:Pembinaan PPID Kalurahan
DESCRIPTION:
URL:https://ngemplak.slemankab.go.id/event/pembinaan-ppid-kalurahan-2/
LOCATION:Rumah Dinas Panewu
CATEGORIES:agenda_kegiatan
END:VEVENT
BEGIN:VEVENT
DTSTART;TZID=Asia/Krasnoyarsk:20250610T090000
DTEND;TZID=Asia/Krasnoyarsk:20250610T110000
DTSTAMP:20260425T214305
CREATED:20250707T022034Z
LAST-MODIFIED:20250707T022034Z
UID:24471-1749546000-1749553200@ngemplak.slemankab.go.id
SUMMARY:Rapat Koordinasi SD\,SMP\,SMA Sosialisasi Sistem Penerimaan Murid Baru (SPMB)
DESCRIPTION:
URL:https://ngemplak.slemankab.go.id/event/rapat-koordinasi-sdsmpsma-sosialisasi-sistem-penerimaan-murid-baru-spmb/
LOCATION:Pendopo Kapanewon Ngemplak
CATEGORIES:agenda_kegiatan
END:VEVENT
BEGIN:VEVENT
DTSTART;TZID=Asia/Krasnoyarsk:20250610T090000
DTEND;TZID=Asia/Krasnoyarsk:20250610T110000
DTSTAMP:20260425T214305
CREATED:20250707T022125Z
LAST-MODIFIED:20250707T022125Z
UID:24473-1749546000-1749553200@ngemplak.slemankab.go.id
SUMMARY:Pembukaan Pembinaan Usaha Dagang kapanewon Ngemplak
DESCRIPTION:
URL:https://ngemplak.slemankab.go.id/event/pembukaan-pembinaan-usaha-dagang-kapanewon-ngemplak/
LOCATION:Kapanewon Ngemplak
CATEGORIES:agenda_kegiatan
END:VEVENT
BEGIN:VEVENT
DTSTART;TZID=Asia/Krasnoyarsk:20250610T170000
DTEND;TZID=Asia/Krasnoyarsk:20250610T183000
DTSTAMP:20260425T214305
CREATED:20250707T022238Z
LAST-MODIFIED:20250707T022238Z
UID:24475-1749574800-1749580200@ngemplak.slemankab.go.id
SUMMARY:Nobar Pertandingan Sepak Boa Indonesia VS Jepang
DESCRIPTION:
URL:https://ngemplak.slemankab.go.id/event/nobar-pertandingan-sepak-boa-indonesia-vs-jepang/
LOCATION:Lapangan Pemda Sleman
CATEGORIES:agenda_kegiatan
END:VEVENT
BEGIN:VEVENT
DTSTART;TZID=Asia/Krasnoyarsk:20250611T080000
DTEND;TZID=Asia/Krasnoyarsk:20250611T110000
DTSTAMP:20260425T214305
CREATED:20250707T022328Z
LAST-MODIFIED:20250707T022328Z
UID:24477-1749628800-1749639600@ngemplak.slemankab.go.id
SUMMARY:Seminar Pengelolaan SPAM Perdesaan tahun 2025
DESCRIPTION:
URL:https://ngemplak.slemankab.go.id/event/seminar-pengelolaan-spam-perdesaan-tahun-2025-2/
LOCATION:Ruang Rapat lantai III Setda Sleman
CATEGORIES:agenda_kegiatan
END:VEVENT
BEGIN:VEVENT
DTSTART;TZID=Asia/Krasnoyarsk:20250611T083000
DTEND;TZID=Asia/Krasnoyarsk:20250611T110000
DTSTAMP:20260425T214305
CREATED:20250707T022414Z
LAST-MODIFIED:20250707T022414Z
UID:24479-1749630600-1749639600@ngemplak.slemankab.go.id
SUMMARY:Temu Pelaku Usaha UKM dengan Pemkab Sleman (Mbiz Market)
DESCRIPTION:
URL:https://ngemplak.slemankab.go.id/event/temu-pelaku-usaha-ukm-dengan-pemkab-sleman-mbiz-market/
LOCATION:Pendopo Parasamya Kab Sleman
CATEGORIES:agenda_kegiatan
END:VEVENT
BEGIN:VEVENT
DTSTART;TZID=Asia/Krasnoyarsk:20250611T083000
DTEND;TZID=Asia/Krasnoyarsk:20250611T113000
DTSTAMP:20260425T214305
CREATED:20250707T022504Z
LAST-MODIFIED:20250707T022504Z
UID:24481-1749630600-1749641400@ngemplak.slemankab.go.id
SUMMARY:Sosialisasi dan Pembentukan Pengurus Posyandu Kalurahan
DESCRIPTION:
URL:https://ngemplak.slemankab.go.id/event/sosialisasi-dan-pembentukan-pengurus-posyandu-kalurahan/
LOCATION:Pendopo Kal Wedomartani
CATEGORIES:agenda_kegiatan
END:VEVENT
BEGIN:VEVENT
DTSTART;TZID=Asia/Krasnoyarsk:20250611T090000
DTEND;TZID=Asia/Krasnoyarsk:20250611T110000
DTSTAMP:20260425T214305
CREATED:20250707T022622Z
LAST-MODIFIED:20250707T022622Z
UID:24483-1749632400-1749639600@ngemplak.slemankab.go.id
SUMMARY:Sosialisasi Prosedur dan Mekanisme Penempatan Tenaga Kerja Antar Kerja Negara
DESCRIPTION:
URL:https://ngemplak.slemankab.go.id/event/sosialisasi-prosedur-dan-mekanisme-penempatan-tenaga-kerja-antar-kerja-negara/
LOCATION:Pendopo Kapanewon Ngemplak
CATEGORIES:agenda_kegiatan
END:VEVENT
BEGIN:VEVENT
DTSTART;TZID=Asia/Krasnoyarsk:20250611T090000
DTEND;TZID=Asia/Krasnoyarsk:20250611T120000
DTSTAMP:20260425T214305
CREATED:20250707T022728Z
LAST-MODIFIED:20250707T022728Z
UID:24485-1749632400-1749643200@ngemplak.slemankab.go.id
SUMMARY:Penyerahan Kembali Siswa Kelas IX Tahun Ajaran 2024/2025
DESCRIPTION:
URL:https://ngemplak.slemankab.go.id/event/penyerahan-kembali-siswa-kelas-ix-tahun-ajaran-2024-2025/
LOCATION:Aula Ki Hajar Dewantara BPMP DIY Jl. LPMP DIY\, Tirtomartani\, Kalasan\, Slema
CATEGORIES:agenda_kegiatan
END:VEVENT
BEGIN:VEVENT
DTSTART;TZID=Asia/Krasnoyarsk:20250611T093000
DTEND;TZID=Asia/Krasnoyarsk:20250611T120000
DTSTAMP:20260425T214305
CREATED:20250707T022818Z
LAST-MODIFIED:20250707T022818Z
UID:24488-1749634200-1749643200@ngemplak.slemankab.go.id
SUMMARY:Pembinaan BPKal
DESCRIPTION:
URL:https://ngemplak.slemankab.go.id/event/pembinaan-bpkal-3/
LOCATION:Aula Kal Sindumartani
CATEGORIES:agenda_kegiatan
END:VEVENT
BEGIN:VEVENT
DTSTART;TZID=Asia/Krasnoyarsk:20250612T080000
DTEND;TZID=Asia/Krasnoyarsk:20250612T110000
DTSTAMP:20260425T214305
CREATED:20250707T022928Z
LAST-MODIFIED:20250707T022928Z
UID:24490-1749715200-1749726000@ngemplak.slemankab.go.id
SUMMARY:Seminar Pengelolaan SPAM Perdesaan tahun 2025
DESCRIPTION:
URL:https://ngemplak.slemankab.go.id/event/seminar-pengelolaan-spam-perdesaan-tahun-2025-3/
LOCATION:Ruang Rapat lantai III Setda Sleman
CATEGORIES:agenda_kegiatan
END:VEVENT
END:VCALENDAR