BEGIN:VCALENDAR
VERSION:2.0
PRODID:-//WEBSITE RESMI KAPANEWON NGEMPLAK - ECPv6.15.8//NONSGML v1.0//EN
CALSCALE:GREGORIAN
METHOD:PUBLISH
X-ORIGINAL-URL:https://ngemplak.slemankab.go.id
X-WR-CALDESC:Events for WEBSITE RESMI KAPANEWON NGEMPLAK
REFRESH-INTERVAL;VALUE=DURATION:PT1H
X-Robots-Tag:noindex
X-PUBLISHED-TTL:PT1H
BEGIN:VTIMEZONE
TZID:Asia/Krasnoyarsk
BEGIN:STANDARD
TZOFFSETFROM:+0700
TZOFFSETTO:+0700
TZNAME:+07
DTSTART:20230101T000000
END:STANDARD
END:VTIMEZONE
BEGIN:VEVENT
DTSTART;TZID=Asia/Krasnoyarsk:20241130T190000
DTEND;TZID=Asia/Krasnoyarsk:20241130T220000
DTSTAMP:20260424T020757
CREATED:20241205T073045Z
LAST-MODIFIED:20241205T073045Z
UID:23151-1732993200-1733004000@ngemplak.slemankab.go.id
SUMMARY:Penyerahan Hibah Gamelan Dan Alat Musik Kab Sleman Tahun 2024
DESCRIPTION:
URL:https://ngemplak.slemankab.go.id/event/penyerahan-hibah-gamelan-dan-alat-musik-kab-sleman-tahun-2024/
LOCATION:Balai RW 23 Panggungsari\, Sariharjo\, Ngaglik
CATEGORIES:agenda_kegiatan
END:VEVENT
BEGIN:VEVENT
DTSTART;TZID=Asia/Krasnoyarsk:20241130T190000
DTEND;TZID=Asia/Krasnoyarsk:20241130T230000
DTSTAMP:20260424T020757
CREATED:20241205T072911Z
LAST-MODIFIED:20241205T072911Z
UID:23148-1732993200-1733007600@ngemplak.slemankab.go.id
SUMMARY:Jambusari Bersholawat
DESCRIPTION:
URL:https://ngemplak.slemankab.go.id/event/jambusari-bersholawat/
LOCATION:Jl Jambusari Raya\, Wedomartani
CATEGORIES:agenda_kegiatan
END:VEVENT
BEGIN:VEVENT
DTSTART;TZID=Asia/Krasnoyarsk:20241202T120000
DTEND;TZID=Asia/Krasnoyarsk:20241202T150000
DTSTAMP:20260424T020757
CREATED:20241205T073148Z
LAST-MODIFIED:20241205T073148Z
UID:23154-1733140800-1733151600@ngemplak.slemankab.go.id
SUMMARY:Resepsi Puncak Acara HUT KE 53 KORPRI Tahun 2024
DESCRIPTION:
URL:https://ngemplak.slemankab.go.id/event/resepsi-puncak-acara-hut-ke-53-korpri-tahun-2024/
LOCATION:Pendopo Rumah Dimnas Bupati
CATEGORIES:agenda_kegiatan
END:VEVENT
BEGIN:VEVENT
DTSTART;TZID=Asia/Krasnoyarsk:20241202T133000
DTEND;TZID=Asia/Krasnoyarsk:20241202T143000
DTSTAMP:20260424T020757
CREATED:20241205T073253Z
LAST-MODIFIED:20241205T073253Z
UID:23157-1733146200-1733149800@ngemplak.slemankab.go.id
SUMMARY:Rakor Keuangan Dengan Bank BPD
DESCRIPTION:
URL:https://ngemplak.slemankab.go.id/event/rakor-keuangan-dengan-bank-bpd/
LOCATION:Kantor Bank BPD Cab Sleman\, Lt.2
CATEGORIES:agenda_kegiatan
END:VEVENT
BEGIN:VEVENT
DTSTART;TZID=Asia/Krasnoyarsk:20241203T073000
DTEND;TZID=Asia/Krasnoyarsk:20241203T113000
DTSTAMP:20260424T020757
CREATED:20241205T073413Z
LAST-MODIFIED:20241205T073413Z
UID:23160-1733211000-1733225400@ngemplak.slemankab.go.id
SUMMARY:Penyaluran Bantuan Beras CPP
DESCRIPTION:
URL:https://ngemplak.slemankab.go.id/event/penyaluran-bantuan-beras-cpp/
LOCATION:Kalurahan Bimomartani
CATEGORIES:agenda_kegiatan
END:VEVENT
BEGIN:VEVENT
DTSTART;TZID=Asia/Krasnoyarsk:20241203T083000
DTEND;TZID=Asia/Krasnoyarsk:20241203T110000
DTSTAMP:20260424T020757
CREATED:20241205T073516Z
LAST-MODIFIED:20241205T073516Z
UID:23162-1733214600-1733223600@ngemplak.slemankab.go.id
SUMMARY:"Rapat Koordinasi Stunting                                                      1. Evaluasi Audit Kasus stunting Kabupaten Sleman                                                                   2. Pembahasan Rencana Aksi Daerah dalam Penanganan Stunting di Kabupaten Sleman"
DESCRIPTION:
URL:https://ngemplak.slemankab.go.id/event/rapat-koordinasi-stunting-1-evaluasi-audit-kasus-stunting-kabupaten-sleman-2/
LOCATION:Crystal Grand Ballroom\, Crystal Lotus Hotel
CATEGORIES:agenda_kegiatan
END:VEVENT
BEGIN:VEVENT
DTSTART;TZID=Asia/Krasnoyarsk:20241203T083000
DTEND;TZID=Asia/Krasnoyarsk:20241203T120000
DTSTAMP:20260424T020757
CREATED:20241205T073613Z
LAST-MODIFIED:20241205T073613Z
UID:23164-1733214600-1733227200@ngemplak.slemankab.go.id
SUMMARY:Penjaringan Masukan Rancangan Peraturan Bupati Tentang Standar Pelayanan\, Standar Operasional Prosedur\, dan Survei Kepuasan Masyarakat Kalurahan
DESCRIPTION:
URL:https://ngemplak.slemankab.go.id/event/penjaringan-masukan-rancangan-peraturan-bupati-tentang-standar-pelayanan-standar-operasional-prosedur-dan-survei-kepuasan-masyarakat-kalurahan/
LOCATION:Op Room Dinas PMK Sleman
CATEGORIES:agenda_kegiatan
END:VEVENT
BEGIN:VEVENT
DTSTART;TZID=Asia/Krasnoyarsk:20241203T090000
DTEND;TZID=Asia/Krasnoyarsk:20241203T120000
DTSTAMP:20260424T020757
CREATED:20241205T073705Z
LAST-MODIFIED:20241205T073705Z
UID:23166-1733216400-1733227200@ngemplak.slemankab.go.id
SUMMARY:Rapat Kerja Forum Komunikasi Penyelenggaraan Pemerintahan Kalurahan/Kelurahan dan Kapanewon/Kemantren “Penguatan Kapanewon dalam Pelaksanaan RB Kalurahan”
DESCRIPTION:
URL:https://ngemplak.slemankab.go.id/event/rapat-kerja-forum-komunikasi-penyelenggaraan-pemerintahan-kalurahan-kelurahan-dan-kapanewon-kemantren-penguatan-kapanewon-dalam-pelaksanaan-rb-kalurahan/
LOCATION:R Abimanyu\, Grage Bussines Hotel Yogyakarta Jl. Sosrowijayan No.242\, Gedong Tengen
CATEGORIES:agenda_kegiatan
END:VEVENT
BEGIN:VEVENT
DTSTART;TZID=Asia/Krasnoyarsk:20241204T090000
DTEND;TZID=Asia/Krasnoyarsk:20241204T110000
DTSTAMP:20260424T020757
CREATED:20241205T073831Z
LAST-MODIFIED:20241205T073831Z
UID:23169-1733302800-1733310000@ngemplak.slemankab.go.id
SUMMARY:Pertemuan Rutin Rois Kalurahan Bimomartani
DESCRIPTION:
URL:https://ngemplak.slemankab.go.id/event/pertemuan-rutin-rois-kalurahan-bimomartani/
LOCATION:Rumah Bapak Ahmad Nariyi                  ( Macanan)
CATEGORIES:agenda_kegiatan
END:VEVENT
BEGIN:VEVENT
DTSTART;TZID=Asia/Krasnoyarsk:20241204T090000
DTEND;TZID=Asia/Krasnoyarsk:20241204T110000
DTSTAMP:20260424T020757
CREATED:20241205T073924Z
LAST-MODIFIED:20241205T073924Z
UID:23172-1733302800-1733310000@ngemplak.slemankab.go.id
SUMMARY:Pertemuan Evaluasi Kegiatan Posyandu Bersama Linsek
DESCRIPTION:
URL:https://ngemplak.slemankab.go.id/event/pertemuan-evaluasi-kegiatan-posyandu-bersama-linsek/
LOCATION:Aula Puskesmas Ngemplak 1
CATEGORIES:agenda_kegiatan
END:VEVENT
BEGIN:VEVENT
DTSTART;TZID=Asia/Krasnoyarsk:20241204T090000
DTEND;TZID=Asia/Krasnoyarsk:20241204T110000
DTSTAMP:20260424T020757
CREATED:20241205T074019Z
LAST-MODIFIED:20241205T074019Z
UID:23174-1733302800-1733310000@ngemplak.slemankab.go.id
SUMMARY:Pemberian Bantuan Keuangan Kepada Korban Bencana Alam di Wilayah Kab Sleman
DESCRIPTION:
URL:https://ngemplak.slemankab.go.id/event/pemberian-bantuan-keuangan-kepada-korban-bencana-alam-di-wilayah-kab-sleman-2/
LOCATION:Op Room Dinas PMK
CATEGORIES:agenda_kegiatan
END:VEVENT
BEGIN:VEVENT
DTSTART;TZID=Asia/Krasnoyarsk:20241204T090000
DTEND;TZID=Asia/Krasnoyarsk:20241204T110000
DTSTAMP:20260424T020757
CREATED:20241205T074345Z
LAST-MODIFIED:20241205T074345Z
UID:23176-1733302800-1733310000@ngemplak.slemankab.go.id
SUMMARY:Rapat Kerja Forum Kewaspadaan Dini Masyarakat (FKDM) Kab Sleman
DESCRIPTION:
URL:https://ngemplak.slemankab.go.id/event/rapat-kerja-forum-kewaspadaan-dini-masyarakat-fkdm-kab-sleman/
LOCATION:Joglo Pagelaran Puri Mataram
CATEGORIES:agenda_kegiatan
END:VEVENT
BEGIN:VEVENT
DTSTART;TZID=Asia/Krasnoyarsk:20241204T090000
DTEND;TZID=Asia/Krasnoyarsk:20241204T110000
DTSTAMP:20260424T020757
CREATED:20241205T074454Z
LAST-MODIFIED:20241205T074454Z
UID:23179-1733302800-1733310000@ngemplak.slemankab.go.id
SUMMARY:Rapat Koordinasi Input Danais Tahun 2026 di Aplikasi Pangripta
DESCRIPTION:
URL:https://ngemplak.slemankab.go.id/event/rapat-koordinasi-input-danais-tahun-2026-di-aplikasi-pangripta/
LOCATION:Aula Pangripta Bappeda
CATEGORIES:agenda_kegiatan
END:VEVENT
BEGIN:VEVENT
DTSTART;TZID=Asia/Krasnoyarsk:20241204T093000
DTEND;TZID=Asia/Krasnoyarsk:20241204T120000
DTSTAMP:20260424T020757
CREATED:20241205T074600Z
LAST-MODIFIED:20241205T074600Z
UID:23181-1733304600-1733313600@ngemplak.slemankab.go.id
SUMMARY:Pembinaan Kearsipan
DESCRIPTION:
URL:https://ngemplak.slemankab.go.id/event/pembinaan-kearsipan-2/
LOCATION:Aula Kalurahan Sindumartani
CATEGORIES:agenda_kegiatan
END:VEVENT
BEGIN:VEVENT
DTSTART;TZID=Asia/Krasnoyarsk:20241204T093000
DTEND;TZID=Asia/Krasnoyarsk:20241204T120000
DTSTAMP:20260424T020757
CREATED:20241205T074649Z
LAST-MODIFIED:20241205T074649Z
UID:23183-1733304600-1733313600@ngemplak.slemankab.go.id
SUMMARY:Penjelasan Pengadaan PPPK Periode II Formasi Tahun 2024
DESCRIPTION:
URL:https://ngemplak.slemankab.go.id/event/penjelasan-pengadaan-pppk-periode-ii-formasi-tahun-2024/
LOCATION:R Bima Lt.3 BKPP Sleman
CATEGORIES:agenda_kegiatan
END:VEVENT
BEGIN:VEVENT
DTSTART;TZID=Asia/Krasnoyarsk:20241204T193000
DTEND;TZID=Asia/Krasnoyarsk:20241204T220000
DTSTAMP:20260424T020757
CREATED:20241205T074756Z
LAST-MODIFIED:20241205T074756Z
UID:23185-1733340600-1733349600@ngemplak.slemankab.go.id
SUMMARY:Pembinaan Kelompok Jaga Warga Kalurahan Widodomartani
DESCRIPTION:
URL:https://ngemplak.slemankab.go.id/event/pembinaan-kelompok-jaga-warga-kalurahan-widodomartani/
LOCATION:Balai Kalurahan Widodomartani
CATEGORIES:agenda_kegiatan
END:VEVENT
BEGIN:VEVENT
DTSTART;TZID=Asia/Krasnoyarsk:20241205T083000
DTEND;TZID=Asia/Krasnoyarsk:20241205T110000
DTSTAMP:20260424T020757
CREATED:20241205T075025Z
LAST-MODIFIED:20241205T075025Z
UID:23187-1733387400-1733396400@ngemplak.slemankab.go.id
SUMMARY:Pertemuan Lintas Sektoral Membahas Evaluasi BIAS Tahap 1 dan 2\, Evaluasi Imunisasi Tahun 2024\, Persiapan Imunisasi Kejar HPV
DESCRIPTION:
URL:https://ngemplak.slemankab.go.id/event/pertemuan-lintas-sektoral-membahas-evaluasi-bias-tahap-1-dan-2-evaluasi-imunisasi-tahun-2024-persiapan-imunisasi-kejar-hpv/
LOCATION:Aula Puskesmas Ngemplak I
END:VEVENT
BEGIN:VEVENT
DTSTART;TZID=Asia/Krasnoyarsk:20241205T090000
DTEND;TZID=Asia/Krasnoyarsk:20241205T120000
DTSTAMP:20260424T020757
CREATED:20241205T075126Z
LAST-MODIFIED:20241205T075126Z
UID:23189-1733389200-1733400000@ngemplak.slemankab.go.id
SUMMARY:Rapat Koordinasi Pembahasan Tanah Kas Kalurahan yang Digunakan Oleh Pemkab Sleman
DESCRIPTION:
URL:https://ngemplak.slemankab.go.id/event/rapat-koordinasi-pembahasan-tanah-kas-kalurahan-yang-digunakan-oleh-pemkab-sleman/
LOCATION:Aula Lt.3 Setda Sleman
CATEGORIES:agenda_kegiatan
END:VEVENT
BEGIN:VEVENT
DTSTART;TZID=Asia/Krasnoyarsk:20241206T080000
DTEND;TZID=Asia/Krasnoyarsk:20241206T100000
DTSTAMP:20260424T020757
CREATED:20241205T075414Z
LAST-MODIFIED:20241205T075414Z
UID:23191-1733472000-1733479200@ngemplak.slemankab.go.id
SUMMARY:Pembinaan Rohani
DESCRIPTION:
URL:https://ngemplak.slemankab.go.id/event/pembinaan-rohani-7/
LOCATION:Pendopo Kapanewon Ngemplak
CATEGORIES:agenda_kegiatan
END:VEVENT
BEGIN:VEVENT
DTSTART;TZID=Asia/Krasnoyarsk:20241206T110000
DTEND;TZID=Asia/Krasnoyarsk:20241206T130000
DTSTAMP:20260424T020757
CREATED:20241205T075507Z
LAST-MODIFIED:20241205T075507Z
UID:23193-1733482800-1733490000@ngemplak.slemankab.go.id
SUMMARY:Safari Jum'at Pemerintah Kab Sleman Tahun 2024
DESCRIPTION:
URL:https://ngemplak.slemankab.go.id/event/safari-jumat-pemerintah-kab-sleman-tahun-2024/
LOCATION:Masjid At Taqwa\, Kejambon Lor\, Sindumartani
CATEGORIES:agenda_kegiatan
END:VEVENT
BEGIN:VEVENT
DTSTART;TZID=Asia/Krasnoyarsk:20241206T130000
DTEND;TZID=Asia/Krasnoyarsk:20241206T150000
DTSTAMP:20260424T020757
CREATED:20241205T075606Z
LAST-MODIFIED:20241205T075606Z
UID:23196-1733490000-1733497200@ngemplak.slemankab.go.id
SUMMARY:Muskal Laporan Pertanggungjawaban BUMKal
DESCRIPTION:
URL:https://ngemplak.slemankab.go.id/event/muskal-laporan-pertanggungjawaban-bumkal-2/
LOCATION:Kalurahan Bimomartani
CATEGORIES:agenda_kegiatan
END:VEVENT
BEGIN:VEVENT
DTSTART;TZID=Asia/Krasnoyarsk:20241208T053000
DTEND;TZID=Asia/Krasnoyarsk:20241208T093000
DTSTAMP:20260424T020757
CREATED:20241205T075705Z
LAST-MODIFIED:20241205T075705Z
UID:23198-1733635800-1733650200@ngemplak.slemankab.go.id
SUMMARY:Joglo Bakso Pikul Run 2024 (Starting Flag dilanjut Ramah Tamah)
DESCRIPTION:
URL:https://ngemplak.slemankab.go.id/event/joglo-bakso-pikul-run-2024-starting-flag-dilanjut-ramah-tamah/
LOCATION:Joglo Bakso Pikul Enak\, Banglen
CATEGORIES:agenda_kegiatan
END:VEVENT
BEGIN:VEVENT
DTSTART;TZID=Asia/Krasnoyarsk:20241209T080000
DTEND;TZID=Asia/Krasnoyarsk:20241209T110000
DTSTAMP:20260424T020757
CREATED:20241205T075807Z
LAST-MODIFIED:20241205T075807Z
UID:23201-1733731200-1733742000@ngemplak.slemankab.go.id
SUMMARY:Pelatihan PKD Berbasis Learning Management System DIY Tahun 2024
DESCRIPTION:
URL:https://ngemplak.slemankab.go.id/event/pelatihan-pkd-berbasis-learning-management-system-diy-tahun-2024/
LOCATION:Zoom meeting
CATEGORIES:agenda_kegiatan
END:VEVENT
BEGIN:VEVENT
DTSTART;TZID=Asia/Krasnoyarsk:20241209T100000
DTEND;TZID=Asia/Krasnoyarsk:20241209T120000
DTSTAMP:20260424T020757
CREATED:20241205T075859Z
LAST-MODIFIED:20241210T073229Z
UID:23203-1733738400-1733745600@ngemplak.slemankab.go.id
SUMMARY:Pembinaan Arsip Kalurahan
DESCRIPTION:
URL:https://ngemplak.slemankab.go.id/event/pembinaan-arsip-kalurahan-3/
LOCATION:Aula Balai Kalurahan Umbulmartani Ngemplak
CATEGORIES:agenda_kegiatan
END:VEVENT
BEGIN:VEVENT
DTSTART;TZID=Asia/Krasnoyarsk:20241210T100000
DTEND;TZID=Asia/Krasnoyarsk:20241210T120000
DTSTAMP:20260424T020757
CREATED:20241210T073638Z
LAST-MODIFIED:20241210T073638Z
UID:23208-1733824800-1733832000@ngemplak.slemankab.go.id
SUMMARY:Sosialisasi Draft Kamus Pokir dan PUPM Tahun 2026
DESCRIPTION:
URL:https://ngemplak.slemankab.go.id/event/sosialisasi-draft-kamus-pokir-dan-pupm-tahun-2026/
LOCATION:Aula Pangripta Bappeda Sleman
CATEGORIES:agenda_kegiatan
END:VEVENT
BEGIN:VEVENT
DTSTART;TZID=Asia/Krasnoyarsk:20241210T130000
DTEND;TZID=Asia/Krasnoyarsk:20241210T140000
DTSTAMP:20260424T020757
CREATED:20241210T073510Z
LAST-MODIFIED:20241210T073510Z
UID:23206-1733835600-1733839200@ngemplak.slemankab.go.id
SUMMARY:Kunjungan Studi Tiru Dari Kecamatan Pringsurat Kab Semarang
DESCRIPTION:
URL:https://ngemplak.slemankab.go.id/event/kunjungan-studi-tiru-dari-kecamatan-pringsurat-kab-semarang/
LOCATION:Ruang Panewu Ngemplak
CATEGORIES:agenda_kegiatan
END:VEVENT
BEGIN:VEVENT
DTSTART;TZID=Asia/Krasnoyarsk:20241211T080000
DTEND;TZID=Asia/Krasnoyarsk:20241213T170000
DTSTAMP:20260424T020757
CREATED:20241210T074138Z
LAST-MODIFIED:20241210T074138Z
UID:23210-1733904000-1734109200@ngemplak.slemankab.go.id
SUMMARY:FGD Evaluasi Usulan Penyesuaian Program\, Kegiatan dan Sub Kegiatan Danais TA 2025
DESCRIPTION:
URL:https://ngemplak.slemankab.go.id/event/fgd-evaluasi-usulan-penyesuaian-program-kegiatan-dan-sub-kegiatan-danais-ta-2025/
LOCATION:Daring
CATEGORIES:agenda_kegiatan
END:VEVENT
BEGIN:VEVENT
DTSTART;TZID=Asia/Krasnoyarsk:20241211T083000
DTEND;TZID=Asia/Krasnoyarsk:20241211T110000
DTSTAMP:20260424T020757
CREATED:20241210T083335Z
LAST-MODIFIED:20241210T083335Z
UID:23213-1733905800-1733914800@ngemplak.slemankab.go.id
SUMMARY:Pembinaan Adminduk
DESCRIPTION:
URL:https://ngemplak.slemankab.go.id/event/pembinaan-adminduk/
LOCATION:Kalurahan Widodomartani
CATEGORIES:agenda_kegiatan
END:VEVENT
BEGIN:VEVENT
DTSTART;TZID=Asia/Krasnoyarsk:20241211T083000
DTEND;TZID=Asia/Krasnoyarsk:20241211T110000
DTSTAMP:20260424T020757
CREATED:20241210T083537Z
LAST-MODIFIED:20241210T083537Z
UID:23215-1733905800-1733914800@ngemplak.slemankab.go.id
SUMMARY:Pembinaan LPMKal Kalurahan Dan Padukuhan Wedomartani
DESCRIPTION:
URL:https://ngemplak.slemankab.go.id/event/pembinaan-lpmkal-kalurahan-dan-padukuhan-wedomartani/
LOCATION:Kalurahan Wedomartani
CATEGORIES:agenda_kegiatan
END:VEVENT
BEGIN:VEVENT
DTSTART;TZID=Asia/Krasnoyarsk:20241211T090000
DTEND;TZID=Asia/Krasnoyarsk:20241211T110000
DTSTAMP:20260424T020757
CREATED:20241210T083643Z
LAST-MODIFIED:20241210T083643Z
UID:23217-1733907600-1733914800@ngemplak.slemankab.go.id
SUMMARY:Sosialisasi Tata Cara Penyelesaian Aduan Lingkungan Hidup Pada Tingkat Pemangku Wilayah (Kapanewon dan Kalurahan)
DESCRIPTION:
URL:https://ngemplak.slemankab.go.id/event/sosialisasi-tata-cara-penyelesaian-aduan-lingkungan-hidup-pada-tingkat-pemangku-wilayah-kapanewon-dan-kalurahan/
LOCATION:Kenes Bakery\, Jl Magelang KM.5\,5
CATEGORIES:agenda_kegiatan
END:VEVENT
END:VCALENDAR