BEGIN:VCALENDAR
VERSION:2.0
PRODID:-//WEBSITE RESMI KAPANEWON NGEMPLAK - ECPv6.15.8//NONSGML v1.0//EN
CALSCALE:GREGORIAN
METHOD:PUBLISH
X-ORIGINAL-URL:https://ngemplak.slemankab.go.id
X-WR-CALDESC:Events for WEBSITE RESMI KAPANEWON NGEMPLAK
REFRESH-INTERVAL;VALUE=DURATION:PT1H
X-Robots-Tag:noindex
X-PUBLISHED-TTL:PT1H
BEGIN:VTIMEZONE
TZID:Asia/Krasnoyarsk
BEGIN:STANDARD
TZOFFSETFROM:+0700
TZOFFSETTO:+0700
TZNAME:+07
DTSTART:20240101T000000
END:STANDARD
END:VTIMEZONE
BEGIN:VEVENT
DTSTART;TZID=Asia/Krasnoyarsk:20250422T083000
DTEND;TZID=Asia/Krasnoyarsk:20250422T110000
DTSTAMP:20260425T184707
CREATED:20250505T031915Z
LAST-MODIFIED:20250505T031915Z
UID:24052-1745310600-1745319600@ngemplak.slemankab.go.id
SUMMARY:Workshop danSosialisasi Pekerjaan Perbaikan Rumah Tidak Layak Huni Dana APBD Tahun 2025
DESCRIPTION:
URL:https://ngemplak.slemankab.go.id/event/workshop-dansosialisasi-pekerjaan-perbaikan-rumah-tidak-layak-huni-dana-apbd-tahun-2025/
LOCATION:Griya Persada Convention Hotel and Resort
CATEGORIES:agenda_kegiatan
END:VEVENT
BEGIN:VEVENT
DTSTART;TZID=Asia/Krasnoyarsk:20250422T090000
DTEND;TZID=Asia/Krasnoyarsk:20250422T110000
DTSTAMP:20260425T184707
CREATED:20250505T032216Z
LAST-MODIFIED:20250505T032216Z
UID:24057-1745312400-1745319600@ngemplak.slemankab.go.id
SUMMARY:FGD Perumusan Isu Prioritas Lingkungan Hidup Daerah (DIKPLHD) Tahun 2024
DESCRIPTION:
URL:https://ngemplak.slemankab.go.id/event/fgd-perumusan-isu-prioritas-lingkungan-hidup-daerah-dikplhd-tahun-2024/
LOCATION:R Merbabu Prima SR Hotel
CATEGORIES:agenda_kegiatan
END:VEVENT
BEGIN:VEVENT
DTSTART;TZID=Asia/Krasnoyarsk:20250422T090000
DTEND;TZID=Asia/Krasnoyarsk:20250422T110000
DTSTAMP:20260425T184707
CREATED:20250505T032336Z
LAST-MODIFIED:20250505T032336Z
UID:24059-1745312400-1745319600@ngemplak.slemankab.go.id
SUMMARY:Forum Budaya
DESCRIPTION:
URL:https://ngemplak.slemankab.go.id/event/forum-budaya-8/
LOCATION:Pendopo Kapanewon Ngemplak
CATEGORIES:agenda_kegiatan
END:VEVENT
BEGIN:VEVENT
DTSTART;TZID=Asia/Krasnoyarsk:20250422T090000
DTEND;TZID=Asia/Krasnoyarsk:20250422T110000
DTSTAMP:20260425T184707
CREATED:20250505T032451Z
LAST-MODIFIED:20250505T032451Z
UID:24061-1745312400-1745319600@ngemplak.slemankab.go.id
SUMMARY:Sosialisasi Peran BUM Desa dan BUM Desa Bersama sebagai Penyedia bagi Satuan Pelayanan Pemenuhan Gizi (SPPG) dalam Program Makan Bergizi Gratis
DESCRIPTION:
URL:https://ngemplak.slemankab.go.id/event/sosialisasi-peran-bum-desa-dan-bum-desa-bersama-sebagai-penyedia-bagi-satuan-pelayanan-pemenuhan-gizi-sppg-dalam-program-makan-bergizi-gratis/
LOCATION:Zoom Meet
CATEGORIES:agenda_kegiatan
END:VEVENT
BEGIN:VEVENT
DTSTART;TZID=Asia/Krasnoyarsk:20250422T090000
DTEND;TZID=Asia/Krasnoyarsk:20250422T113000
DTSTAMP:20260425T184707
CREATED:20250505T032102Z
LAST-MODIFIED:20250505T032102Z
UID:24055-1745312400-1745321400@ngemplak.slemankab.go.id
SUMMARY:Peringatan Hari Jadi Ke 77 Kalurahan Widodomartani (Pakaian Adat Jawa)
DESCRIPTION:
URL:https://ngemplak.slemankab.go.id/event/peringatan-hari-jadi-ke-77-kalurahan-widodomartani-pakaian-adat-jawa/
LOCATION:Balai Kalurahan Widodomartani
CATEGORIES:agenda_kegiatan
END:VEVENT
BEGIN:VEVENT
DTSTART;TZID=Asia/Krasnoyarsk:20250422T130000
DTEND;TZID=Asia/Krasnoyarsk:20250422T150000
DTSTAMP:20260425T184707
CREATED:20250505T032554Z
LAST-MODIFIED:20250505T032554Z
UID:24063-1745326800-1745334000@ngemplak.slemankab.go.id
SUMMARY:Paguyuban Panewu Kab Sleman
DESCRIPTION:
URL:https://ngemplak.slemankab.go.id/event/paguyuban-panewu-kab-sleman-2/
LOCATION:Kapanewon Sleman
CATEGORIES:agenda_kegiatan
END:VEVENT
BEGIN:VEVENT
DTSTART;TZID=Asia/Krasnoyarsk:20250422T193000
DTEND;TZID=Asia/Krasnoyarsk:20250422T220000
DTSTAMP:20260425T184707
CREATED:20250505T032833Z
LAST-MODIFIED:20250505T032833Z
UID:24065-1745350200-1745359200@ngemplak.slemankab.go.id
SUMMARY:Pembinaan Karangtaruna
DESCRIPTION:
URL:https://ngemplak.slemankab.go.id/event/pembinaan-karangtaruna/
LOCATION:Balai Kal Bimomartani
CATEGORIES:agenda_kegiatan
END:VEVENT
BEGIN:VEVENT
DTSTART;TZID=Asia/Krasnoyarsk:20250423T080000
DTEND;TZID=Asia/Krasnoyarsk:20250423T103000
DTSTAMP:20260425T184707
CREATED:20250505T032930Z
LAST-MODIFIED:20250505T032930Z
UID:24067-1745395200-1745404200@ngemplak.slemankab.go.id
SUMMARY:Penyusunan Renstra Kapanewon Tahun 2025-2029
DESCRIPTION:
URL:https://ngemplak.slemankab.go.id/event/penyusunan-renstra-kapanewon-tahun-2025-2029/
LOCATION:Warung Eyup\, Bedoyo Wukirsari
CATEGORIES:agenda_kegiatan
END:VEVENT
BEGIN:VEVENT
DTSTART;TZID=Asia/Krasnoyarsk:20250423T083000
DTEND;TZID=Asia/Krasnoyarsk:20250423T110000
DTSTAMP:20260425T184707
CREATED:20250505T033026Z
LAST-MODIFIED:20250505T033026Z
UID:24070-1745397000-1745406000@ngemplak.slemankab.go.id
SUMMARY:Musyawarah KORMI Kab Sleman Tahun 2025
DESCRIPTION:
URL:https://ngemplak.slemankab.go.id/event/musyawarah-kormi-kab-sleman-tahun-2025/
LOCATION:Ruang Ayodya\, Griya Persada Convention & Resort Kaliurang
CATEGORIES:agenda_kegiatan
END:VEVENT
BEGIN:VEVENT
DTSTART;TZID=Asia/Krasnoyarsk:20250423T083000
DTEND;TZID=Asia/Krasnoyarsk:20250423T110000
DTSTAMP:20260425T184707
CREATED:20250505T033115Z
LAST-MODIFIED:20250505T033115Z
UID:24073-1745397000-1745406000@ngemplak.slemankab.go.id
SUMMARY:Bimtek Berusaha Berbasis Risiko Bagi Pelaku Usaha Mikro Kecil Perseorangan Dilanjutkan dengan Pendampingan Pembuatan NIB
DESCRIPTION:
URL:https://ngemplak.slemankab.go.id/event/bimtek-berusaha-berbasis-risiko-bagi-pelaku-usaha-mikro-kecil-perseorangan-dilanjutkan-dengan-pendampingan-pembuatan-nib/
LOCATION:Kalurahan Widodomartani
CATEGORIES:agenda_kegiatan
END:VEVENT
BEGIN:VEVENT
DTSTART;TZID=Asia/Krasnoyarsk:20250423T090000
DTEND;TZID=Asia/Krasnoyarsk:20250423T110000
DTSTAMP:20260425T184707
CREATED:20250505T033221Z
LAST-MODIFIED:20250505T033221Z
UID:24075-1745398800-1745406000@ngemplak.slemankab.go.id
SUMMARY:Rapat Koordinasi Reformasi Birokrasi
DESCRIPTION:
URL:https://ngemplak.slemankab.go.id/event/rapat-koordinasi-reformasi-birokrasi-2/
LOCATION:Rumah Dinas Panewu
CATEGORIES:agenda_kegiatan
END:VEVENT
BEGIN:VEVENT
DTSTART;TZID=Asia/Krasnoyarsk:20250423T090000
DTEND;TZID=Asia/Krasnoyarsk:20250423T110000
DTSTAMP:20260425T184707
CREATED:20250505T033312Z
LAST-MODIFIED:20250505T033312Z
UID:24077-1745398800-1745406000@ngemplak.slemankab.go.id
SUMMARY:Sosialisasi Penyelenggaraan Adminduk
DESCRIPTION:
URL:https://ngemplak.slemankab.go.id/event/sosialisasi-penyelenggaraan-adminduk-2/
LOCATION:Balai Kalurahan Sindumartani
CATEGORIES:agenda_kegiatan
END:VEVENT
BEGIN:VEVENT
DTSTART;TZID=Asia/Krasnoyarsk:20250423T090000
DTEND;TZID=Asia/Krasnoyarsk:20250423T110000
DTSTAMP:20260425T184707
CREATED:20250505T033454Z
LAST-MODIFIED:20250505T033454Z
UID:24079-1745398800-1745406000@ngemplak.slemankab.go.id
SUMMARY:Rapat Koordinasi TPK
DESCRIPTION:
URL:https://ngemplak.slemankab.go.id/event/rapat-koordinasi-tpk-2/
LOCATION:Kalurahan Umbulmartani
CATEGORIES:agenda_kegiatan
END:VEVENT
BEGIN:VEVENT
DTSTART;TZID=Asia/Krasnoyarsk:20250423T110000
DTEND;TZID=Asia/Krasnoyarsk:20250423T130000
DTSTAMP:20260425T184707
CREATED:20250505T033612Z
LAST-MODIFIED:20250505T033612Z
UID:24081-1745406000-1745413200@ngemplak.slemankab.go.id
SUMMARY:Syawalan Dan Halal Bihalal Paguyuban Kepala Jawatan Umum Kapanewon
DESCRIPTION:
URL:https://ngemplak.slemankab.go.id/event/syawalan-dan-halal-bihalal-paguyuban-kepala-jawatan-umum-kapanewon/
LOCATION:Waroeng Pengkolan\, Tiyasan Condongcatur Depok Sleman
CATEGORIES:agenda_kegiatan
END:VEVENT
BEGIN:VEVENT
DTSTART;TZID=Asia/Krasnoyarsk:20250423T130000
DTEND;TZID=Asia/Krasnoyarsk:20250423T150000
DTSTAMP:20260425T184707
CREATED:20250505T033706Z
LAST-MODIFIED:20250505T033706Z
UID:24084-1745413200-1745420400@ngemplak.slemankab.go.id
SUMMARY:Rakor Persiapan Pelaksanaan Bakti Sosial dalam Rangka Peringatan HARI JADI KE 109 Kabupaten Sleman
DESCRIPTION:
URL:https://ngemplak.slemankab.go.id/event/rakor-persiapan-pelaksanaan-bakti-sosial-dalam-rangka-peringatan-hari-jadi-ke-109-kabupaten-sleman/
LOCATION:Kantor BAZNAS Kab Sleman
CATEGORIES:agenda_kegiatan
END:VEVENT
BEGIN:VEVENT
DTSTART;TZID=Asia/Krasnoyarsk:20250423T130000
DTEND;TZID=Asia/Krasnoyarsk:20250423T150000
DTSTAMP:20260425T184707
CREATED:20250505T033807Z
LAST-MODIFIED:20250514T064400Z
UID:24087-1745413200-1745420400@ngemplak.slemankab.go.id
SUMMARY:Rapat Limbah dan Sampah Mandiri
DESCRIPTION:
URL:https://ngemplak.slemankab.go.id/event/rapat-limbah-dan-sampah-mandiri/
LOCATION:Pendopo Kapanewon Ngemplak
CATEGORIES:agenda_kegiatan
END:VEVENT
BEGIN:VEVENT
DTSTART;TZID=Asia/Krasnoyarsk:20250423T200000
DTEND;TZID=Asia/Krasnoyarsk:20250423T220000
DTSTAMP:20260425T184707
CREATED:20250505T033917Z
LAST-MODIFIED:20250505T033917Z
UID:24089-1745438400-1745445600@ngemplak.slemankab.go.id
SUMMARY:Halal Bihalal MWC NU Ngemplak
DESCRIPTION:
URL:https://ngemplak.slemankab.go.id/event/halal-bihalal-mwc-nu-ngemplak/
LOCATION:Halaman SD Model Sleman\, Wedomartani
CATEGORIES:agenda_kegiatan
END:VEVENT
BEGIN:VEVENT
DTSTART;TZID=Asia/Krasnoyarsk:20250424T073000
DTEND;TZID=Asia/Krasnoyarsk:20250424T150000
DTSTAMP:20260425T184707
CREATED:20250505T034028Z
LAST-MODIFIED:20250505T034028Z
UID:24092-1745479800-1745506800@ngemplak.slemankab.go.id
SUMMARY:Penilaian Kompetensi ASN
DESCRIPTION:
URL:https://ngemplak.slemankab.go.id/event/penilaian-kompetensi-asn-2/
LOCATION:Ruang Rapat Bima Lantai 3 BKPP Kabupaten Sleman
CATEGORIES:agenda_kegiatan
END:VEVENT
BEGIN:VEVENT
DTSTART;TZID=Asia/Krasnoyarsk:20250424T080000
DTEND;TZID=Asia/Krasnoyarsk:20250424T110000
DTSTAMP:20260425T184707
CREATED:20250505T034057Z
LAST-MODIFIED:20250505T034057Z
UID:24094-1745481600-1745492400@ngemplak.slemankab.go.id
SUMMARY:Rapat Monitoring dan Evaluasi KelembagaanPerangkat Daerah
DESCRIPTION:
URL:https://ngemplak.slemankab.go.id/event/rapat-monitoring-dan-evaluasi-kelembagaanperangkat-daerah/
LOCATION:RR Sembada Setda Sleman
CATEGORIES:agenda_kegiatan
END:VEVENT
BEGIN:VEVENT
DTSTART;TZID=Asia/Krasnoyarsk:20250424T090000
DTEND;TZID=Asia/Krasnoyarsk:20250424T110000
DTSTAMP:20260425T184707
CREATED:20250505T034304Z
LAST-MODIFIED:20250505T034304Z
UID:24096-1745485200-1745492400@ngemplak.slemankab.go.id
SUMMARY:Pembinaan Pengawasan Pemanfaatan Tanah Kalurahan
DESCRIPTION:
URL:https://ngemplak.slemankab.go.id/event/pembinaan-pengawasan-pemanfaatan-tanah-kalurahan/
LOCATION:Pendopo Kapanewon Ngemplak
CATEGORIES:agenda_kegiatan
END:VEVENT
BEGIN:VEVENT
DTSTART;TZID=Asia/Krasnoyarsk:20250424T090000
DTEND;TZID=Asia/Krasnoyarsk:20250424T110000
DTSTAMP:20260425T184707
CREATED:20250505T034351Z
LAST-MODIFIED:20250505T034351Z
UID:24098-1745485200-1745492400@ngemplak.slemankab.go.id
SUMMARY:Koor Penyusunan Renstra Tahun 2025-2029 Kapanewon
DESCRIPTION:
URL:https://ngemplak.slemankab.go.id/event/koor-penyusunan-renstra-tahun-2025-2029-kapanewon/
LOCATION:RR Kinanti Bappeda
CATEGORIES:agenda_kegiatan
END:VEVENT
BEGIN:VEVENT
DTSTART;TZID=Asia/Krasnoyarsk:20250424T090000
DTEND;TZID=Asia/Krasnoyarsk:20250424T110000
DTSTAMP:20260425T184707
CREATED:20250505T034458Z
LAST-MODIFIED:20250505T034458Z
UID:24101-1745485200-1745492400@ngemplak.slemankab.go.id
SUMMARY:Rakor Membahan Data Pelaku Usaha Minuman Beralkohol Tidak Berizin di Kabupaten Sleman
DESCRIPTION:
URL:https://ngemplak.slemankab.go.id/event/rakor-membahan-data-pelaku-usaha-minuman-beralkohol-tidak-berizin-di-kabupaten-sleman/
LOCATION:RR Paramadhana Disperindag
CATEGORIES:agenda_kegiatan
END:VEVENT
BEGIN:VEVENT
DTSTART;TZID=Asia/Krasnoyarsk:20250424T090000
DTEND;TZID=Asia/Krasnoyarsk:20250424T110000
DTSTAMP:20260425T184707
CREATED:20250505T034548Z
LAST-MODIFIED:20250505T034548Z
UID:24104-1745485200-1745492400@ngemplak.slemankab.go.id
SUMMARY:Sosialisasi Kapanewon - Pembinaan dan Lomba SPAM Perdesaan Tahun 2025
DESCRIPTION:
URL:https://ngemplak.slemankab.go.id/event/sosialisasi-kapanewon-pembinaan-dan-lomba-spam-perdesaan-tahun-2025/
LOCATION:RR Aula Sasana Bakti\, Dinas PUPKP Sleman
CATEGORIES:agenda_kegiatan
END:VEVENT
BEGIN:VEVENT
DTSTART;TZID=Asia/Krasnoyarsk:20250425T073000
DTEND;TZID=Asia/Krasnoyarsk:20250425T080000
DTSTAMP:20260425T184707
CREATED:20250505T034850Z
LAST-MODIFIED:20250505T034850Z
UID:24107-1745566200-1745568000@ngemplak.slemankab.go.id
SUMMARY:Upacara Peringatan Hari Kartini dan Otonomi Daerah (Pakaian KORPRI)
DESCRIPTION:
URL:https://ngemplak.slemankab.go.id/event/upacara-peringatan-hari-kartini-dan-otonomi-daerah-pakaian-korpri/
LOCATION:Halaman Kap Ngemplak
CATEGORIES:agenda_kegiatan
END:VEVENT
BEGIN:VEVENT
DTSTART;TZID=Asia/Krasnoyarsk:20250425T080000
DTEND;TZID=Asia/Krasnoyarsk:20250425T110000
DTSTAMP:20260425T184707
CREATED:20250505T035029Z
LAST-MODIFIED:20250505T035029Z
UID:24109-1745568000-1745578800@ngemplak.slemankab.go.id
SUMMARY:Pertemuan Rutin dan Syawalan Forum Komunikasi Arsiparis (FKA) Kab Sleman
DESCRIPTION:
URL:https://ngemplak.slemankab.go.id/event/pertemuan-rutin-dan-syawalan-forum-komunikasi-arsiparis-fka-kab-sleman/
LOCATION:Bebek Pondok Galih\, Ngaglik Sleman
CATEGORIES:agenda_kegiatan
END:VEVENT
BEGIN:VEVENT
DTSTART;TZID=Asia/Krasnoyarsk:20250425T090000
DTEND;TZID=Asia/Krasnoyarsk:20250425T110000
DTSTAMP:20260425T184707
CREATED:20250505T035206Z
LAST-MODIFIED:20250505T035206Z
UID:24112-1745571600-1745578800@ngemplak.slemankab.go.id
SUMMARY:Rapat Penanganan Permasalahan Pertanahan Tanah Kasultanan / Tanah Kalurahan
DESCRIPTION:
URL:https://ngemplak.slemankab.go.id/event/rapat-penanganan-permasalahan-pertanahan-tanah-kasultanan-tanah-kalurahan/
LOCATION:RR Mertibumi Dispertaru Sleman
CATEGORIES:agenda_kegiatan
END:VEVENT
BEGIN:VEVENT
DTSTART;TZID=Asia/Krasnoyarsk:20250425T133000
DTEND;TZID=Asia/Krasnoyarsk:20250425T150000
DTSTAMP:20260425T184707
CREATED:20250505T035524Z
LAST-MODIFIED:20250505T035524Z
UID:24114-1745587800-1745593200@ngemplak.slemankab.go.id
SUMMARY:Syawalan dan Pertemuan Kepala Jawatan Praja Kapanewon se Kab Sleman
DESCRIPTION:
URL:https://ngemplak.slemankab.go.id/event/syawalan-dan-pertemuan-kepala-jawatan-praja-kapanewon-se-kab-sleman/
LOCATION:RM Sendang Ayu\, Tirtomartani Kalasan
CATEGORIES:agenda_kegiatan
END:VEVENT
BEGIN:VEVENT
DTSTART;TZID=Asia/Krasnoyarsk:20250426T190000
DTEND;TZID=Asia/Krasnoyarsk:20250426T220000
DTSTAMP:20260425T184707
CREATED:20250505T040159Z
LAST-MODIFIED:20250505T040159Z
UID:24117-1745694000-1745704800@ngemplak.slemankab.go.id
SUMMARY:Tasyakuran Atas Terpilihnya Bupati Sleman dan Wakil Bupati Sleman dan Ruwatan Agung
DESCRIPTION:
URL:https://ngemplak.slemankab.go.id/event/tasyakuran-atas-terpilihnya-bupati-sleman-dan-wakil-bupati-sleman-dan-ruwatan-agung/
LOCATION:Rumah Bapak Romly Tambakan Sindumartani
CATEGORIES:agenda_kegiatan
END:VEVENT
BEGIN:VEVENT
DTSTART;TZID=Asia/Krasnoyarsk:20250427T083000
DTEND;TZID=Asia/Krasnoyarsk:20250427T100000
DTSTAMP:20260425T184707
CREATED:20250505T040338Z
LAST-MODIFIED:20250505T040338Z
UID:24120-1745742600-1745748000@ngemplak.slemankab.go.id
SUMMARY:Syawalan Pentasarufan danMangayubagya Haji
DESCRIPTION:
URL:https://ngemplak.slemankab.go.id/event/syawalan-pentasarufan-danmangayubagya-haji/
LOCATION:Balai Kalurahan Sindumartani
CATEGORIES:agenda_kegiatan
END:VEVENT
BEGIN:VEVENT
DTSTART;TZID=Asia/Krasnoyarsk:20250428T083000
DTEND;TZID=Asia/Krasnoyarsk:20250428T110000
DTSTAMP:20260425T184707
CREATED:20250505T040429Z
LAST-MODIFIED:20250505T040429Z
UID:24122-1745829000-1745838000@ngemplak.slemankab.go.id
SUMMARY:Evaluasi Rencana Umum Penanaman Modal Kab Sleman Tahun 2024
DESCRIPTION:
URL:https://ngemplak.slemankab.go.id/event/evaluasi-rencana-umum-penanaman-modal-kab-sleman-tahun-2024/
LOCATION:RR Sinom Lt.4 Gedung MPP Kab Sleman
CATEGORIES:agenda_kegiatan
END:VEVENT
END:VCALENDAR