BEGIN:VCALENDAR
VERSION:2.0
PRODID:-//WEBSITE RESMI KAPANEWON NGEMPLAK - ECPv6.15.8//NONSGML v1.0//EN
CALSCALE:GREGORIAN
METHOD:PUBLISH
X-WR-CALNAME:WEBSITE RESMI KAPANEWON NGEMPLAK
X-ORIGINAL-URL:https://ngemplak.slemankab.go.id
X-WR-CALDESC:Events for WEBSITE RESMI KAPANEWON NGEMPLAK
REFRESH-INTERVAL;VALUE=DURATION:PT1H
X-Robots-Tag:noindex
X-PUBLISHED-TTL:PT1H
BEGIN:VTIMEZONE
TZID:Asia/Krasnoyarsk
BEGIN:STANDARD
TZOFFSETFROM:+0700
TZOFFSETTO:+0700
TZNAME:+07
DTSTART:20240101T000000
END:STANDARD
END:VTIMEZONE
BEGIN:VEVENT
DTSTART;TZID=Asia/Krasnoyarsk:20250424T073000
DTEND;TZID=Asia/Krasnoyarsk:20250424T150000
DTSTAMP:20260425T223050
CREATED:20250505T034028Z
LAST-MODIFIED:20250505T034028Z
UID:24092-1745479800-1745506800@ngemplak.slemankab.go.id
SUMMARY:Penilaian Kompetensi ASN
DESCRIPTION:
URL:https://ngemplak.slemankab.go.id/event/penilaian-kompetensi-asn-2/
LOCATION:Ruang Rapat Bima Lantai 3 BKPP Kabupaten Sleman
CATEGORIES:agenda_kegiatan
END:VEVENT
BEGIN:VEVENT
DTSTART;TZID=Asia/Krasnoyarsk:20250424T080000
DTEND;TZID=Asia/Krasnoyarsk:20250424T110000
DTSTAMP:20260425T223050
CREATED:20250505T034057Z
LAST-MODIFIED:20250505T034057Z
UID:24094-1745481600-1745492400@ngemplak.slemankab.go.id
SUMMARY:Rapat Monitoring dan Evaluasi KelembagaanPerangkat Daerah
DESCRIPTION:
URL:https://ngemplak.slemankab.go.id/event/rapat-monitoring-dan-evaluasi-kelembagaanperangkat-daerah/
LOCATION:RR Sembada Setda Sleman
CATEGORIES:agenda_kegiatan
END:VEVENT
BEGIN:VEVENT
DTSTART;TZID=Asia/Krasnoyarsk:20250424T090000
DTEND;TZID=Asia/Krasnoyarsk:20250424T110000
DTSTAMP:20260425T223050
CREATED:20250505T034304Z
LAST-MODIFIED:20250505T034304Z
UID:24096-1745485200-1745492400@ngemplak.slemankab.go.id
SUMMARY:Pembinaan Pengawasan Pemanfaatan Tanah Kalurahan
DESCRIPTION:
URL:https://ngemplak.slemankab.go.id/event/pembinaan-pengawasan-pemanfaatan-tanah-kalurahan/
LOCATION:Pendopo Kapanewon Ngemplak
CATEGORIES:agenda_kegiatan
END:VEVENT
BEGIN:VEVENT
DTSTART;TZID=Asia/Krasnoyarsk:20250424T090000
DTEND;TZID=Asia/Krasnoyarsk:20250424T110000
DTSTAMP:20260425T223050
CREATED:20250505T034351Z
LAST-MODIFIED:20250505T034351Z
UID:24098-1745485200-1745492400@ngemplak.slemankab.go.id
SUMMARY:Koor Penyusunan Renstra Tahun 2025-2029 Kapanewon
DESCRIPTION:
URL:https://ngemplak.slemankab.go.id/event/koor-penyusunan-renstra-tahun-2025-2029-kapanewon/
LOCATION:RR Kinanti Bappeda
CATEGORIES:agenda_kegiatan
END:VEVENT
BEGIN:VEVENT
DTSTART;TZID=Asia/Krasnoyarsk:20250424T090000
DTEND;TZID=Asia/Krasnoyarsk:20250424T110000
DTSTAMP:20260425T223050
CREATED:20250505T034458Z
LAST-MODIFIED:20250505T034458Z
UID:24101-1745485200-1745492400@ngemplak.slemankab.go.id
SUMMARY:Rakor Membahan Data Pelaku Usaha Minuman Beralkohol Tidak Berizin di Kabupaten Sleman
DESCRIPTION:
URL:https://ngemplak.slemankab.go.id/event/rakor-membahan-data-pelaku-usaha-minuman-beralkohol-tidak-berizin-di-kabupaten-sleman/
LOCATION:RR Paramadhana Disperindag
CATEGORIES:agenda_kegiatan
END:VEVENT
BEGIN:VEVENT
DTSTART;TZID=Asia/Krasnoyarsk:20250424T090000
DTEND;TZID=Asia/Krasnoyarsk:20250424T110000
DTSTAMP:20260425T223050
CREATED:20250505T034548Z
LAST-MODIFIED:20250505T034548Z
UID:24104-1745485200-1745492400@ngemplak.slemankab.go.id
SUMMARY:Sosialisasi Kapanewon - Pembinaan dan Lomba SPAM Perdesaan Tahun 2025
DESCRIPTION:
URL:https://ngemplak.slemankab.go.id/event/sosialisasi-kapanewon-pembinaan-dan-lomba-spam-perdesaan-tahun-2025/
LOCATION:RR Aula Sasana Bakti\, Dinas PUPKP Sleman
CATEGORIES:agenda_kegiatan
END:VEVENT
BEGIN:VEVENT
DTSTART;TZID=Asia/Krasnoyarsk:20250425T073000
DTEND;TZID=Asia/Krasnoyarsk:20250425T080000
DTSTAMP:20260425T223050
CREATED:20250505T034850Z
LAST-MODIFIED:20250505T034850Z
UID:24107-1745566200-1745568000@ngemplak.slemankab.go.id
SUMMARY:Upacara Peringatan Hari Kartini dan Otonomi Daerah (Pakaian KORPRI)
DESCRIPTION:
URL:https://ngemplak.slemankab.go.id/event/upacara-peringatan-hari-kartini-dan-otonomi-daerah-pakaian-korpri/
LOCATION:Halaman Kap Ngemplak
CATEGORIES:agenda_kegiatan
END:VEVENT
BEGIN:VEVENT
DTSTART;TZID=Asia/Krasnoyarsk:20250425T080000
DTEND;TZID=Asia/Krasnoyarsk:20250425T110000
DTSTAMP:20260425T223050
CREATED:20250505T035029Z
LAST-MODIFIED:20250505T035029Z
UID:24109-1745568000-1745578800@ngemplak.slemankab.go.id
SUMMARY:Pertemuan Rutin dan Syawalan Forum Komunikasi Arsiparis (FKA) Kab Sleman
DESCRIPTION:
URL:https://ngemplak.slemankab.go.id/event/pertemuan-rutin-dan-syawalan-forum-komunikasi-arsiparis-fka-kab-sleman/
LOCATION:Bebek Pondok Galih\, Ngaglik Sleman
CATEGORIES:agenda_kegiatan
END:VEVENT
BEGIN:VEVENT
DTSTART;TZID=Asia/Krasnoyarsk:20250425T090000
DTEND;TZID=Asia/Krasnoyarsk:20250425T110000
DTSTAMP:20260425T223050
CREATED:20250505T035206Z
LAST-MODIFIED:20250505T035206Z
UID:24112-1745571600-1745578800@ngemplak.slemankab.go.id
SUMMARY:Rapat Penanganan Permasalahan Pertanahan Tanah Kasultanan / Tanah Kalurahan
DESCRIPTION:
URL:https://ngemplak.slemankab.go.id/event/rapat-penanganan-permasalahan-pertanahan-tanah-kasultanan-tanah-kalurahan/
LOCATION:RR Mertibumi Dispertaru Sleman
CATEGORIES:agenda_kegiatan
END:VEVENT
BEGIN:VEVENT
DTSTART;TZID=Asia/Krasnoyarsk:20250425T133000
DTEND;TZID=Asia/Krasnoyarsk:20250425T150000
DTSTAMP:20260425T223050
CREATED:20250505T035524Z
LAST-MODIFIED:20250505T035524Z
UID:24114-1745587800-1745593200@ngemplak.slemankab.go.id
SUMMARY:Syawalan dan Pertemuan Kepala Jawatan Praja Kapanewon se Kab Sleman
DESCRIPTION:
URL:https://ngemplak.slemankab.go.id/event/syawalan-dan-pertemuan-kepala-jawatan-praja-kapanewon-se-kab-sleman/
LOCATION:RM Sendang Ayu\, Tirtomartani Kalasan
CATEGORIES:agenda_kegiatan
END:VEVENT
BEGIN:VEVENT
DTSTART;TZID=Asia/Krasnoyarsk:20250426T190000
DTEND;TZID=Asia/Krasnoyarsk:20250426T220000
DTSTAMP:20260425T223050
CREATED:20250505T040159Z
LAST-MODIFIED:20250505T040159Z
UID:24117-1745694000-1745704800@ngemplak.slemankab.go.id
SUMMARY:Tasyakuran Atas Terpilihnya Bupati Sleman dan Wakil Bupati Sleman dan Ruwatan Agung
DESCRIPTION:
URL:https://ngemplak.slemankab.go.id/event/tasyakuran-atas-terpilihnya-bupati-sleman-dan-wakil-bupati-sleman-dan-ruwatan-agung/
LOCATION:Rumah Bapak Romly Tambakan Sindumartani
CATEGORIES:agenda_kegiatan
END:VEVENT
BEGIN:VEVENT
DTSTART;TZID=Asia/Krasnoyarsk:20250427T083000
DTEND;TZID=Asia/Krasnoyarsk:20250427T100000
DTSTAMP:20260425T223050
CREATED:20250505T040338Z
LAST-MODIFIED:20250505T040338Z
UID:24120-1745742600-1745748000@ngemplak.slemankab.go.id
SUMMARY:Syawalan Pentasarufan danMangayubagya Haji
DESCRIPTION:
URL:https://ngemplak.slemankab.go.id/event/syawalan-pentasarufan-danmangayubagya-haji/
LOCATION:Balai Kalurahan Sindumartani
CATEGORIES:agenda_kegiatan
END:VEVENT
BEGIN:VEVENT
DTSTART;TZID=Asia/Krasnoyarsk:20250428T083000
DTEND;TZID=Asia/Krasnoyarsk:20250428T110000
DTSTAMP:20260425T223050
CREATED:20250505T040429Z
LAST-MODIFIED:20250505T040429Z
UID:24122-1745829000-1745838000@ngemplak.slemankab.go.id
SUMMARY:Evaluasi Rencana Umum Penanaman Modal Kab Sleman Tahun 2024
DESCRIPTION:
URL:https://ngemplak.slemankab.go.id/event/evaluasi-rencana-umum-penanaman-modal-kab-sleman-tahun-2024/
LOCATION:RR Sinom Lt.4 Gedung MPP Kab Sleman
CATEGORIES:agenda_kegiatan
END:VEVENT
BEGIN:VEVENT
DTSTART;TZID=Asia/Krasnoyarsk:20250428T083000
DTEND;TZID=Asia/Krasnoyarsk:20250428T110000
DTSTAMP:20260425T223050
CREATED:20250505T040526Z
LAST-MODIFIED:20250505T040526Z
UID:24125-1745829000-1745838000@ngemplak.slemankab.go.id
SUMMARY:Rakordal Triwulan I Tahun 2025\, Evaluasi Pelaksanaan Kegiatan Triwulan I Tahun 2025 s.d Bulan Maret 2025
DESCRIPTION:
URL:https://ngemplak.slemankab.go.id/event/rakordal-triwulan-i-tahun-2025-evaluasi-pelaksanaan-kegiatan-triwulan-i-tahun-2025-s-d-bulan-maret-2025/
LOCATION:Aula Lt.3 Setda Sleman
CATEGORIES:agenda_kegiatan
END:VEVENT
BEGIN:VEVENT
DTSTART;TZID=Asia/Krasnoyarsk:20250428T090000
DTEND;TZID=Asia/Krasnoyarsk:20250428T110000
DTSTAMP:20260425T223050
CREATED:20250505T040557Z
LAST-MODIFIED:20250514T062931Z
UID:24127-1745830800-1745838000@ngemplak.slemankab.go.id
SUMMARY:Forum Lintas Perangkat Daerah Penyusunan Renstra Tahun 2025-2029
DESCRIPTION:
URL:https://ngemplak.slemankab.go.id/event/forum-lintas-perangkat-daerah-penyusunan-renstra-tahun-2025-2029/
LOCATION:Aula Pangripta Bappeda Sleman
CATEGORIES:agenda_kegiatan
END:VEVENT
BEGIN:VEVENT
DTSTART;TZID=Asia/Krasnoyarsk:20250428T130000
DTEND;TZID=Asia/Krasnoyarsk:20250428T150000
DTSTAMP:20260425T223050
CREATED:20250505T040648Z
LAST-MODIFIED:20250505T040648Z
UID:24129-1745845200-1745852400@ngemplak.slemankab.go.id
SUMMARY:Pelantikan Asosiasi Instruktur Senam B.A.L.Y (BAKU\, AEROBIC\, LINE DANCE\, YOGA)
DESCRIPTION:
URL:https://ngemplak.slemankab.go.id/event/pelantikan-asosiasi-instruktur-senam-b-a-l-y-baku-aerobic-line-dance-yoga/
LOCATION:Rumah Dinas Bupati Sleman
CATEGORIES:agenda_kegiatan
END:VEVENT
BEGIN:VEVENT
DTSTART;TZID=Asia/Krasnoyarsk:20250429T083000
DTEND;TZID=Asia/Krasnoyarsk:20250429T100000
DTSTAMP:20260425T223050
CREATED:20250505T040813Z
LAST-MODIFIED:20250505T040813Z
UID:24131-1745915400-1745920800@ngemplak.slemankab.go.id
SUMMARY:Rapat Koordinasi Dan Evaluasi Penerapaan Keistimewaan
DESCRIPTION:
URL:https://ngemplak.slemankab.go.id/event/rapat-koordinasi-dan-evaluasi-penerapaan-keistimewaan/
LOCATION:Rumah Dinas Panewu Ngemplak
CATEGORIES:agenda_kegiatan
END:VEVENT
BEGIN:VEVENT
DTSTART;TZID=Asia/Krasnoyarsk:20250429T083000
DTEND;TZID=Asia/Krasnoyarsk:20250429T110000
DTSTAMP:20260425T223050
CREATED:20250505T040859Z
LAST-MODIFIED:20250505T040859Z
UID:24133-1745915400-1745924400@ngemplak.slemankab.go.id
SUMMARY:Review dan Evaluasi Perencanaan dan Penganggaran Yang Responsif Gender
DESCRIPTION:
URL:https://ngemplak.slemankab.go.id/event/review-dan-evaluasi-perencanaan-dan-penganggaran-yang-responsif-gender/
LOCATION:Aula Panghripta Bappeda
CATEGORIES:agenda_kegiatan
END:VEVENT
BEGIN:VEVENT
DTSTART;TZID=Asia/Krasnoyarsk:20250429T083000
DTEND;TZID=Asia/Krasnoyarsk:20250429T110000
DTSTAMP:20260425T223050
CREATED:20250514T072624Z
LAST-MODIFIED:20250514T072624Z
UID:24168-1745915400-1745924400@ngemplak.slemankab.go.id
SUMMARY:Rapat Koordinasi Dan Evaluasi Penerapaan Keistimewaan
DESCRIPTION:
URL:https://ngemplak.slemankab.go.id/event/rapat-koordinasi-dan-evaluasi-penerapaan-keistimewaan-2/
LOCATION:Rumah Dinas Panewu Ngemplak
CATEGORIES:agenda_kegiatan
END:VEVENT
BEGIN:VEVENT
DTSTART;TZID=Asia/Krasnoyarsk:20250429T083000
DTEND;TZID=Asia/Krasnoyarsk:20250429T110000
DTSTAMP:20260425T223050
CREATED:20250514T072806Z
LAST-MODIFIED:20250514T072806Z
UID:24170-1745915400-1745924400@ngemplak.slemankab.go.id
SUMMARY:Review dan Evaluasi Perencanaan dan Penganggaran Yang Responsif Gender
DESCRIPTION:
URL:https://ngemplak.slemankab.go.id/event/review-dan-evaluasi-perencanaan-dan-penganggaran-yang-responsif-gender-2/
LOCATION:Aula Panghripta Bappeda
CATEGORIES:agenda_kegiatan
END:VEVENT
BEGIN:VEVENT
DTSTART;TZID=Asia/Krasnoyarsk:20250429T090000
DTEND;TZID=Asia/Krasnoyarsk:20250429T110000
DTSTAMP:20260425T223050
CREATED:20250505T041048Z
LAST-MODIFIED:20250505T041048Z
UID:24139-1745917200-1745924400@ngemplak.slemankab.go.id
SUMMARY:FORKOMPIM
DESCRIPTION:
URL:https://ngemplak.slemankab.go.id/event/forkompim-2/
LOCATION:Pendopo Kapanewon Ngemplak
CATEGORIES:agenda_kegiatan
END:VEVENT
BEGIN:VEVENT
DTSTART;TZID=Asia/Krasnoyarsk:20250429T090000
DTEND;TZID=Asia/Krasnoyarsk:20250429T110000
DTSTAMP:20260425T223050
CREATED:20250505T041139Z
LAST-MODIFIED:20250505T041139Z
UID:24141-1745917200-1745924400@ngemplak.slemankab.go.id
SUMMARY:Rakor Pelengkapan dan Periodisasi Baru Input Anjab
DESCRIPTION:
URL:https://ngemplak.slemankab.go.id/event/rakor-pelengkapan-dan-periodisasi-baru-input-anjab/
LOCATION:RR Lt.3 Setda Sleman
CATEGORIES:agenda_kegiatan
END:VEVENT
BEGIN:VEVENT
DTSTART;TZID=Asia/Krasnoyarsk:20250429T090000
DTEND;TZID=Asia/Krasnoyarsk:20250429T110000
DTSTAMP:20260425T223050
CREATED:20250505T041408Z
LAST-MODIFIED:20250505T041408Z
UID:24143-1745917200-1745924400@ngemplak.slemankab.go.id
SUMMARY:FGD Akhir Kegiatan Penilaian Perwujudan Rencana Detail Tata Ruang Kawasan Sleman Timur Tahun 2025
DESCRIPTION:
URL:https://ngemplak.slemankab.go.id/event/fgd-akhir-kegiatan-penilaian-perwujudan-rencana-detail-tata-ruang-kawasan-sleman-timur-tahun-2025/
LOCATION:RR Mertibumi Dispertaru Sleman
CATEGORIES:agenda_kegiatan
END:VEVENT
BEGIN:VEVENT
DTSTART;TZID=Asia/Krasnoyarsk:20250429T090000
DTEND;TZID=Asia/Krasnoyarsk:20250429T110000
DTSTAMP:20260425T223050
CREATED:20250505T041457Z
LAST-MODIFIED:20250505T041457Z
UID:24145-1745917200-1745924400@ngemplak.slemankab.go.id
SUMMARY:MUSKAL dalam rangka Pemutakhiran Data Kemiskinan
DESCRIPTION:
URL:https://ngemplak.slemankab.go.id/event/muskal-dalam-rangka-pemutakhiran-data-kemiskinan/
LOCATION:Aula Kal Widodomartani
CATEGORIES:agenda_kegiatan
END:VEVENT
BEGIN:VEVENT
DTSTART;TZID=Asia/Krasnoyarsk:20250429T090000
DTEND;TZID=Asia/Krasnoyarsk:20250429T110000
DTSTAMP:20260425T223050
CREATED:20250505T041633Z
LAST-MODIFIED:20250505T041633Z
UID:24147-1745917200-1745924400@ngemplak.slemankab.go.id
SUMMARY:MUSKALTentang Data Kemiskinan
DESCRIPTION:
URL:https://ngemplak.slemankab.go.id/event/muskaltentang-data-kemiskinan/
LOCATION:Pendopo Kal Wedomartani
CATEGORIES:agenda_kegiatan
END:VEVENT
BEGIN:VEVENT
DTSTART;TZID=Asia/Krasnoyarsk:20250429T090000
DTEND;TZID=Asia/Krasnoyarsk:20250429T120000
DTSTAMP:20260425T223050
CREATED:20250505T041002Z
LAST-MODIFIED:20250505T041002Z
UID:24136-1745917200-1745928000@ngemplak.slemankab.go.id
SUMMARY:Penerimaan Tamu dalam rangka Monev Kearsipan Internal
DESCRIPTION:
URL:https://ngemplak.slemankab.go.id/event/penerimaan-tamu-dalam-rangka-monev-kearsipan-internal/
LOCATION:R Srikandi Ngemplak
CATEGORIES:agenda_kegiatan
END:VEVENT
BEGIN:VEVENT
DTSTART;TZID=Asia/Krasnoyarsk:20250430T083000
DTEND;TZID=Asia/Krasnoyarsk:20250430T110000
DTSTAMP:20260425T223050
CREATED:20250514T073159Z
LAST-MODIFIED:20250514T073159Z
UID:24176-1746001800-1746010800@ngemplak.slemankab.go.id
SUMMARY:Bakti Sosial Peringatan Hari Jadi ke 109 Kabupaten Sleman
DESCRIPTION:
URL:https://ngemplak.slemankab.go.id/event/bakti-sosial-peringatan-hari-jadi-ke-109-kabupaten-sleman/
LOCATION:Pendopo Parasamya Kab Sleman
CATEGORIES:agenda_kegiatan
END:VEVENT
BEGIN:VEVENT
DTSTART;TZID=Asia/Krasnoyarsk:20250430T090000
DTEND;TZID=Asia/Krasnoyarsk:20250430T110000
DTSTAMP:20260425T223050
CREATED:20250514T073254Z
LAST-MODIFIED:20250514T073254Z
UID:24178-1746003600-1746010800@ngemplak.slemankab.go.id
SUMMARY:Sosialisasi Kegiatan BKK Desa Mandiri Pangan (Lumbung Mataraman) Tahun 2025 dari Dinas Pertanian dan Ketapang DIY
DESCRIPTION:
URL:https://ngemplak.slemankab.go.id/event/sosialisasi-kegiatan-bkk-desa-mandiri-pangan-lumbung-mataraman-tahun-2025-dari-dinas-pertanian-dan-ketapang-diy/
LOCATION:Aula Kalurahan Widodomartani
CATEGORIES:agenda_kegiatan
END:VEVENT
BEGIN:VEVENT
DTSTART;TZID=Asia/Krasnoyarsk:20250430T093000
DTEND;TZID=Asia/Krasnoyarsk:20250430T110000
DTSTAMP:20260425T223050
CREATED:20250514T073359Z
LAST-MODIFIED:20250514T073359Z
UID:24180-1746005400-1746010800@ngemplak.slemankab.go.id
SUMMARY:Pelepasan Dalam Rangka Purna Tugas Kamituwa Umbulmartani
DESCRIPTION:
URL:https://ngemplak.slemankab.go.id/event/pelepasan-dalam-rangka-purna-tugas-kamituwa-umbulmartani/
LOCATION:Aula Kalurahan Umulmartani
CATEGORIES:agenda_kegiatan
END:VEVENT
BEGIN:VEVENT
DTSTART;TZID=Asia/Krasnoyarsk:20250430T100000
DTEND;TZID=Asia/Krasnoyarsk:20250430T120000
DTSTAMP:20260425T223050
CREATED:20250514T074006Z
LAST-MODIFIED:20250514T074006Z
UID:24183-1746007200-1746014400@ngemplak.slemankab.go.id
SUMMARY:Penyerahan Bantuan Hibah Bus Sekolah
DESCRIPTION:
URL:https://ngemplak.slemankab.go.id/event/penyerahan-bantuan-hibah-bus-sekolah/
LOCATION:Aula Grha Garuda TK SD Model
CATEGORIES:agenda_kegiatan
END:VEVENT
END:VCALENDAR