BEGIN:VCALENDAR
VERSION:2.0
PRODID:-//WEBSITE RESMI KAPANEWON NGEMPLAK - ECPv6.15.8//NONSGML v1.0//EN
CALSCALE:GREGORIAN
METHOD:PUBLISH
X-WR-CALNAME:WEBSITE RESMI KAPANEWON NGEMPLAK
X-ORIGINAL-URL:https://ngemplak.slemankab.go.id
X-WR-CALDESC:Events for WEBSITE RESMI KAPANEWON NGEMPLAK
REFRESH-INTERVAL;VALUE=DURATION:PT1H
X-Robots-Tag:noindex
X-PUBLISHED-TTL:PT1H
BEGIN:VTIMEZONE
TZID:Asia/Krasnoyarsk
BEGIN:STANDARD
TZOFFSETFROM:+0700
TZOFFSETTO:+0700
TZNAME:+07
DTSTART:20240101T000000
END:STANDARD
END:VTIMEZONE
BEGIN:VEVENT
DTSTART;TZID=Asia/Krasnoyarsk:20250410T180000
DTEND;TZID=Asia/Krasnoyarsk:20250410T193000
DTSTAMP:20260426T041609
CREATED:20250505T030349Z
LAST-MODIFIED:20250505T030349Z
UID:24034-1744308000-1744313400@ngemplak.slemankab.go.id
SUMMARY:Patroli Pengamanan Kegiatan Misa Perayaan Paskah 2025
DESCRIPTION:
URL:https://ngemplak.slemankab.go.id/event/patroli-pengamanan-kegiatan-misa-perayaan-paskah-2025/
LOCATION:Gereja Petrus dan Paulus Babadan
CATEGORIES:agenda_kegiatan
END:VEVENT
BEGIN:VEVENT
DTSTART;TZID=Asia/Krasnoyarsk:20250410T100000
DTEND;TZID=Asia/Krasnoyarsk:20250410T120000
DTSTAMP:20260426T041609
CREATED:20250505T022616Z
LAST-MODIFIED:20250505T022616Z
UID:23979-1744279200-1744286400@ngemplak.slemankab.go.id
SUMMARY:Silaturahmi dan Syawalan
DESCRIPTION:
URL:https://ngemplak.slemankab.go.id/event/silaturahmi-dan-syawalan/
LOCATION:Kantor UPTD PSDA Wilayah Tengah Jl Turi-Tempel Km.1\, Gununganyar\, Donokerto\, Turi
CATEGORIES:agenda_kegiatan
END:VEVENT
BEGIN:VEVENT
DTSTART;TZID=Asia/Krasnoyarsk:20250410T090000
DTEND;TZID=Asia/Krasnoyarsk:20250410T110000
DTSTAMP:20260426T041609
CREATED:20250505T022513Z
LAST-MODIFIED:20250505T022513Z
UID:23977-1744275600-1744282800@ngemplak.slemankab.go.id
SUMMARY:Syawalan dan Halal Bihalal Kalurahan Sindumartani 1446 H
DESCRIPTION:
URL:https://ngemplak.slemankab.go.id/event/syawalan-dan-halal-bihalal-kalurahan-sindumartani-1446-h/
LOCATION:Aula Kal Sindumartani
CATEGORIES:agenda_kegiatan
END:VEVENT
BEGIN:VEVENT
DTSTART;TZID=Asia/Krasnoyarsk:20250410T090000
DTEND;TZID=Asia/Krasnoyarsk:20250410T110000
DTSTAMP:20260426T041609
CREATED:20250505T022313Z
LAST-MODIFIED:20250505T022313Z
UID:23975-1744275600-1744282800@ngemplak.slemankab.go.id
SUMMARY:Pelepasan Purna Tugas Bp. Sumadiyono Sebagai Dukuh Banglen
DESCRIPTION:
URL:https://ngemplak.slemankab.go.id/event/pelepasan-purna-tugas-bp-sumadiyono-sebagai-dukuh-banglen/
LOCATION:Balai Kal Widodomartani
CATEGORIES:agenda_kegiatan
END:VEVENT
BEGIN:VEVENT
DTSTART;TZID=Asia/Krasnoyarsk:20250409T130000
DTEND;TZID=Asia/Krasnoyarsk:20250409T150000
DTSTAMP:20260426T041609
CREATED:20250505T021828Z
LAST-MODIFIED:20250505T021828Z
UID:23973-1744203600-1744210800@ngemplak.slemankab.go.id
SUMMARY:Musyawarah Kalurahan Khusus BUMKal Umbul Sembada
DESCRIPTION:
URL:https://ngemplak.slemankab.go.id/event/musyawarah-kalurahan-khusus-bumkal-umbul-sembada/
LOCATION:Aula Kalurahan Umbulmartani
CATEGORIES:agenda_kegiatan
END:VEVENT
BEGIN:VEVENT
DTSTART;TZID=Asia/Krasnoyarsk:20250409T093000
DTEND;TZID=Asia/Krasnoyarsk:20250409T110000
DTSTAMP:20260426T041609
CREATED:20250505T021704Z
LAST-MODIFIED:20250505T021704Z
UID:23971-1744191000-1744196400@ngemplak.slemankab.go.id
SUMMARY:Open House dan Halal Bihalal bersama Pemerintah Kalurahan Wedomartani
DESCRIPTION:
URL:https://ngemplak.slemankab.go.id/event/open-house-dan-halal-bihalal-bersama-pemerintah-kalurahan-wedomartani/
LOCATION:Pendopo Kantor Kalurahan Wedomartani
CATEGORIES:agenda_kegiatan
END:VEVENT
BEGIN:VEVENT
DTSTART;TZID=Asia/Krasnoyarsk:20250409T093000
DTEND;TZID=Asia/Krasnoyarsk:20250409T110000
DTSTAMP:20260426T041609
CREATED:20250505T021537Z
LAST-MODIFIED:20250505T021537Z
UID:23969-1744191000-1744196400@ngemplak.slemankab.go.id
SUMMARY:Syawalan dan Halal Bihalal Kalurahan Bimomartani
DESCRIPTION:
URL:https://ngemplak.slemankab.go.id/event/syawalan-dan-halal-bihalal-kalurahan-bimomartani/
LOCATION:Balai Kal Bimomartani
CATEGORIES:agenda_kegiatan
END:VEVENT
BEGIN:VEVENT
DTSTART;TZID=Asia/Krasnoyarsk:20250409T090000
DTEND;TZID=Asia/Krasnoyarsk:20250409T110000
DTSTAMP:20260426T041609
CREATED:20250505T020955Z
LAST-MODIFIED:20250505T020955Z
UID:23963-1744189200-1744196400@ngemplak.slemankab.go.id
SUMMARY:Pembinaan Rois Dan Syawalan
DESCRIPTION:
URL:https://ngemplak.slemankab.go.id/event/pembinaan-rois-dan-syawalan/
LOCATION:Bapak Sudarsono\, Sempu Wedomartani
CATEGORIES:agenda_kegiatan
END:VEVENT
BEGIN:VEVENT
DTSTART;TZID=Asia/Krasnoyarsk:20250409T090000
DTEND;TZID=Asia/Krasnoyarsk:20250409T103000
DTSTAMP:20260426T041609
CREATED:20250505T021201Z
LAST-MODIFIED:20250505T021201Z
UID:23966-1744189200-1744194600@ngemplak.slemankab.go.id
SUMMARY:Syawalan dan Halal Bihalal Kalurahan Widodomartani
DESCRIPTION:
URL:https://ngemplak.slemankab.go.id/event/syawalan-dan-halal-bihalal-kalurahan-widodomartani/
LOCATION:Balai Kal Widodomartani
CATEGORIES:agenda_kegiatan
END:VEVENT
BEGIN:VEVENT
DTSTART;TZID=Asia/Krasnoyarsk:20250408T080000
DTEND;TZID=Asia/Krasnoyarsk:20250408T120000
DTSTAMP:20260426T041609
CREATED:20250505T020813Z
LAST-MODIFIED:20250505T020813Z
UID:23961-1744099200-1744113600@ngemplak.slemankab.go.id
SUMMARY:Syawalan dan Halal Bihalal 1446 H Kapanewon Ngemplak
DESCRIPTION:
URL:https://ngemplak.slemankab.go.id/event/syawalan-dan-halal-bihalal-1446-h-kapanewon-ngemplak/
LOCATION:Pendopo Kap Ngemplak dan Halaman Kapanewon Ngemplak
CATEGORIES:agenda_kegiatan
END:VEVENT
BEGIN:VEVENT
DTSTART;TZID=Asia/Krasnoyarsk:20250405T083000
DTEND;TZID=Asia/Krasnoyarsk:20250405T110000
DTSTAMP:20260426T041609
CREATED:20250505T024734Z
LAST-MODIFIED:20250514T064522Z
UID:24001-1743841800-1743850800@ngemplak.slemankab.go.id
SUMMARY:Sosialisasi Pelaksanaan BKK Lumbung Mataraman Tahun 2025
DESCRIPTION:
URL:https://ngemplak.slemankab.go.id/event/sosialisasi-pelaksanaan-bkk-lumbung-mataraman-tahun-2025/
LOCATION:R Wijaya Kusuma\, Dinas Pertanian dan Ketahanan Pangan DIY
CATEGORIES:agenda_kegiatan
END:VEVENT
BEGIN:VEVENT
DTSTART;TZID=Asia/Krasnoyarsk:20250327T153000
DTEND;TZID=Asia/Krasnoyarsk:20250327T170000
DTSTAMP:20260426T041609
CREATED:20250505T020346Z
LAST-MODIFIED:20250505T020346Z
UID:23959-1743089400-1743094800@ngemplak.slemankab.go.id
SUMMARY:Musyawarah BUMKal Kalurahan Wedomartani
DESCRIPTION:
URL:https://ngemplak.slemankab.go.id/event/musyawarah-bumkal-kalurahan-wedomartani/
LOCATION:Pendopo Kal Wedomartani
CATEGORIES:agenda_kegiatan
END:VEVENT
BEGIN:VEVENT
DTSTART;TZID=Asia/Krasnoyarsk:20250326T083000
DTEND;TZID=Asia/Krasnoyarsk:20250326T110000
DTSTAMP:20260426T041609
CREATED:20250505T020139Z
LAST-MODIFIED:20250505T020139Z
UID:23957-1742977800-1742986800@ngemplak.slemankab.go.id
SUMMARY:Musrenbang RKPD Kabupaten Sleman
DESCRIPTION:
URL:https://ngemplak.slemankab.go.id/event/musrenbang-rkpd-kabupaten-sleman/
LOCATION:Aula Pangripta Bappeda Sleman
CATEGORIES:agenda_kegiatan
END:VEVENT
BEGIN:VEVENT
DTSTART;TZID=Asia/Krasnoyarsk:20250325T183000
DTEND;TZID=Asia/Krasnoyarsk:20250325T220000
DTSTAMP:20260426T041609
CREATED:20250505T015453Z
LAST-MODIFIED:20250505T015453Z
UID:23955-1742927400-1742940000@ngemplak.slemankab.go.id
SUMMARY:Safari Tarawih Bupati Sleman
DESCRIPTION:
URL:https://ngemplak.slemankab.go.id/event/safari-tarawih-bupati-sleman/
CATEGORIES:agenda_kegiatan
END:VEVENT
BEGIN:VEVENT
DTSTART;TZID=Asia/Krasnoyarsk:20250325T153000
DTEND;TZID=Asia/Krasnoyarsk:20250325T170000
DTSTAMP:20260426T041609
CREATED:20250505T015355Z
LAST-MODIFIED:20250505T015355Z
UID:23953-1742916600-1742922000@ngemplak.slemankab.go.id
SUMMARY:Pelantikan Pengurus Forkom UMKM Kab Sleman
DESCRIPTION:
URL:https://ngemplak.slemankab.go.id/event/pelantikan-pengurus-forkom-umkm-kab-sleman/
LOCATION:Pendopo Rumah Dinas Bupati Sleman
CATEGORIES:agenda_kegiatan
END:VEVENT
BEGIN:VEVENT
DTSTART;TZID=Asia/Krasnoyarsk:20250325T083000
DTEND;TZID=Asia/Krasnoyarsk:20250325T110000
DTSTAMP:20260426T041609
CREATED:20250505T015146Z
LAST-MODIFIED:20250505T015146Z
UID:23948-1742891400-1742900400@ngemplak.slemankab.go.id
SUMMARY:Workshop Rembug Stunting
DESCRIPTION:
URL:https://ngemplak.slemankab.go.id/event/workshop-rembug-stunting/
LOCATION:Merapi Ballroom Prima SR Hotel
CATEGORIES:agenda_kegiatan
END:VEVENT
BEGIN:VEVENT
DTSTART;TZID=Asia/Krasnoyarsk:20250324T203000
DTEND;TZID=Asia/Krasnoyarsk:20250324T220000
DTSTAMP:20260426T041609
CREATED:20250505T013848Z
LAST-MODIFIED:20250505T013848Z
UID:23945-1742848200-1742853600@ngemplak.slemankab.go.id
SUMMARY:Koor Pelaksanaan Tarling Tingkat Kabupaten Sleman
DESCRIPTION:
URL:https://ngemplak.slemankab.go.id/event/koor-pelaksanaan-tarling-tingkat-kabupaten-sleman/
LOCATION:Bapak Suprapto\, BA Tegal Balong
CATEGORIES:agenda_kegiatan
END:VEVENT
BEGIN:VEVENT
DTSTART;TZID=Asia/Krasnoyarsk:20250324T090000
DTEND;TZID=Asia/Krasnoyarsk:20250324T110000
DTSTAMP:20260426T041609
CREATED:20250505T013544Z
LAST-MODIFIED:20250505T013544Z
UID:23943-1742806800-1742814000@ngemplak.slemankab.go.id
SUMMARY:Pembinaa Siklus Tahunan Kalurahan
DESCRIPTION:
URL:https://ngemplak.slemankab.go.id/event/pembinaa-siklus-tahunan-kalurahan/
LOCATION:Pendopo Kap Ngemplak
CATEGORIES:agenda_kegiatan
END:VEVENT
BEGIN:VEVENT
DTSTART;TZID=Asia/Krasnoyarsk:20250323T160000
DTEND;TZID=Asia/Krasnoyarsk:20250323T180000
DTSTAMP:20260426T041609
CREATED:20250505T012154Z
LAST-MODIFIED:20250505T012154Z
UID:23940-1742745600-1742752800@ngemplak.slemankab.go.id
SUMMARY:Bakti Sosial Dan Buka Bersama
DESCRIPTION:
URL:https://ngemplak.slemankab.go.id/event/bakti-sosial-dan-buka-bersama/
LOCATION:Rumah Mbah Padi Wiyono/Bpk Wahyudi\, Balong RT.03/17
CATEGORIES:agenda_kegiatan
END:VEVENT
BEGIN:VEVENT
DTSTART;TZID=Asia/Krasnoyarsk:20250323T083000
DTEND;TZID=Asia/Krasnoyarsk:20250323T110000
DTSTAMP:20260426T041609
CREATED:20250505T012009Z
LAST-MODIFIED:20250505T012009Z
UID:23938-1742718600-1742727600@ngemplak.slemankab.go.id
SUMMARY:Sarasehan Iman
DESCRIPTION:
URL:https://ngemplak.slemankab.go.id/event/sarasehan-iman/
LOCATION:Aula Gereja Santo Petrus dan Paulus Babadan
CATEGORIES:agenda_kegiatan
END:VEVENT
BEGIN:VEVENT
DTSTART;TZID=Asia/Krasnoyarsk:20250322T153000
DTEND;TZID=Asia/Krasnoyarsk:20250322T170000
DTSTAMP:20260426T041609
CREATED:20250505T011902Z
LAST-MODIFIED:20250505T011902Z
UID:23935-1742657400-1742662800@ngemplak.slemankab.go.id
SUMMARY:Pelantikan Direktur Baru RSU Mitra Paramedika Periode Th. 2025-2029
DESCRIPTION:
URL:https://ngemplak.slemankab.go.id/event/pelantikan-direktur-baru-rsu-mitra-paramedika-periode-th-2025-2029/
LOCATION:Aula Arjuna\, Gedung Blok B\, LT.2 RSU Mitra Paramedika
CATEGORIES:agenda_kegiatan
END:VEVENT
BEGIN:VEVENT
DTSTART;TZID=Asia/Krasnoyarsk:20250321T090000
DTEND;TZID=Asia/Krasnoyarsk:20250321T110000
DTSTAMP:20260426T041609
CREATED:20250505T010938Z
LAST-MODIFIED:20250505T010938Z
UID:23931-1742547600-1742554800@ngemplak.slemankab.go.id
SUMMARY:Rapat Kelompok Kerja Pengarusutamaan Gender (Pokja PUPG) Tahun 2025
DESCRIPTION:
URL:https://ngemplak.slemankab.go.id/event/rapat-kelompok-kerja-pengarusutamaan-gender-pokja-pupg-tahun-2025/
LOCATION:Aula Pangripta Bappeda Sleman
CATEGORIES:agenda_kegiatan
END:VEVENT
BEGIN:VEVENT
DTSTART;TZID=Asia/Krasnoyarsk:20250320T090000
DTEND;TZID=Asia/Krasnoyarsk:20250320T110000
DTSTAMP:20260426T041609
CREATED:20250505T011644Z
LAST-MODIFIED:20250505T011644Z
UID:23933-1742461200-1742468400@ngemplak.slemankab.go.id
SUMMARY:Rapat Koordinasi Admin Aduan
DESCRIPTION:
URL:https://ngemplak.slemankab.go.id/event/rapat-koordinasi-admin-aduan/
LOCATION:R Sembada Setda Sleman
CATEGORIES:agenda_kegiatan
END:VEVENT
BEGIN:VEVENT
DTSTART;TZID=Asia/Krasnoyarsk:20250319T090000
DTEND;TZID=Asia/Krasnoyarsk:20250319T110000
DTSTAMP:20260426T041609
CREATED:20250430T021656Z
LAST-MODIFIED:20250430T021656Z
UID:23926-1742374800-1742382000@ngemplak.slemankab.go.id
SUMMARY:Rapat Ekspose Hasil Kajian Investigasi dan Identifikasi Sumber Pencemar Sungai Tepus dan Kruwet
DESCRIPTION:
URL:https://ngemplak.slemankab.go.id/event/rapat-ekspose-hasil-kajian-investigasi-dan-identifikasi-sumber-pencemar-sungai-tepus-dan-kruwet/
LOCATION:R Sadewa Disnaker Lt.3 Sleman
CATEGORIES:agenda_kegiatan
END:VEVENT
BEGIN:VEVENT
DTSTART;TZID=Asia/Krasnoyarsk:20250319T083000
DTEND;TZID=Asia/Krasnoyarsk:20250319T100000
DTSTAMP:20260426T041609
CREATED:20250430T021535Z
LAST-MODIFIED:20250430T021535Z
UID:23924-1742373000-1742378400@ngemplak.slemankab.go.id
SUMMARY:Rakor Stunting Program GENTING
DESCRIPTION:
URL:https://ngemplak.slemankab.go.id/event/rakor-stunting-program-genting/
LOCATION:Puri Mataram Resto
CATEGORIES:agenda_kegiatan
END:VEVENT
BEGIN:VEVENT
DTSTART;TZID=Asia/Krasnoyarsk:20250318T193000
DTEND;TZID=Asia/Krasnoyarsk:20250318T220000
DTSTAMP:20260426T041609
CREATED:20250430T020914Z
LAST-MODIFIED:20250430T020914Z
UID:23922-1742326200-1742335200@ngemplak.slemankab.go.id
SUMMARY:Pengajian Dalam Rangka Peringatan Nuzulul Qur'an dengan Penceramah KH. Ahmad Muwafiq\, S.Ag (Gus Muwafiq)
DESCRIPTION:
URL:https://ngemplak.slemankab.go.id/event/pengajian-dalam-rangka-peringatan-nuzulul-quran-dengan-penceramah-kh-ahmad-muwafiq-s-ag-gus-muwafiq/
LOCATION:Serambi Masjid Agung Sleman
CATEGORIES:agenda_kegiatan
END:VEVENT
BEGIN:VEVENT
DTSTART;TZID=Asia/Krasnoyarsk:20250318T090000
DTEND;TZID=Asia/Krasnoyarsk:20250318T110000
DTSTAMP:20260426T041609
CREATED:20250430T020509Z
LAST-MODIFIED:20250430T020509Z
UID:23920-1742288400-1742295600@ngemplak.slemankab.go.id
SUMMARY:Rakor Persiapan Pengawasan Kearsipan Internal Tahun 2025
DESCRIPTION:
URL:https://ngemplak.slemankab.go.id/event/rakor-persiapan-pengawasan-kearsipan-internal-tahun-2025/
LOCATION:R Sembada Setda Sleman
CATEGORIES:agenda_kegiatan
END:VEVENT
BEGIN:VEVENT
DTSTART;TZID=Asia/Krasnoyarsk:20250317T183000
DTEND;TZID=Asia/Krasnoyarsk:20250317T213000
DTSTAMP:20260426T041609
CREATED:20250430T015535Z
LAST-MODIFIED:20250430T015535Z
UID:23917-1742236200-1742247000@ngemplak.slemankab.go.id
SUMMARY:Tarling Ramadhan 1446 H Kapanewon Ngemplak
DESCRIPTION:
URL:https://ngemplak.slemankab.go.id/event/tarling-ramadhan-1446-h-kapanewon-ngemplak-3/
LOCATION:Masjid Al-Hikmah\, Kalibulus Bimomartani
CATEGORIES:agenda_kegiatan
END:VEVENT
BEGIN:VEVENT
DTSTART;TZID=Asia/Krasnoyarsk:20250317T153000
DTEND;TZID=Asia/Krasnoyarsk:20250317T180000
DTSTAMP:20260426T041609
CREATED:20250430T015432Z
LAST-MODIFIED:20250430T015432Z
UID:23915-1742225400-1742234400@ngemplak.slemankab.go.id
SUMMARY:Rakorpim Bulan Maret
DESCRIPTION:
URL:https://ngemplak.slemankab.go.id/event/rakorpim-bulan-maret/
LOCATION:Pendopo Kap Ngemplak
CATEGORIES:agenda_kegiatan
END:VEVENT
BEGIN:VEVENT
DTSTART;TZID=Asia/Krasnoyarsk:20250317T123000
DTEND;TZID=Asia/Krasnoyarsk:20250317T143000
DTSTAMP:20260426T041609
CREATED:20250430T015120Z
LAST-MODIFIED:20250430T015120Z
UID:23913-1742214600-1742221800@ngemplak.slemankab.go.id
SUMMARY:Rapat Koordinasi Bidang Pelayanan Publik dan Tata Laksana
DESCRIPTION:
URL:https://ngemplak.slemankab.go.id/event/rapat-koordinasi-bidang-pelayanan-publik-dan-tata-laksana/
LOCATION:Aula Lt.3 Setda Sleman
CATEGORIES:agenda_kegiatan
END:VEVENT
END:VCALENDAR