BEGIN:VCALENDAR
VERSION:2.0
PRODID:-//WEBSITE RESMI KAPANEWON NGEMPLAK - ECPv6.15.8//NONSGML v1.0//EN
CALSCALE:GREGORIAN
METHOD:PUBLISH
X-ORIGINAL-URL:https://ngemplak.slemankab.go.id
X-WR-CALDESC:Events for WEBSITE RESMI KAPANEWON NGEMPLAK
REFRESH-INTERVAL;VALUE=DURATION:PT1H
X-Robots-Tag:noindex
X-PUBLISHED-TTL:PT1H
BEGIN:VTIMEZONE
TZID:Asia/Krasnoyarsk
BEGIN:STANDARD
TZOFFSETFROM:+0700
TZOFFSETTO:+0700
TZNAME:+07
DTSTART:20240101T000000
END:STANDARD
END:VTIMEZONE
BEGIN:VEVENT
DTSTART;TZID=Asia/Krasnoyarsk:20250525T073000
DTEND;TZID=Asia/Krasnoyarsk:20250525T100000
DTSTAMP:20260425T035551
CREATED:20250707T013341Z
LAST-MODIFIED:20250707T013341Z
UID:24410-1748158200-1748167200@ngemplak.slemankab.go.id
SUMMARY:Puncak Acara HUT SDN Ngemplak 1
DESCRIPTION:
URL:https://ngemplak.slemankab.go.id/event/puncak-acara-hut-sdn-ngemplak-1/
LOCATION:SDN Ngemplak 1
CATEGORIES:agenda_kegiatan
END:VEVENT
END:VCALENDAR