BEGIN:VCALENDAR
VERSION:2.0
PRODID:-//WEBSITE RESMI KAPANEWON NGEMPLAK - ECPv6.15.8//NONSGML v1.0//EN
CALSCALE:GREGORIAN
METHOD:PUBLISH
X-ORIGINAL-URL:https://ngemplak.slemankab.go.id
X-WR-CALDESC:Events for WEBSITE RESMI KAPANEWON NGEMPLAK
REFRESH-INTERVAL;VALUE=DURATION:PT1H
X-Robots-Tag:noindex
X-PUBLISHED-TTL:PT1H
BEGIN:VTIMEZONE
TZID:Asia/Krasnoyarsk
BEGIN:STANDARD
TZOFFSETFROM:+0700
TZOFFSETTO:+0700
TZNAME:+07
DTSTART:20240101T000000
END:STANDARD
END:VTIMEZONE
BEGIN:VEVENT
DTSTART;TZID=Asia/Krasnoyarsk:20250516T083000
DTEND;TZID=Asia/Krasnoyarsk:20250516T113000
DTSTAMP:20260425T035557
CREATED:20250704T072348Z
LAST-MODIFIED:20250704T072348Z
UID:24327-1747384200-1747395000@ngemplak.slemankab.go.id
SUMMARY:Pembinaan HIMPAUDI
DESCRIPTION:
URL:https://ngemplak.slemankab.go.id/event/pembinaan-himpaudi/
LOCATION:KB Alifa Pokoh
CATEGORIES:agenda_kegiatan
END:VEVENT
BEGIN:VEVENT
DTSTART;TZID=Asia/Krasnoyarsk:20250516T090000
DTEND;TZID=Asia/Krasnoyarsk:20250516T110000
DTSTAMP:20260425T035557
CREATED:20250704T072629Z
LAST-MODIFIED:20250704T072629Z
UID:24330-1747386000-1747393200@ngemplak.slemankab.go.id
SUMMARY:Sosialisasi Pengajuan Permohonan Ijin Penutupan Saluran Air di Depan Rocket Chiken Tajem yang berada di Jalan Raya Tajem Padukuhan Pokoh Wedomartani
DESCRIPTION:
URL:https://ngemplak.slemankab.go.id/event/sosialisasi-pengajuan-permohonan-ijin-penutupan-saluran-air-di-depan-rocket-chiken-tajem-yang-berada-di-jalan-raya-tajem-padukuhan-pokoh-wedomartani/
LOCATION:Rumah Bapak Dukuh Pokoh Wedomartani
CATEGORIES:agenda_kegiatan
END:VEVENT
END:VCALENDAR