BEGIN:VCALENDAR
VERSION:2.0
PRODID:-//WEBSITE RESMI KAPANEWON NGEMPLAK - ECPv6.15.8//NONSGML v1.0//EN
CALSCALE:GREGORIAN
METHOD:PUBLISH
X-ORIGINAL-URL:https://ngemplak.slemankab.go.id
X-WR-CALDESC:Events for WEBSITE RESMI KAPANEWON NGEMPLAK
REFRESH-INTERVAL;VALUE=DURATION:PT1H
X-Robots-Tag:noindex
X-PUBLISHED-TTL:PT1H
BEGIN:VTIMEZONE
TZID:Asia/Krasnoyarsk
BEGIN:STANDARD
TZOFFSETFROM:+0700
TZOFFSETTO:+0700
TZNAME:+07
DTSTART:20240101T000000
END:STANDARD
END:VTIMEZONE
BEGIN:VEVENT
DTSTART;TZID=Asia/Krasnoyarsk:20250515T130000
DTEND;TZID=Asia/Krasnoyarsk:20250515T150000
DTSTAMP:20260425T022945
CREATED:20250625T071436Z
LAST-MODIFIED:20250625T071436Z
UID:24313-1747314000-1747321200@ngemplak.slemankab.go.id
SUMMARY:Rakor Perubahan Pertama Danais Tahun 2025 Pada Kapanewon Kab Sleman
DESCRIPTION:
URL:https://ngemplak.slemankab.go.id/event/rakor-perubahan-pertama-danais-tahun-2025-pada-kapanewon-kab-sleman/
LOCATION:RR Gambuh BAPPEDA Sleman
CATEGORIES:agenda_kegiatan
END:VEVENT
BEGIN:VEVENT
DTSTART;TZID=Asia/Krasnoyarsk:20250515T130000
DTEND;TZID=Asia/Krasnoyarsk:20250515T150000
DTSTAMP:20260425T022945
CREATED:20250625T071540Z
LAST-MODIFIED:20250625T071540Z
UID:24315-1747314000-1747321200@ngemplak.slemankab.go.id
SUMMARY:Rakor Persiapan Penilaian Administrasi PKK KalurahanBimomartani Dalam Rangka Lomba Kalurahan Inovatif
DESCRIPTION:
URL:https://ngemplak.slemankab.go.id/event/rakor-persiapan-penilaian-administrasi-pkk-kalurahanbimomartani-dalam-rangka-lomba-kalurahan-inovatif/
LOCATION:Kalurahan Bimomartani
CATEGORIES:agenda_kegiatan
END:VEVENT
BEGIN:VEVENT
DTSTART;TZID=Asia/Krasnoyarsk:20250515T193000
DTEND;TZID=Asia/Krasnoyarsk:20250515T223000
DTSTAMP:20260425T022945
CREATED:20250625T071649Z
LAST-MODIFIED:20250625T071649Z
UID:24317-1747337400-1747348200@ngemplak.slemankab.go.id
SUMMARY:Mujahadah Ghofilin Bersama K.H. Misbaul Munir Krapyak
DESCRIPTION:
URL:https://ngemplak.slemankab.go.id/event/mujahadah-ghofilin-bersama-k-h-misbaul-munir-krapyak/
LOCATION:Ponpes Roudlotush Sholihin\, Klewonan
CATEGORIES:agenda_kegiatan
END:VEVENT
END:VCALENDAR