BEGIN:VCALENDAR
VERSION:2.0
PRODID:-//WEBSITE RESMI KAPANEWON NGEMPLAK - ECPv6.15.8//NONSGML v1.0//EN
CALSCALE:GREGORIAN
METHOD:PUBLISH
X-ORIGINAL-URL:https://ngemplak.slemankab.go.id
X-WR-CALDESC:Events for WEBSITE RESMI KAPANEWON NGEMPLAK
REFRESH-INTERVAL;VALUE=DURATION:PT1H
X-Robots-Tag:noindex
X-PUBLISHED-TTL:PT1H
BEGIN:VTIMEZONE
TZID:Asia/Krasnoyarsk
BEGIN:STANDARD
TZOFFSETFROM:+0700
TZOFFSETTO:+0700
TZNAME:+07
DTSTART:20240101T000000
END:STANDARD
END:VTIMEZONE
BEGIN:VEVENT
DTSTART;TZID=Asia/Krasnoyarsk:20250509T083000
DTEND;TZID=Asia/Krasnoyarsk:20250509T110000
DTSTAMP:20260425T023046
CREATED:20250625T043815Z
LAST-MODIFIED:20250625T043815Z
UID:24296-1746779400-1746788400@ngemplak.slemankab.go.id
SUMMARY:Penatausahaan SIPD-RI Tentang Belanja Gaji PPPK dan TPP
DESCRIPTION:
URL:https://ngemplak.slemankab.go.id/event/penatausahaan-sipd-ri-tentang-belanja-gaji-pppk-dan-tpp/
LOCATION:RR A BKAD Sleman
CATEGORIES:agenda_kegiatan
END:VEVENT
BEGIN:VEVENT
DTSTART;TZID=Asia/Krasnoyarsk:20250509T113000
DTEND;TZID=Asia/Krasnoyarsk:20250509T130000
DTSTAMP:20260425T023046
CREATED:20250625T043915Z
LAST-MODIFIED:20250625T043915Z
UID:24299-1746790200-1746795600@ngemplak.slemankab.go.id
SUMMARY:Sholat Jum'at Dan Doa Syukur Dalam Rangka HariJadi Ke-109 Kab Sleman
DESCRIPTION:
URL:https://ngemplak.slemankab.go.id/event/sholat-jumat-dan-doa-syukur-dalam-rangka-harijadi-ke-109-kab-sleman/
LOCATION:Masjid Agung Sleman
CATEGORIES:agenda_kegiatan
END:VEVENT
END:VCALENDAR