BEGIN:VCALENDAR
VERSION:2.0
PRODID:-//WEBSITE RESMI KAPANEWON NGEMPLAK - ECPv6.15.8//NONSGML v1.0//EN
CALSCALE:GREGORIAN
METHOD:PUBLISH
X-ORIGINAL-URL:https://ngemplak.slemankab.go.id
X-WR-CALDESC:Events for WEBSITE RESMI KAPANEWON NGEMPLAK
REFRESH-INTERVAL;VALUE=DURATION:PT1H
X-Robots-Tag:noindex
X-PUBLISHED-TTL:PT1H
BEGIN:VTIMEZONE
TZID:Asia/Krasnoyarsk
BEGIN:STANDARD
TZOFFSETFROM:+0700
TZOFFSETTO:+0700
TZNAME:+07
DTSTART:20240101T000000
END:STANDARD
END:VTIMEZONE
BEGIN:VEVENT
DTSTART;TZID=Asia/Krasnoyarsk:20250505T083000
DTEND;TZID=Asia/Krasnoyarsk:20250505T110000
DTSTAMP:20260425T035609
CREATED:20250625T040404Z
LAST-MODIFIED:20250625T040404Z
UID:24249-1746433800-1746442800@ngemplak.slemankab.go.id
SUMMARY:Musrenbang RPJMD Kabupaten Sleman Tahun 2025-2029
DESCRIPTION:
URL:https://ngemplak.slemankab.go.id/event/musrenbang-rpjmd-kabupaten-sleman-tahun-2025-2029/
LOCATION:Amartapura Hall A\, The Alana Hotel
CATEGORIES:agenda_kegiatan
END:VEVENT
BEGIN:VEVENT
DTSTART;TZID=Asia/Krasnoyarsk:20250505T090000
DTEND;TZID=Asia/Krasnoyarsk:20250505T110000
DTSTAMP:20260425T035609
CREATED:20250625T040548Z
LAST-MODIFIED:20250625T040548Z
UID:24251-1746435600-1746442800@ngemplak.slemankab.go.id
SUMMARY:Rakor Percepatan Pembentukan Koperasi Desa Merah Putih
DESCRIPTION:
URL:https://ngemplak.slemankab.go.id/event/rakor-percepatan-pembentukan-koperasi-desa-merah-putih/
LOCATION:Aula Pangripta Bappeda Sleman
CATEGORIES:agenda_kegiatan
END:VEVENT
BEGIN:VEVENT
DTSTART;TZID=Asia/Krasnoyarsk:20250505T090000
DTEND;TZID=Asia/Krasnoyarsk:20250505T110000
DTSTAMP:20260425T035609
CREATED:20250625T040646Z
LAST-MODIFIED:20250625T040646Z
UID:24253-1746435600-1746442800@ngemplak.slemankab.go.id
SUMMARY:Sosialisasi Pelaksanaan SPI Tahun 2025
DESCRIPTION:
URL:https://ngemplak.slemankab.go.id/event/sosialisasi-pelaksanaan-spi-tahun-2025/
LOCATION:Aula Lt.3 Setda Sleman
CATEGORIES:agenda_kegiatan
END:VEVENT
BEGIN:VEVENT
DTSTART;TZID=Asia/Krasnoyarsk:20250505T130000
DTEND;TZID=Asia/Krasnoyarsk:20250505T150000
DTSTAMP:20260425T035609
CREATED:20250625T040803Z
LAST-MODIFIED:20250625T040803Z
UID:24255-1746450000-1746457200@ngemplak.slemankab.go.id
SUMMARY:Rakor Persiapan Pelaksanaan Pengisian Pamong Kalurahan Wedomartani Jabatan Dukuh Pucanganom
DESCRIPTION:
URL:https://ngemplak.slemankab.go.id/event/rakor-persiapan-pelaksanaan-pengisian-pamong-kalurahan-wedomartani-jabatan-dukuh-pucanganom/
LOCATION:RR Kantor Kal Wedomartani
CATEGORIES:agenda_kegiatan
END:VEVENT
END:VCALENDAR