BEGIN:VCALENDAR
VERSION:2.0
PRODID:-//WEBSITE RESMI KAPANEWON NGEMPLAK - ECPv6.15.8//NONSGML v1.0//EN
CALSCALE:GREGORIAN
METHOD:PUBLISH
X-WR-CALNAME:WEBSITE RESMI KAPANEWON NGEMPLAK
X-ORIGINAL-URL:https://ngemplak.slemankab.go.id
X-WR-CALDESC:Events for WEBSITE RESMI KAPANEWON NGEMPLAK
REFRESH-INTERVAL;VALUE=DURATION:PT1H
X-Robots-Tag:noindex
X-PUBLISHED-TTL:PT1H
BEGIN:VTIMEZONE
TZID:Asia/Krasnoyarsk
BEGIN:STANDARD
TZOFFSETFROM:+0700
TZOFFSETTO:+0700
TZNAME:+07
DTSTART:20240101T000000
END:STANDARD
END:VTIMEZONE
BEGIN:VEVENT
DTSTART;TZID=Asia/Krasnoyarsk:20250420T080000
DTEND;TZID=Asia/Krasnoyarsk:20250420T110000
DTSTAMP:20260425T180253
CREATED:20250505T031604Z
LAST-MODIFIED:20250505T031604Z
UID:24047-1745136000-1745146800@ngemplak.slemankab.go.id
SUMMARY:Pembukaan Silaturahmi Akbar Ustadz-Ustadzah & Permohonan Meberikan Sambutan
DESCRIPTION:
URL:https://ngemplak.slemankab.go.id/event/pembukaan-silaturahmi-akbar-ustadz-ustadzah-permohonan-meberikan-sambutan/
LOCATION:Masjid Ar Rohim\, Nomporejo Wedomartani
CATEGORIES:agenda_kegiatan
END:VEVENT
END:VCALENDAR