BEGIN:VCALENDAR
VERSION:2.0
PRODID:-//WEBSITE RESMI KAPANEWON NGEMPLAK - ECPv6.15.8//NONSGML v1.0//EN
CALSCALE:GREGORIAN
METHOD:PUBLISH
X-WR-CALNAME:WEBSITE RESMI KAPANEWON NGEMPLAK
X-ORIGINAL-URL:https://ngemplak.slemankab.go.id
X-WR-CALDESC:Events for WEBSITE RESMI KAPANEWON NGEMPLAK
REFRESH-INTERVAL;VALUE=DURATION:PT1H
X-Robots-Tag:noindex
X-PUBLISHED-TTL:PT1H
BEGIN:VTIMEZONE
TZID:Asia/Krasnoyarsk
BEGIN:STANDARD
TZOFFSETFROM:+0700
TZOFFSETTO:+0700
TZNAME:+07
DTSTART:20240101T000000
END:STANDARD
END:VTIMEZONE
BEGIN:VEVENT
DTSTART;TZID=Asia/Krasnoyarsk:20250417T083000
DTEND;TZID=Asia/Krasnoyarsk:20250417T110000
DTSTAMP:20260425T180256
CREATED:20250505T025828Z
LAST-MODIFIED:20250505T025828Z
UID:24021-1744878600-1744887600@ngemplak.slemankab.go.id
SUMMARY:Minilokakarya dalam rangka Gerakan Ayah Teladan Indonesia (GATI)
DESCRIPTION:
URL:https://ngemplak.slemankab.go.id/event/minilokakarya-dalam-rangka-gerakan-ayah-teladan-indonesia-gati/
LOCATION:Pendopo Kap Ngemplak
CATEGORIES:agenda_kegiatan
END:VEVENT
BEGIN:VEVENT
DTSTART;TZID=Asia/Krasnoyarsk:20250417T090000
DTEND;TZID=Asia/Krasnoyarsk:20250417T113000
DTSTAMP:20260425T180256
CREATED:20250505T025918Z
LAST-MODIFIED:20250505T025918Z
UID:24023-1744880400-1744889400@ngemplak.slemankab.go.id
SUMMARY:Pembinaan FKUB Kapanewon Ngemplak
DESCRIPTION:
URL:https://ngemplak.slemankab.go.id/event/pembinaan-fkub-kapanewon-ngemplak/
LOCATION:Rumah Bapak H Awali Kejambon Lor Sindumartani
CATEGORIES:agenda_kegiatan
END:VEVENT
BEGIN:VEVENT
DTSTART;TZID=Asia/Krasnoyarsk:20250417T103000
DTEND;TZID=Asia/Krasnoyarsk:20250417T120000
DTSTAMP:20260425T180256
CREATED:20250505T030000Z
LAST-MODIFIED:20250505T030000Z
UID:24026-1744885800-1744891200@ngemplak.slemankab.go.id
SUMMARY:Pertemuan Evaluasi Kegiatan Posyandu Bersama Linsek
DESCRIPTION:
URL:https://ngemplak.slemankab.go.id/event/pertemuan-evaluasi-kegiatan-posyandu-bersama-linsek-2/
LOCATION:Waroeng Steak and Shake Experience Jakal
CATEGORIES:agenda_kegiatan
END:VEVENT
BEGIN:VEVENT
DTSTART;TZID=Asia/Krasnoyarsk:20250417T130000
DTEND;TZID=Asia/Krasnoyarsk:20250417T150000
DTSTAMP:20260425T180256
CREATED:20250505T030108Z
LAST-MODIFIED:20250505T030108Z
UID:24029-1744894800-1744902000@ngemplak.slemankab.go.id
SUMMARY:Rakor Reformasi Birokrasi Kalurahan
DESCRIPTION:
URL:https://ngemplak.slemankab.go.id/event/rakor-reformasi-birokrasi-kalurahan-2/
LOCATION:Pendopo Kap Ngemplak
CATEGORIES:agenda_kegiatan
END:VEVENT
BEGIN:VEVENT
DTSTART;TZID=Asia/Krasnoyarsk:20250417T140000
DTEND;TZID=Asia/Krasnoyarsk:20250417T160000
DTSTAMP:20260425T180256
CREATED:20250505T030220Z
LAST-MODIFIED:20250505T030220Z
UID:24031-1744898400-1744905600@ngemplak.slemankab.go.id
SUMMARY:Syawalan dan Halal Bihalal Bersama Linsek
DESCRIPTION:
URL:https://ngemplak.slemankab.go.id/event/syawalan-dan-halal-bihalal-bersama-linsek/
LOCATION:Ruang Tunggu Lt.1 Puskesmas Ngemplak II
CATEGORIES:agenda_kegiatan
END:VEVENT
END:VCALENDAR