BEGIN:VCALENDAR
VERSION:2.0
PRODID:-//WEBSITE RESMI KAPANEWON NGEMPLAK - ECPv6.15.8//NONSGML v1.0//EN
CALSCALE:GREGORIAN
METHOD:PUBLISH
X-WR-CALNAME:WEBSITE RESMI KAPANEWON NGEMPLAK
X-ORIGINAL-URL:https://ngemplak.slemankab.go.id
X-WR-CALDESC:Events for WEBSITE RESMI KAPANEWON NGEMPLAK
REFRESH-INTERVAL;VALUE=DURATION:PT1H
X-Robots-Tag:noindex
X-PUBLISHED-TTL:PT1H
BEGIN:VTIMEZONE
TZID:Asia/Krasnoyarsk
BEGIN:STANDARD
TZOFFSETFROM:+0700
TZOFFSETTO:+0700
TZNAME:+07
DTSTART:20240101T000000
END:STANDARD
END:VTIMEZONE
BEGIN:VEVENT
DTSTART;TZID=Asia/Krasnoyarsk:20250410T090000
DTEND;TZID=Asia/Krasnoyarsk:20250410T110000
DTSTAMP:20260425T180251
CREATED:20250505T022313Z
LAST-MODIFIED:20250505T022313Z
UID:23975-1744275600-1744282800@ngemplak.slemankab.go.id
SUMMARY:Pelepasan Purna Tugas Bp. Sumadiyono Sebagai Dukuh Banglen
DESCRIPTION:
URL:https://ngemplak.slemankab.go.id/event/pelepasan-purna-tugas-bp-sumadiyono-sebagai-dukuh-banglen/
LOCATION:Balai Kal Widodomartani
CATEGORIES:agenda_kegiatan
END:VEVENT
BEGIN:VEVENT
DTSTART;TZID=Asia/Krasnoyarsk:20250410T090000
DTEND;TZID=Asia/Krasnoyarsk:20250410T110000
DTSTAMP:20260425T180251
CREATED:20250505T022513Z
LAST-MODIFIED:20250505T022513Z
UID:23977-1744275600-1744282800@ngemplak.slemankab.go.id
SUMMARY:Syawalan dan Halal Bihalal Kalurahan Sindumartani 1446 H
DESCRIPTION:
URL:https://ngemplak.slemankab.go.id/event/syawalan-dan-halal-bihalal-kalurahan-sindumartani-1446-h/
LOCATION:Aula Kal Sindumartani
CATEGORIES:agenda_kegiatan
END:VEVENT
BEGIN:VEVENT
DTSTART;TZID=Asia/Krasnoyarsk:20250410T100000
DTEND;TZID=Asia/Krasnoyarsk:20250410T120000
DTSTAMP:20260425T180251
CREATED:20250505T022616Z
LAST-MODIFIED:20250505T022616Z
UID:23979-1744279200-1744286400@ngemplak.slemankab.go.id
SUMMARY:Silaturahmi dan Syawalan
DESCRIPTION:
URL:https://ngemplak.slemankab.go.id/event/silaturahmi-dan-syawalan/
LOCATION:Kantor UPTD PSDA Wilayah Tengah Jl Turi-Tempel Km.1\, Gununganyar\, Donokerto\, Turi
CATEGORIES:agenda_kegiatan
END:VEVENT
BEGIN:VEVENT
DTSTART;TZID=Asia/Krasnoyarsk:20250410T180000
DTEND;TZID=Asia/Krasnoyarsk:20250410T193000
DTSTAMP:20260425T180251
CREATED:20250505T030349Z
LAST-MODIFIED:20250505T030349Z
UID:24034-1744308000-1744313400@ngemplak.slemankab.go.id
SUMMARY:Patroli Pengamanan Kegiatan Misa Perayaan Paskah 2025
DESCRIPTION:
URL:https://ngemplak.slemankab.go.id/event/patroli-pengamanan-kegiatan-misa-perayaan-paskah-2025/
LOCATION:Gereja Petrus dan Paulus Babadan
CATEGORIES:agenda_kegiatan
END:VEVENT
END:VCALENDAR