BEGIN:VCALENDAR
VERSION:2.0
PRODID:-//WEBSITE RESMI KAPANEWON NGEMPLAK - ECPv6.15.8//NONSGML v1.0//EN
CALSCALE:GREGORIAN
METHOD:PUBLISH
X-WR-CALNAME:WEBSITE RESMI KAPANEWON NGEMPLAK
X-ORIGINAL-URL:https://ngemplak.slemankab.go.id
X-WR-CALDESC:Events for WEBSITE RESMI KAPANEWON NGEMPLAK
REFRESH-INTERVAL;VALUE=DURATION:PT1H
X-Robots-Tag:noindex
X-PUBLISHED-TTL:PT1H
BEGIN:VTIMEZONE
TZID:Asia/Krasnoyarsk
BEGIN:STANDARD
TZOFFSETFROM:+0700
TZOFFSETTO:+0700
TZNAME:+07
DTSTART:20240101T000000
END:STANDARD
END:VTIMEZONE
BEGIN:VEVENT
DTSTART;TZID=Asia/Krasnoyarsk:20250408T080000
DTEND;TZID=Asia/Krasnoyarsk:20250408T120000
DTSTAMP:20260425T180255
CREATED:20250505T020813Z
LAST-MODIFIED:20250505T020813Z
UID:23961-1744099200-1744113600@ngemplak.slemankab.go.id
SUMMARY:Syawalan dan Halal Bihalal 1446 H Kapanewon Ngemplak
DESCRIPTION:
URL:https://ngemplak.slemankab.go.id/event/syawalan-dan-halal-bihalal-1446-h-kapanewon-ngemplak/
LOCATION:Pendopo Kap Ngemplak dan Halaman Kapanewon Ngemplak
CATEGORIES:agenda_kegiatan
END:VEVENT
END:VCALENDAR