BEGIN:VCALENDAR
VERSION:2.0
PRODID:-//WEBSITE RESMI KAPANEWON NGEMPLAK - ECPv6.15.8//NONSGML v1.0//EN
CALSCALE:GREGORIAN
METHOD:PUBLISH
X-WR-CALNAME:WEBSITE RESMI KAPANEWON NGEMPLAK
X-ORIGINAL-URL:https://ngemplak.slemankab.go.id
X-WR-CALDESC:Events for WEBSITE RESMI KAPANEWON NGEMPLAK
REFRESH-INTERVAL;VALUE=DURATION:PT1H
X-Robots-Tag:noindex
X-PUBLISHED-TTL:PT1H
BEGIN:VTIMEZONE
TZID:Asia/Krasnoyarsk
BEGIN:STANDARD
TZOFFSETFROM:+0700
TZOFFSETTO:+0700
TZNAME:+07
DTSTART:20240101T000000
END:STANDARD
END:VTIMEZONE
BEGIN:VEVENT
DTSTART;TZID=Asia/Krasnoyarsk:20250405T083000
DTEND;TZID=Asia/Krasnoyarsk:20250405T110000
DTSTAMP:20260425T180253
CREATED:20250505T024734Z
LAST-MODIFIED:20250514T064522Z
UID:24001-1743841800-1743850800@ngemplak.slemankab.go.id
SUMMARY:Sosialisasi Pelaksanaan BKK Lumbung Mataraman Tahun 2025
DESCRIPTION:
URL:https://ngemplak.slemankab.go.id/event/sosialisasi-pelaksanaan-bkk-lumbung-mataraman-tahun-2025/
LOCATION:R Wijaya Kusuma\, Dinas Pertanian dan Ketahanan Pangan DIY
CATEGORIES:agenda_kegiatan
END:VEVENT
END:VCALENDAR