BEGIN:VCALENDAR
VERSION:2.0
PRODID:-//WEBSITE RESMI KAPANEWON NGEMPLAK - ECPv6.15.8//NONSGML v1.0//EN
CALSCALE:GREGORIAN
METHOD:PUBLISH
X-WR-CALNAME:WEBSITE RESMI KAPANEWON NGEMPLAK
X-ORIGINAL-URL:https://ngemplak.slemankab.go.id
X-WR-CALDESC:Events for WEBSITE RESMI KAPANEWON NGEMPLAK
REFRESH-INTERVAL;VALUE=DURATION:PT1H
X-Robots-Tag:noindex
X-PUBLISHED-TTL:PT1H
BEGIN:VTIMEZONE
TZID:Asia/Krasnoyarsk
BEGIN:STANDARD
TZOFFSETFROM:+0700
TZOFFSETTO:+0700
TZNAME:+07
DTSTART:20240101T000000
END:STANDARD
END:VTIMEZONE
BEGIN:VEVENT
DTSTART;TZID=Asia/Krasnoyarsk:20250322T153000
DTEND;TZID=Asia/Krasnoyarsk:20250322T170000
DTSTAMP:20260426T040536
CREATED:20250505T011902Z
LAST-MODIFIED:20250505T011902Z
UID:23935-1742657400-1742662800@ngemplak.slemankab.go.id
SUMMARY:Pelantikan Direktur Baru RSU Mitra Paramedika Periode Th. 2025-2029
DESCRIPTION:
URL:https://ngemplak.slemankab.go.id/event/pelantikan-direktur-baru-rsu-mitra-paramedika-periode-th-2025-2029/
LOCATION:Aula Arjuna\, Gedung Blok B\, LT.2 RSU Mitra Paramedika
CATEGORIES:agenda_kegiatan
END:VEVENT
END:VCALENDAR